BEGIN:VCALENDAR
VERSION:2.0
PRODID:-// - ECPv6.15.18//NONSGML v1.0//EN
CALSCALE:GREGORIAN
METHOD:PUBLISH
X-ORIGINAL-URL:https://gardstensbostader.se
X-WR-CALDESC:Händelser för 
REFRESH-INTERVAL;VALUE=DURATION:PT1H
X-Robots-Tag:noindex
X-PUBLISHED-TTL:PT1H
BEGIN:VTIMEZONE
TZID:Europe/Stockholm
BEGIN:DAYLIGHT
TZOFFSETFROM:+0100
TZOFFSETTO:+0200
TZNAME:CEST
DTSTART:20250330T010000
END:DAYLIGHT
BEGIN:STANDARD
TZOFFSETFROM:+0200
TZOFFSETTO:+0100
TZNAME:CET
DTSTART:20251026T010000
END:STANDARD
BEGIN:DAYLIGHT
TZOFFSETFROM:+0100
TZOFFSETTO:+0200
TZNAME:CEST
DTSTART:20260329T010000
END:DAYLIGHT
BEGIN:STANDARD
TZOFFSETFROM:+0200
TZOFFSETTO:+0100
TZNAME:CET
DTSTART:20261025T010000
END:STANDARD
BEGIN:DAYLIGHT
TZOFFSETFROM:+0100
TZOFFSETTO:+0200
TZNAME:CEST
DTSTART:20270328T010000
END:DAYLIGHT
BEGIN:STANDARD
TZOFFSETFROM:+0200
TZOFFSETTO:+0100
TZNAME:CET
DTSTART:20271031T010000
END:STANDARD
END:VTIMEZONE
BEGIN:VEVENT
DTSTART;TZID=Europe/Stockholm:20260328T150500
DTEND;TZID=Europe/Stockholm:20260328T160000
DTSTAMP:20260421T202852
CREATED:20260121T162257Z
LAST-MODIFIED:20260121T170626Z
UID:10018716-1774710300-1774713600@gardstensbostader.se
SUMMARY:Bokbussen i Gårdsten Centrum
DESCRIPTION:Bokbussen kommer till Gårdsten Centrum varje lördag. \nTiden: 15.05-16.00\nPlats: Mellan Gårdstensbostäders kontor och ICAs lastkaj.
URL:https://gardstensbostader.se/event/bokbussen-i-gardsten-centrum-2/2026-03-28
LOCATION:Gårdstens Centrum\, Muskotgatan 5\, Angered\, 42441\, Sverige
GEO:57.8038994;12.0320955
X-APPLE-STRUCTURED-LOCATION;VALUE=URI;X-ADDRESS=Gårdstens Centrum Muskotgatan 5 Angered 42441 Sverige;X-APPLE-RADIUS=500;X-TITLE=Muskotgatan 5:geo:12.0320955,57.8038994
END:VEVENT
BEGIN:VEVENT
DTSTART;TZID=Europe/Stockholm:20260328T160000
DTEND;TZID=Europe/Stockholm:20260328T180000
DTSTAMP:20260421T202852
CREATED:20260309T140557Z
LAST-MODIFIED:20260309T140557Z
UID:10018928-1774713600-1774720800@gardstensbostader.se
SUMMARY:Basketträning med Gårdsten Eagles\, +15 år
DESCRIPTION:Basketträning\nPlats: Lilla Gårdstensskolan \nTisdagar:\nKl 17.00-18.30 ålder 7-10 år\nKl 18.30-20.00 ålder 11-14 år \nLördagar:\nKl.16.00-18.00 ålder +15 år \nVälkomna!
URL:https://gardstensbostader.se/event/baskettraning-med-gardsten-eagles-15-ar/2026-03-28
LOCATION:Lilla Gårdstensskolan\, Saffransgatan 78\, 424 42 Angered
END:VEVENT
BEGIN:VEVENT
DTSTART;TZID=Europe/Stockholm:20260329T110000
DTEND;TZID=Europe/Stockholm:20260329T130000
DTSTAMP:20260421T202853
CREATED:20251217T152616Z
LAST-MODIFIED:20260121T161543Z
UID:10018633-1774782000-1774789200@gardstensbostader.se
SUMMARY:Karateträning söndagar
DESCRIPTION:På söndagar kan du träna Karate..\nKl. 11.00-12.00 för ålder 10-12 år\nKl. 12.00-13.00 för 13 år och äldre \nLäs mer om avgifter mm på Alliansens hemsida: Gårdstens Kampsports Allians
URL:https://gardstensbostader.se/event/karatetraning-sondagar-2/2026-03-29
LOCATION:Gårdstens kampsportcenter\, Salviagatan 54\, Angered
END:VEVENT
BEGIN:VEVENT
DTSTART;TZID=Europe/Stockholm:20260329T130000
DTEND;TZID=Europe/Stockholm:20260329T150000
DTSTAMP:20260421T202853
CREATED:20260121T170328Z
LAST-MODIFIED:20260121T170805Z
UID:10018735-1774789200-1774796400@gardstensbostader.se
SUMMARY:Träna Capoeira på söndagar
DESCRIPTION:Välkomna på söndagar och träna Capoeira. \nKl. 13.00-14.00\, från 10 år\, Basic aktobatik\nKl. 14.00-15.00\, Girls only\, från 12 år \nLäs mer om avgifter mm på Alliansens hemsida: Gårdstens Kampsports Allians
URL:https://gardstensbostader.se/event/trana-capoeira-pa-sondagar-2/2026-03-29
LOCATION:Gårdstens kampsportcenter\, Salviagatan 54\, Angered
END:VEVENT
BEGIN:VEVENT
DTSTART;TZID=Europe/Stockholm:20260330T150000
DTEND;TZID=Europe/Stockholm:20260330T190000
DTSTAMP:20260421T202853
CREATED:20260121T162541Z
LAST-MODIFIED:20260121T171249Z
UID:10018792-1774882800-1774897200@gardstensbostader.se
SUMMARY:Gym öppet måndagar
DESCRIPTION:På måndagar håller Gårdstensbostäder öppet Hälsostugans gym kl. 15.00-19.00. \nVälkomna!
URL:https://gardstensbostader.se/event/gym-oppet-mandagar-2-2/2026-03-30
LOCATION:Hälsostugan\, Kaneltorget 1\, 424 39 Angered\, 42439\, Sverige
ORGANIZER;CN="G%C3%A5rdstensbost%C3%A4der":MAILTO:gbg@gardstensbostader.se
GEO:57.8059833;12.0249729
X-APPLE-STRUCTURED-LOCATION;VALUE=URI;X-ADDRESS=Hälsostugan Kaneltorget 1 424 39 Angered 42439 Sverige;X-APPLE-RADIUS=500;X-TITLE=Kaneltorget 1:geo:12.0249729,57.8059833
END:VEVENT
BEGIN:VEVENT
DTSTART;TZID=Europe/Stockholm:20260330T170000
DTEND;TZID=Europe/Stockholm:20260330T180000
DTSTAMP:20260421T202853
CREATED:20260309T130048Z
LAST-MODIFIED:20260401T154145Z
UID:10018942-1774890000-1774893600@gardstensbostader.se
SUMMARY:Forbollsträning med GAIS\, 5-7 år\, måndagar
DESCRIPTION:Varmt välkomna till terminens fotbollsträning med GAIS. \n5-7 år Dag & Tid: Måndagar & Onsdagar kl. 17.00-18.00\nPlats: Lilla Gårdstensskolan\, från och med v. 16 konstgräsplanen utomhus i Gårdstensdalen \n8-9 år Dag & Tid: Måndagar & Onsdagar kl. 18.00-19.00\nPlats: Lilla Gårdstensskolan\, från och med v. 16 konstgräsplanen utomhus i Gårdstensdalen \n10-14 år Dag & Tid: Tisdagar och torsdagar kl. 17.00-18.30\nPlats: Konstgräsplanen utomhus\, klä dig efter väder \nTerminsavgift till GAIS: 100 kr. Betalar på plats med swish. \nOm du har frågor:\nKontakta Louise på Gårdstensbostäder: 0707-93 91 22
URL:https://gardstensbostader.se/event/forboll-med-gais-5-7-ar/2026-03-30
LOCATION:Gårdstensdalen\, Peppargatan 43\, Angered\, 42439\, Sverige
GEO:57.8029609;12.0275176
X-APPLE-STRUCTURED-LOCATION;VALUE=URI;X-ADDRESS=Gårdstensdalen Peppargatan 43 Angered 42439 Sverige;X-APPLE-RADIUS=500;X-TITLE=Peppargatan 43:geo:12.0275176,57.8029609
END:VEVENT
BEGIN:VEVENT
DTSTART;TZID=Europe/Stockholm:20260330T170000
DTEND;TZID=Europe/Stockholm:20260330T210000
DTSTAMP:20260421T202853
CREATED:20260121T164238Z
LAST-MODIFIED:20260121T170938Z
UID:10018754-1774890000-1774904400@gardstensbostader.se
SUMMARY:Judoträning måndagar
DESCRIPTION:Välkommen på judoträning på måndagar i Gårdstens Kampsportcenter.\nKl. 17.00-18.00\, 7-11 år\nKl. 18.00-19.30\, 12-15 år\nKl. 19.30-21.00\, 16 år och äldre \nVälkomna önskar Göteborgs Judoklubb inom Alliansen i Gårdsten.\nLäs mer på Gårdstens Kampsports Allians om avgifter mm
URL:https://gardstensbostader.se/event/judo-3/2026-03-30
LOCATION:Gårdstens kampsportcenter\, Salviagatan 54\, Angered
END:VEVENT
BEGIN:VEVENT
DTSTART;TZID=Europe/Stockholm:20260330T180000
DTEND;TZID=Europe/Stockholm:20260330T190000
DTSTAMP:20260421T202853
CREATED:20250127T144434Z
LAST-MODIFIED:20250127T144434Z
UID:10014837-1774893600-1774897200@gardstensbostader.se
SUMMARY:Möte på finska
DESCRIPTION:Matti undervisar i evangeliet.\nVi sjunger lovsånger på finska och diskuterar tron på Gud.\nVälkomna måndagar kl. 18\nPlats: Seniorlokalen Muskotgatan 10 \nEVANKELIUMI ON ILOSANOMA\nTule Laulamaan\nJa Keskustelemaan\nUSKOSTA JUMALAAN\nMaanantaisin klo 18\nPuhutaan suomea\nTervetuloa!
URL:https://gardstensbostader.se/event/mote-pa-finska/2026-03-30
LOCATION:Seniorlokalen i Gårdstenshuset\, Muskotgatan 10\, Angered\, 42441\, Sverige
GEO:57.8040901;12.0314352
X-APPLE-STRUCTURED-LOCATION;VALUE=URI;X-ADDRESS=Seniorlokalen i Gårdstenshuset Muskotgatan 10 Angered 42441 Sverige;X-APPLE-RADIUS=500;X-TITLE=Muskotgatan 10:geo:12.0314352,57.8040901
END:VEVENT
BEGIN:VEVENT
DTSTART;TZID=Europe/Stockholm:20260331T123000
DTEND;TZID=Europe/Stockholm:20260331T143000
DTSTAMP:20260421T202853
CREATED:20250814T110647Z
LAST-MODIFIED:20250814T110647Z
UID:10018351-1774960200-1774967400@gardstensbostader.se
SUMMARY:Teoripass Senior Sport School
DESCRIPTION:För dig som anmält dig till Senior Sport School arrangeras teoripass följande dag och tid: \nKostnad för att delta i hela skolan är 300 kr. \nTisdag 23 september Kl. 12:30–14:30\nTisdag 30 september Kl. 12:30–14:30\nTisdag 7 oktober Kl. 12:30–14:30\nTisdag 14 oktober Kl. 12:30–14:30\nTisdag 21 oktober Kl. 12:30–14:30\nTisdag 28 oktober Kl. 12:30–14:30 \nVälkommen
URL:https://gardstensbostader.se/event/teoripass-senior-sport-school/2026-03-31
LOCATION:Kulturrummet Gårdsten\, Gårdsten Centrum\, Angered\, 424 41\, Sweden
END:VEVENT
BEGIN:VEVENT
DTSTART;TZID=Europe/Stockholm:20260331T160000
DTEND;TZID=Europe/Stockholm:20260331T183000
DTSTAMP:20260421T202853
CREATED:20250127T144044Z
LAST-MODIFIED:20250127T144044Z
UID:10014376-1774972800-1774981800@gardstensbostader.se
SUMMARY:Biljard & pingis
DESCRIPTION:I seniorlokalen på Muskotgatan 10 spelas det både biljard och pingis varje tisdag och torsdag. \nTid kl. 16.00-18.30 \nVälkomna!
URL:https://gardstensbostader.se/event/biljard-pingis-9/2026-03-31
LOCATION:Seniorlokalen i Gårdstenshuset\, Muskotgatan 10\, Angered\, 42441\, Sverige
GEO:57.8040901;12.0314352
X-APPLE-STRUCTURED-LOCATION;VALUE=URI;X-ADDRESS=Seniorlokalen i Gårdstenshuset Muskotgatan 10 Angered 42441 Sverige;X-APPLE-RADIUS=500;X-TITLE=Muskotgatan 10:geo:12.0314352,57.8040901
END:VEVENT
BEGIN:VEVENT
DTSTART;TZID=Europe/Stockholm:20260331T170000
DTEND;TZID=Europe/Stockholm:20260331T183000
DTSTAMP:20260421T202853
CREATED:20260309T133757Z
LAST-MODIFIED:20260417T094821Z
UID:10018885-1774976400-1774981800@gardstensbostader.se
SUMMARY:Fotbollsträning med GAIS\, 10-14 år\, tisdagar
DESCRIPTION:Varmt välkomna till terminens fotbollsträning med GAIS. \n5-7 år Dag & Tid: Måndagar & onsdagar  kl. 17.00-18.00\nPlats: Lilla Gårdstensskolan\, från och med v. 16 är träningen på konstgräsplanen i Gårdstensdalen \n8-9 år Dag & Tid: Onsdagar kl. 18.00-19.00\nPlats: Lilla Gårdstensskolan\, från och med v. 16 är träningen på konstgräsplanen i Gårdstensdalen \n10-14 år Dag & Tid: Tisdagar och torsdagar kl. 17.00-18.30\nPlats: Konstgräsplanen utomhus\, klä dig efter väder \nTerminsavgift till GAIS: 100 kr. Betalar på plats med swish. \nOm du har frågor:\nKontakta Louise på Gårdstensbostäder: 0707-93 91 22
URL:https://gardstensbostader.se/event/fotbollstraning-med-gais-10-14-ar-4/2026-03-31
LOCATION:Gårdstensdalen\, Peppargatan 43\, Angered\, 42439\, Sverige
GEO:57.8029609;12.0275176
X-APPLE-STRUCTURED-LOCATION;VALUE=URI;X-ADDRESS=Gårdstensdalen Peppargatan 43 Angered 42439 Sverige;X-APPLE-RADIUS=500;X-TITLE=Peppargatan 43:geo:12.0275176,57.8029609
END:VEVENT
BEGIN:VEVENT
DTSTART;TZID=Europe/Stockholm:20260331T170000
DTEND;TZID=Europe/Stockholm:20260331T200000
DTSTAMP:20260421T202853
CREATED:20260121T170115Z
LAST-MODIFIED:20260121T171131Z
UID:10018773-1774976400-1774987200@gardstensbostader.se
SUMMARY:Träna Capoeira på tisdagar
DESCRIPTION:Välkommen att tränga Capoeira i Gårdstens Kampsportcenter på tisdagar. \nKl. 17.00-18.00\, 5-9 år\nKl. 18.00-19.00\, från 10 år\nKl. 19.00-20.00\, från 13 år. CapBox (mittsar o kickpads) \nLäs mer om avgifter och om Alliansen på:\nGårdstens Kampsports Allians
URL:https://gardstensbostader.se/event/capoeira-2/2026-03-31
LOCATION:Gårdstens kampsportcenter\, Salviagatan 54\, Angered
END:VEVENT
BEGIN:VEVENT
DTSTART;TZID=Europe/Stockholm:20260331T170000
DTEND;TZID=Europe/Stockholm:20260331T200000
DTSTAMP:20260421T202853
CREATED:20260121T172440Z
LAST-MODIFIED:20260121T172627Z
UID:10018829-1774976400-1774987200@gardstensbostader.se
SUMMARY:Basketträning i Gårdsten
DESCRIPTION:Var med på basketträningen med Gårdsten Eagles. Alla ungdomar är välkomna. Se tiderna nedan. \nTisdagar kl. 17.00-20.00:\nKl. 17.00-18.30 för ålder 7-10 år\nKl. 18.30-20.00 för ålder 11-14 år\nTränare: Kemal och Kareem\nPlats: Lilla Gårdstensskolan
URL:https://gardstensbostader.se/event/baskettraning-i-gardsten-2/2026-03-31
LOCATION:Lilla Gårdstensskolan\, Saffransgatan 78\, 424 42 Angered
END:VEVENT
BEGIN:VEVENT
DTSTART;TZID=Europe/Stockholm:20260331T170000
DTEND;TZID=Europe/Stockholm:20260331T200000
DTSTAMP:20260421T202853
CREATED:20260309T140140Z
LAST-MODIFIED:20260309T140140Z
UID:10018914-1774976400-1774987200@gardstensbostader.se
SUMMARY:Basketträning med Gårdsten Eagles
DESCRIPTION:Basketträning\nPlats: Lilla Gårdstensskolan \nTisdagar:\nKl 17.00-18.30 ålder 7-10 år\nKl 18.30-20.00 ålder 11-14 år \nLördagar:\nKl.16.00-18.00 ålder +15 år \nVälkomna!
URL:https://gardstensbostader.se/event/baskettraning-med-gardsten-eagles/2026-03-31
LOCATION:Lilla Gårdstensskolan\, Saffransgatan 78\, 424 42 Angered
END:VEVENT
BEGIN:VEVENT
DTSTART;TZID=Europe/Stockholm:20260401T150000
DTEND;TZID=Europe/Stockholm:20260401T190000
DTSTAMP:20260421T202853
CREATED:20260121T162752Z
LAST-MODIFIED:20260121T163509Z
UID:10018676-1775055600-1775070000@gardstensbostader.se
SUMMARY:Gym öppet onsdagar
DESCRIPTION:På onsdagar håller Gårdstensbostäder öppet i gymmet i Hälsostugan kl. 15.00-19.00 \nVälkomna!
URL:https://gardstensbostader.se/event/gym-oppet-onsdagar-3-2/2026-04-01
LOCATION:Hälsostugan\, Kaneltorget 1\, 424 39 Angered\, 42439\, Sverige
ORGANIZER;CN="G%C3%A5rdstensbost%C3%A4der":MAILTO:gbg@gardstensbostader.se
GEO:57.8059833;12.0249729
X-APPLE-STRUCTURED-LOCATION;VALUE=URI;X-ADDRESS=Hälsostugan Kaneltorget 1 424 39 Angered 42439 Sverige;X-APPLE-RADIUS=500;X-TITLE=Kaneltorget 1:geo:12.0249729,57.8059833
END:VEVENT
BEGIN:VEVENT
DTSTART;TZID=Europe/Stockholm:20260401T160000
DTEND;TZID=Europe/Stockholm:20260401T190000
DTSTAMP:20260421T202853
CREATED:20260401T091154Z
LAST-MODIFIED:20260401T091154Z
UID:10018938-1775059200-1775070000@gardstensbostader.se
SUMMARY:Pyssel och äggjakt
DESCRIPTION:Idag den 1 april kl. 16-19 anordnar vi i samarbete med Kulturrummet och Läslandet pyssel och äggjakt utomhus på Salviatorget. \nVälkomna!
URL:https://gardstensbostader.se/event/pyssel-och-aggjakt
LOCATION:Salviatorget\, Salviatorget 3\, Angered\, 424 41\, Sweden
END:VEVENT
BEGIN:VEVENT
DTSTART;TZID=Europe/Stockholm:20260401T170000
DTEND;TZID=Europe/Stockholm:20260401T180000
DTSTAMP:20260421T202853
CREATED:20260401T154029Z
LAST-MODIFIED:20260417T094646Z
UID:10018986-1775062800-1775066400@gardstensbostader.se
SUMMARY:Fotbollsträning med GAIS\, 5-7 år onsdagar
DESCRIPTION:Varmt välkomna till terminens fotbollsträning med GAIS. \n5-7 år Dag & Tid: Måndagar & Onsdagar kl. 17.00-18.00\nPlats: Lilla Gårdstensskolan\, från och med v. 16 konstgräsplanen utomhus i Gårdstensdalen \n8-9 år Dag & Tid: Måndagar & Onsdagar kl. 18.00-19.00\nPlats: Lilla Gårdstensskolan\, från och med v. 16 konstgräsplanen utomhus i Gårdstensdalen \n10-14 år Dag & Tid: Tisdagar och torsdagar kl. 17.00-18.30\nPlats: Konstgräsplanen utomhus\, klä dig efter väder \nTerminsavgift till GAIS: 100 kr. Betalar på plats med swish. \nOm du har frågor:\nKontakta Louise på Gårdstensbostäder: 0707-93 91 22
URL:https://gardstensbostader.se/event/fotbollstraning-med-gais-5-7-ar-onsdagar/2026-04-01
LOCATION:Gårdstensdalen\, Peppargatan 43\, Angered\, 42439\, Sverige
GEO:57.8029609;12.0275176
X-APPLE-STRUCTURED-LOCATION;VALUE=URI;X-ADDRESS=Gårdstensdalen Peppargatan 43 Angered 42439 Sverige;X-APPLE-RADIUS=500;X-TITLE=Peppargatan 43:geo:12.0275176,57.8029609
END:VEVENT
BEGIN:VEVENT
DTSTART;TZID=Europe/Stockholm:20260401T170000
DTEND;TZID=Europe/Stockholm:20260401T210000
DTSTAMP:20260421T202853
CREATED:20251217T152043Z
LAST-MODIFIED:20260121T164107Z
UID:10018697-1775062800-1775077200@gardstensbostader.se
SUMMARY:Judoträning onsdagar
DESCRIPTION:Välkommen på judoträning på onsdagar i Gårdstens Kampsportcenter.\nKl. 17.00-18.00\, 7-11 år\nKl. 18.00-19.30\, tjejer 13 år och äldre samt nybörjare\nKl. 19.30-21.00\, 16 år och äldre \nVälkomna önskar Göteborgs Judoklubb inom Alliansen i Gårdsten.\nLäs mer på Gårdstens Kampsports Allians om avgifter mm
URL:https://gardstensbostader.se/event/judo-2-2/2026-04-01
LOCATION:Gårdstens kampsportcenter\, Salviagatan 54\, Angered
END:VEVENT
BEGIN:VEVENT
DTSTART;TZID=Europe/Stockholm:20260401T180000
DTEND;TZID=Europe/Stockholm:20260401T190000
DTSTAMP:20260421T202853
CREATED:20260309T130610Z
LAST-MODIFIED:20260401T154711Z
UID:10018870-1775066400-1775070000@gardstensbostader.se
SUMMARY:Fotbollsträning med GAIS\, 8-9 år\, onsdagar
DESCRIPTION:Varmt välkomna till terminens fotbollsträning med GAIS. \n5-7 år Dag & Tid: Måndagar & onsdagar kl. 17.00-18.00\nPlats: Lilla Gårdstensskolan\, från och med v. 16 konstgräsplanen utomhus i Gårdstensdalen \n8-9 år Dag & Tid: Måndagar & Onsdagar kl. 18.00-19.00\nPlats: Lilla Gårdstensskolan\, från och med v. 16 konstgräsplanen utomhus i Gårdstensdalen \n10-14 år Dag & Tid: Tisdagar och torsdagar kl. 17.00-18.00\nPlats: Konstgräsplanen utomhus\, klä dig efter väder \nTerminsavgift till GAIS: 100 kr. Betalar på plats med swish. \nOm du har frågor:\nKontakta Louise på Gårdstensbostäder: 0707-93 91 22
URL:https://gardstensbostader.se/event/fotbollstraning-med-gais-8-9-ar/2026-04-01
LOCATION:Gårdstensdalen\, Peppargatan 43\, Angered\, 42439\, Sverige
GEO:57.8029609;12.0275176
X-APPLE-STRUCTURED-LOCATION;VALUE=URI;X-ADDRESS=Gårdstensdalen Peppargatan 43 Angered 42439 Sverige;X-APPLE-RADIUS=500;X-TITLE=Peppargatan 43:geo:12.0275176,57.8029609
END:VEVENT
BEGIN:VEVENT
DTSTART;TZID=Europe/Stockholm:20260402T130000
DTEND;TZID=Europe/Stockholm:20260402T134500
DTSTAMP:20260421T202853
CREATED:20260202T144743Z
LAST-MODIFIED:20260202T144743Z
UID:10018846-1775134800-1775137500@gardstensbostader.se
SUMMARY:Qigonginspirerad träning i seniorhuset
DESCRIPTION:Välkomna till Qigonginspirerad träning i seniorlokalen på Muskotgatan 10. \nVi arbetar igenom kroppen och fokuserar på rörlighet och att vara här och nu. Rörelserna är mjuka och utförs långsamt. Alla tränar vi tillsammans\, nybörjare som vana. Passet utförs stående eller sittande på stol. \nTorsdagar kl. 13-13.45\n29 januari – 21 maj\n(ej 12 och 26 februari\, 12 mars och 9 april)\nPlats: Seniorhuset\, Muskotgatan 10\nKontakt: Mötesplatser Nordost\, 031-365 23 73
URL:https://gardstensbostader.se/event/qigonginspirerad-traning-i-seniorhuset/2026-04-02
LOCATION:Seniorlokalen i Gårdstenshuset\, Muskotgatan 10\, Angered\, 42441\, Sverige
GEO:57.8040901;12.0314352
X-APPLE-STRUCTURED-LOCATION;VALUE=URI;X-ADDRESS=Seniorlokalen i Gårdstenshuset Muskotgatan 10 Angered 42441 Sverige;X-APPLE-RADIUS=500;X-TITLE=Muskotgatan 10:geo:12.0314352,57.8040901
END:VEVENT
BEGIN:VEVENT
DTSTART;TZID=Europe/Stockholm:20260402T160000
DTEND;TZID=Europe/Stockholm:20260402T183000
DTSTAMP:20260421T202853
CREATED:20250127T144044Z
LAST-MODIFIED:20250127T144044Z
UID:10014377-1775145600-1775154600@gardstensbostader.se
SUMMARY:Biljard & pingis
DESCRIPTION:I seniorlokalen på Muskotgatan 10 spelas det både biljard och pingis varje tisdag och torsdag. \nTid kl. 16.00-18.30 \nVälkomna!
URL:https://gardstensbostader.se/event/biljard-pingis-9/2026-04-02
LOCATION:Seniorlokalen i Gårdstenshuset\, Muskotgatan 10\, Angered\, 42441\, Sverige
GEO:57.8040901;12.0314352
X-APPLE-STRUCTURED-LOCATION;VALUE=URI;X-ADDRESS=Seniorlokalen i Gårdstenshuset Muskotgatan 10 Angered 42441 Sverige;X-APPLE-RADIUS=500;X-TITLE=Muskotgatan 10:geo:12.0314352,57.8040901
END:VEVENT
BEGIN:VEVENT
DTSTART;TZID=Europe/Stockholm:20260402T170000
DTEND;TZID=Europe/Stockholm:20260402T183000
DTSTAMP:20260421T202853
CREATED:20260309T134101Z
LAST-MODIFIED:20260401T154311Z
UID:10018900-1775149200-1775154600@gardstensbostader.se
SUMMARY:Fotbollsträning med GAIS\, 10-14 år\, torsdagar
DESCRIPTION:Varmt välkomna till terminens fotbollsträning med GAIS. \n5-7 år Dag & Tid: Måndagar & onsdagar  kl. 17.00-18.00\nPlats: Lilla Gårdstensskolan\, från och med v. 16 konstgräsplanen utomhus i Gårdstensdalen \n8-9 år Dag & Tid: Måndagar & Onsdagar kl. 18.00-19.00\nPlats: Lilla Gårdstensskolan\, från och med v. 16 konstgräsplanen utomhus i Gårdstensdalen \n10-14 år Dag & Tid: Tisdagar och torsdagar kl. 17.00-18.30\nPlats: Konstgräsplanen utomhus\, klä dig efter väder \nTerminsavgift till GAIS: 100 kr. Betalar på plats med swish. \nOm du har frågor:\nKontakta Louise på Gårdstensbostäder: 0707-93 91 22
URL:https://gardstensbostader.se/event/fotbollstraning-med-gais-10-14-ar-5/2026-04-02
LOCATION:Gårdstensdalen\, Peppargatan 43\, Angered\, 42439\, Sverige
GEO:57.8029609;12.0275176
X-APPLE-STRUCTURED-LOCATION;VALUE=URI;X-ADDRESS=Gårdstensdalen Peppargatan 43 Angered 42439 Sverige;X-APPLE-RADIUS=500;X-TITLE=Peppargatan 43:geo:12.0275176,57.8029609
END:VEVENT
BEGIN:VEVENT
DTSTART;TZID=Europe/Stockholm:20260402T170000
DTEND;TZID=Europe/Stockholm:20260402T203000
DTSTAMP:20260421T202853
CREATED:20251217T152424Z
LAST-MODIFIED:20260121T161435Z
UID:10018656-1775149200-1775161800@gardstensbostader.se
SUMMARY:Karateträning torsdagar
DESCRIPTION:Välkommen och träna karate på torsdagar i Gårdstens Kampsportcenter. \nKl. 17.00-17.45 för ålder 7-9 år\nKl. 18.00-19.00 för ålder 10-12 år\nKl. 19.00-20.30 för 13 år och äldre \nLäs mer på avgifter och träning på Alliansens hemsida Gårdstens Kampsports Allians
URL:https://gardstensbostader.se/event/karatetraning-torsdagar-2/2026-04-02
LOCATION:Gårdstens kampsportcenter\, Salviagatan 54\, Angered
END:VEVENT
BEGIN:VEVENT
DTSTART;TZID=Europe/Stockholm:20260404T150500
DTEND;TZID=Europe/Stockholm:20260404T160000
DTSTAMP:20260421T202853
CREATED:20260121T162257Z
LAST-MODIFIED:20260121T170626Z
UID:10018717-1775315100-1775318400@gardstensbostader.se
SUMMARY:Bokbussen i Gårdsten Centrum
DESCRIPTION:Bokbussen kommer till Gårdsten Centrum varje lördag. \nTiden: 15.05-16.00\nPlats: Mellan Gårdstensbostäders kontor och ICAs lastkaj.
URL:https://gardstensbostader.se/event/bokbussen-i-gardsten-centrum-2/2026-04-04
LOCATION:Gårdstens Centrum\, Muskotgatan 5\, Angered\, 42441\, Sverige
GEO:57.8038994;12.0320955
X-APPLE-STRUCTURED-LOCATION;VALUE=URI;X-ADDRESS=Gårdstens Centrum Muskotgatan 5 Angered 42441 Sverige;X-APPLE-RADIUS=500;X-TITLE=Muskotgatan 5:geo:12.0320955,57.8038994
END:VEVENT
BEGIN:VEVENT
DTSTART;TZID=Europe/Stockholm:20260404T160000
DTEND;TZID=Europe/Stockholm:20260404T180000
DTSTAMP:20260421T202853
CREATED:20260309T140557Z
LAST-MODIFIED:20260309T140557Z
UID:10018929-1775318400-1775325600@gardstensbostader.se
SUMMARY:Basketträning med Gårdsten Eagles\, +15 år
DESCRIPTION:Basketträning\nPlats: Lilla Gårdstensskolan \nTisdagar:\nKl 17.00-18.30 ålder 7-10 år\nKl 18.30-20.00 ålder 11-14 år \nLördagar:\nKl.16.00-18.00 ålder +15 år \nVälkomna!
URL:https://gardstensbostader.se/event/baskettraning-med-gardsten-eagles-15-ar/2026-04-04
LOCATION:Lilla Gårdstensskolan\, Saffransgatan 78\, 424 42 Angered
END:VEVENT
BEGIN:VEVENT
DTSTART;TZID=Europe/Stockholm:20260405T110000
DTEND;TZID=Europe/Stockholm:20260405T130000
DTSTAMP:20260421T202853
CREATED:20251217T152616Z
LAST-MODIFIED:20260121T161543Z
UID:10018634-1775386800-1775394000@gardstensbostader.se
SUMMARY:Karateträning söndagar
DESCRIPTION:På söndagar kan du träna Karate..\nKl. 11.00-12.00 för ålder 10-12 år\nKl. 12.00-13.00 för 13 år och äldre \nLäs mer om avgifter mm på Alliansens hemsida: Gårdstens Kampsports Allians
URL:https://gardstensbostader.se/event/karatetraning-sondagar-2/2026-04-05
LOCATION:Gårdstens kampsportcenter\, Salviagatan 54\, Angered
END:VEVENT
BEGIN:VEVENT
DTSTART;TZID=Europe/Stockholm:20260405T130000
DTEND;TZID=Europe/Stockholm:20260405T150000
DTSTAMP:20260421T202853
CREATED:20260121T170328Z
LAST-MODIFIED:20260121T170805Z
UID:10018736-1775394000-1775401200@gardstensbostader.se
SUMMARY:Träna Capoeira på söndagar
DESCRIPTION:Välkomna på söndagar och träna Capoeira. \nKl. 13.00-14.00\, från 10 år\, Basic aktobatik\nKl. 14.00-15.00\, Girls only\, från 12 år \nLäs mer om avgifter mm på Alliansens hemsida: Gårdstens Kampsports Allians
URL:https://gardstensbostader.se/event/trana-capoeira-pa-sondagar-2/2026-04-05
LOCATION:Gårdstens kampsportcenter\, Salviagatan 54\, Angered
END:VEVENT
BEGIN:VEVENT
DTSTART;TZID=Europe/Stockholm:20260406T170000
DTEND;TZID=Europe/Stockholm:20260406T210000
DTSTAMP:20260421T202853
CREATED:20260121T164238Z
LAST-MODIFIED:20260121T170938Z
UID:10018755-1775494800-1775509200@gardstensbostader.se
SUMMARY:Judoträning måndagar
DESCRIPTION:Välkommen på judoträning på måndagar i Gårdstens Kampsportcenter.\nKl. 17.00-18.00\, 7-11 år\nKl. 18.00-19.30\, 12-15 år\nKl. 19.30-21.00\, 16 år och äldre \nVälkomna önskar Göteborgs Judoklubb inom Alliansen i Gårdsten.\nLäs mer på Gårdstens Kampsports Allians om avgifter mm
URL:https://gardstensbostader.se/event/judo-3/2026-04-06
LOCATION:Gårdstens kampsportcenter\, Salviagatan 54\, Angered
END:VEVENT
BEGIN:VEVENT
DTSTART;TZID=Europe/Stockholm:20260406T180000
DTEND;TZID=Europe/Stockholm:20260406T190000
DTSTAMP:20260421T202853
CREATED:20250127T144434Z
LAST-MODIFIED:20250127T144434Z
UID:10014838-1775498400-1775502000@gardstensbostader.se
SUMMARY:Möte på finska
DESCRIPTION:Matti undervisar i evangeliet.\nVi sjunger lovsånger på finska och diskuterar tron på Gud.\nVälkomna måndagar kl. 18\nPlats: Seniorlokalen Muskotgatan 10 \nEVANKELIUMI ON ILOSANOMA\nTule Laulamaan\nJa Keskustelemaan\nUSKOSTA JUMALAAN\nMaanantaisin klo 18\nPuhutaan suomea\nTervetuloa!
URL:https://gardstensbostader.se/event/mote-pa-finska/2026-04-06
LOCATION:Seniorlokalen i Gårdstenshuset\, Muskotgatan 10\, Angered\, 42441\, Sverige
GEO:57.8040901;12.0314352
X-APPLE-STRUCTURED-LOCATION;VALUE=URI;X-ADDRESS=Seniorlokalen i Gårdstenshuset Muskotgatan 10 Angered 42441 Sverige;X-APPLE-RADIUS=500;X-TITLE=Muskotgatan 10:geo:12.0314352,57.8040901
END:VEVENT
BEGIN:VEVENT
DTSTART;TZID=Europe/Stockholm:20260407T123000
DTEND;TZID=Europe/Stockholm:20260407T143000
DTSTAMP:20260421T202854
CREATED:20250814T110647Z
LAST-MODIFIED:20250814T110647Z
UID:10018352-1775565000-1775572200@gardstensbostader.se
SUMMARY:Teoripass Senior Sport School
DESCRIPTION:För dig som anmält dig till Senior Sport School arrangeras teoripass följande dag och tid: \nKostnad för att delta i hela skolan är 300 kr. \nTisdag 23 september Kl. 12:30–14:30\nTisdag 30 september Kl. 12:30–14:30\nTisdag 7 oktober Kl. 12:30–14:30\nTisdag 14 oktober Kl. 12:30–14:30\nTisdag 21 oktober Kl. 12:30–14:30\nTisdag 28 oktober Kl. 12:30–14:30 \nVälkommen
URL:https://gardstensbostader.se/event/teoripass-senior-sport-school/2026-04-07
LOCATION:Kulturrummet Gårdsten\, Gårdsten Centrum\, Angered\, 424 41\, Sweden
END:VEVENT
END:VCALENDAR