BEGIN:VCALENDAR
VERSION:2.0
PRODID:-// - ECPv6.15.18//NONSGML v1.0//EN
CALSCALE:GREGORIAN
METHOD:PUBLISH
X-ORIGINAL-URL:https://gardstensbostader.se
X-WR-CALDESC:Händelser för 
REFRESH-INTERVAL;VALUE=DURATION:PT1H
X-Robots-Tag:noindex
X-PUBLISHED-TTL:PT1H
BEGIN:VTIMEZONE
TZID:Europe/Stockholm
BEGIN:DAYLIGHT
TZOFFSETFROM:+0100
TZOFFSETTO:+0200
TZNAME:CEST
DTSTART:20280326T010000
END:DAYLIGHT
BEGIN:STANDARD
TZOFFSETFROM:+0200
TZOFFSETTO:+0100
TZNAME:CET
DTSTART:20281029T010000
END:STANDARD
BEGIN:DAYLIGHT
TZOFFSETFROM:+0100
TZOFFSETTO:+0200
TZNAME:CEST
DTSTART:20290325T010000
END:DAYLIGHT
BEGIN:STANDARD
TZOFFSETFROM:+0200
TZOFFSETTO:+0100
TZNAME:CET
DTSTART:20291028T010000
END:STANDARD
BEGIN:DAYLIGHT
TZOFFSETFROM:+0100
TZOFFSETTO:+0200
TZNAME:CEST
DTSTART:20300331T010000
END:DAYLIGHT
BEGIN:STANDARD
TZOFFSETFROM:+0200
TZOFFSETTO:+0100
TZNAME:CET
DTSTART:20301027T010000
END:STANDARD
END:VTIMEZONE
BEGIN:VEVENT
DTSTART;TZID=Europe/Stockholm:20290827T180000
DTEND;TZID=Europe/Stockholm:20290827T190000
DTSTAMP:20260421T164211
CREATED:20250127T144434Z
LAST-MODIFIED:20250127T144434Z
UID:10015015-1882548000-1882551600@gardstensbostader.se
SUMMARY:Möte på finska
DESCRIPTION:Matti undervisar i evangeliet.\nVi sjunger lovsånger på finska och diskuterar tron på Gud.\nVälkomna måndagar kl. 18\nPlats: Seniorlokalen Muskotgatan 10 \nEVANKELIUMI ON ILOSANOMA\nTule Laulamaan\nJa Keskustelemaan\nUSKOSTA JUMALAAN\nMaanantaisin klo 18\nPuhutaan suomea\nTervetuloa!
URL:https://gardstensbostader.se/event/mote-pa-finska/2029-08-27
LOCATION:Seniorlokalen i Gårdstenshuset\, Muskotgatan 10\, Angered\, 42441\, Sverige
GEO:57.8040901;12.0314352
X-APPLE-STRUCTURED-LOCATION;VALUE=URI;X-ADDRESS=Seniorlokalen i Gårdstenshuset Muskotgatan 10 Angered 42441 Sverige;X-APPLE-RADIUS=500;X-TITLE=Muskotgatan 10:geo:12.0314352,57.8040901
END:VEVENT
BEGIN:VEVENT
DTSTART;TZID=Europe/Stockholm:20290828T160000
DTEND;TZID=Europe/Stockholm:20290828T183000
DTSTAMP:20260421T164211
CREATED:20250127T144044Z
LAST-MODIFIED:20250127T144044Z
UID:10014732-1882627200-1882636200@gardstensbostader.se
SUMMARY:Biljard & pingis
DESCRIPTION:I seniorlokalen på Muskotgatan 10 spelas det både biljard och pingis varje tisdag och torsdag. \nTid kl. 16.00-18.30 \nVälkomna!
URL:https://gardstensbostader.se/event/biljard-pingis-9/2029-08-28
LOCATION:Seniorlokalen i Gårdstenshuset\, Muskotgatan 10\, Angered\, 42441\, Sverige
GEO:57.8040901;12.0314352
X-APPLE-STRUCTURED-LOCATION;VALUE=URI;X-ADDRESS=Seniorlokalen i Gårdstenshuset Muskotgatan 10 Angered 42441 Sverige;X-APPLE-RADIUS=500;X-TITLE=Muskotgatan 10:geo:12.0314352,57.8040901
END:VEVENT
BEGIN:VEVENT
DTSTART;TZID=Europe/Stockholm:20290830T160000
DTEND;TZID=Europe/Stockholm:20290830T183000
DTSTAMP:20260421T164211
CREATED:20250127T144044Z
LAST-MODIFIED:20250127T144044Z
UID:10014733-1882800000-1882809000@gardstensbostader.se
SUMMARY:Biljard & pingis
DESCRIPTION:I seniorlokalen på Muskotgatan 10 spelas det både biljard och pingis varje tisdag och torsdag. \nTid kl. 16.00-18.30 \nVälkomna!
URL:https://gardstensbostader.se/event/biljard-pingis-9/2029-08-30
LOCATION:Seniorlokalen i Gårdstenshuset\, Muskotgatan 10\, Angered\, 42441\, Sverige
GEO:57.8040901;12.0314352
X-APPLE-STRUCTURED-LOCATION;VALUE=URI;X-ADDRESS=Seniorlokalen i Gårdstenshuset Muskotgatan 10 Angered 42441 Sverige;X-APPLE-RADIUS=500;X-TITLE=Muskotgatan 10:geo:12.0314352,57.8040901
END:VEVENT
BEGIN:VEVENT
DTSTART;TZID=Europe/Stockholm:20290903T180000
DTEND;TZID=Europe/Stockholm:20290903T190000
DTSTAMP:20260421T164211
CREATED:20250127T144434Z
LAST-MODIFIED:20250127T144434Z
UID:10015016-1883152800-1883156400@gardstensbostader.se
SUMMARY:Möte på finska
DESCRIPTION:Matti undervisar i evangeliet.\nVi sjunger lovsånger på finska och diskuterar tron på Gud.\nVälkomna måndagar kl. 18\nPlats: Seniorlokalen Muskotgatan 10 \nEVANKELIUMI ON ILOSANOMA\nTule Laulamaan\nJa Keskustelemaan\nUSKOSTA JUMALAAN\nMaanantaisin klo 18\nPuhutaan suomea\nTervetuloa!
URL:https://gardstensbostader.se/event/mote-pa-finska/2029-09-03
LOCATION:Seniorlokalen i Gårdstenshuset\, Muskotgatan 10\, Angered\, 42441\, Sverige
GEO:57.8040901;12.0314352
X-APPLE-STRUCTURED-LOCATION;VALUE=URI;X-ADDRESS=Seniorlokalen i Gårdstenshuset Muskotgatan 10 Angered 42441 Sverige;X-APPLE-RADIUS=500;X-TITLE=Muskotgatan 10:geo:12.0314352,57.8040901
END:VEVENT
BEGIN:VEVENT
DTSTART;TZID=Europe/Stockholm:20290904T160000
DTEND;TZID=Europe/Stockholm:20290904T183000
DTSTAMP:20260421T164211
CREATED:20250127T144044Z
LAST-MODIFIED:20250127T144044Z
UID:10014734-1883232000-1883241000@gardstensbostader.se
SUMMARY:Biljard & pingis
DESCRIPTION:I seniorlokalen på Muskotgatan 10 spelas det både biljard och pingis varje tisdag och torsdag. \nTid kl. 16.00-18.30 \nVälkomna!
URL:https://gardstensbostader.se/event/biljard-pingis-9/2029-09-04
LOCATION:Seniorlokalen i Gårdstenshuset\, Muskotgatan 10\, Angered\, 42441\, Sverige
GEO:57.8040901;12.0314352
X-APPLE-STRUCTURED-LOCATION;VALUE=URI;X-ADDRESS=Seniorlokalen i Gårdstenshuset Muskotgatan 10 Angered 42441 Sverige;X-APPLE-RADIUS=500;X-TITLE=Muskotgatan 10:geo:12.0314352,57.8040901
END:VEVENT
BEGIN:VEVENT
DTSTART;TZID=Europe/Stockholm:20290906T160000
DTEND;TZID=Europe/Stockholm:20290906T183000
DTSTAMP:20260421T164211
CREATED:20250127T144044Z
LAST-MODIFIED:20250127T144044Z
UID:10014735-1883404800-1883413800@gardstensbostader.se
SUMMARY:Biljard & pingis
DESCRIPTION:I seniorlokalen på Muskotgatan 10 spelas det både biljard och pingis varje tisdag och torsdag. \nTid kl. 16.00-18.30 \nVälkomna!
URL:https://gardstensbostader.se/event/biljard-pingis-9/2029-09-06
LOCATION:Seniorlokalen i Gårdstenshuset\, Muskotgatan 10\, Angered\, 42441\, Sverige
GEO:57.8040901;12.0314352
X-APPLE-STRUCTURED-LOCATION;VALUE=URI;X-ADDRESS=Seniorlokalen i Gårdstenshuset Muskotgatan 10 Angered 42441 Sverige;X-APPLE-RADIUS=500;X-TITLE=Muskotgatan 10:geo:12.0314352,57.8040901
END:VEVENT
BEGIN:VEVENT
DTSTART;TZID=Europe/Stockholm:20290910T180000
DTEND;TZID=Europe/Stockholm:20290910T190000
DTSTAMP:20260421T164211
CREATED:20250127T144434Z
LAST-MODIFIED:20250127T144434Z
UID:10015017-1883757600-1883761200@gardstensbostader.se
SUMMARY:Möte på finska
DESCRIPTION:Matti undervisar i evangeliet.\nVi sjunger lovsånger på finska och diskuterar tron på Gud.\nVälkomna måndagar kl. 18\nPlats: Seniorlokalen Muskotgatan 10 \nEVANKELIUMI ON ILOSANOMA\nTule Laulamaan\nJa Keskustelemaan\nUSKOSTA JUMALAAN\nMaanantaisin klo 18\nPuhutaan suomea\nTervetuloa!
URL:https://gardstensbostader.se/event/mote-pa-finska/2029-09-10
LOCATION:Seniorlokalen i Gårdstenshuset\, Muskotgatan 10\, Angered\, 42441\, Sverige
GEO:57.8040901;12.0314352
X-APPLE-STRUCTURED-LOCATION;VALUE=URI;X-ADDRESS=Seniorlokalen i Gårdstenshuset Muskotgatan 10 Angered 42441 Sverige;X-APPLE-RADIUS=500;X-TITLE=Muskotgatan 10:geo:12.0314352,57.8040901
END:VEVENT
BEGIN:VEVENT
DTSTART;TZID=Europe/Stockholm:20290911T160000
DTEND;TZID=Europe/Stockholm:20290911T183000
DTSTAMP:20260421T164211
CREATED:20250127T144044Z
LAST-MODIFIED:20250127T144044Z
UID:10014736-1883836800-1883845800@gardstensbostader.se
SUMMARY:Biljard & pingis
DESCRIPTION:I seniorlokalen på Muskotgatan 10 spelas det både biljard och pingis varje tisdag och torsdag. \nTid kl. 16.00-18.30 \nVälkomna!
URL:https://gardstensbostader.se/event/biljard-pingis-9/2029-09-11
LOCATION:Seniorlokalen i Gårdstenshuset\, Muskotgatan 10\, Angered\, 42441\, Sverige
GEO:57.8040901;12.0314352
X-APPLE-STRUCTURED-LOCATION;VALUE=URI;X-ADDRESS=Seniorlokalen i Gårdstenshuset Muskotgatan 10 Angered 42441 Sverige;X-APPLE-RADIUS=500;X-TITLE=Muskotgatan 10:geo:12.0314352,57.8040901
END:VEVENT
BEGIN:VEVENT
DTSTART;TZID=Europe/Stockholm:20290913T160000
DTEND;TZID=Europe/Stockholm:20290913T183000
DTSTAMP:20260421T164211
CREATED:20250127T144044Z
LAST-MODIFIED:20250127T144044Z
UID:10014737-1884009600-1884018600@gardstensbostader.se
SUMMARY:Biljard & pingis
DESCRIPTION:I seniorlokalen på Muskotgatan 10 spelas det både biljard och pingis varje tisdag och torsdag. \nTid kl. 16.00-18.30 \nVälkomna!
URL:https://gardstensbostader.se/event/biljard-pingis-9/2029-09-13
LOCATION:Seniorlokalen i Gårdstenshuset\, Muskotgatan 10\, Angered\, 42441\, Sverige
GEO:57.8040901;12.0314352
X-APPLE-STRUCTURED-LOCATION;VALUE=URI;X-ADDRESS=Seniorlokalen i Gårdstenshuset Muskotgatan 10 Angered 42441 Sverige;X-APPLE-RADIUS=500;X-TITLE=Muskotgatan 10:geo:12.0314352,57.8040901
END:VEVENT
BEGIN:VEVENT
DTSTART;TZID=Europe/Stockholm:20290917T180000
DTEND;TZID=Europe/Stockholm:20290917T190000
DTSTAMP:20260421T164211
CREATED:20250127T144434Z
LAST-MODIFIED:20250127T144434Z
UID:10015018-1884362400-1884366000@gardstensbostader.se
SUMMARY:Möte på finska
DESCRIPTION:Matti undervisar i evangeliet.\nVi sjunger lovsånger på finska och diskuterar tron på Gud.\nVälkomna måndagar kl. 18\nPlats: Seniorlokalen Muskotgatan 10 \nEVANKELIUMI ON ILOSANOMA\nTule Laulamaan\nJa Keskustelemaan\nUSKOSTA JUMALAAN\nMaanantaisin klo 18\nPuhutaan suomea\nTervetuloa!
URL:https://gardstensbostader.se/event/mote-pa-finska/2029-09-17
LOCATION:Seniorlokalen i Gårdstenshuset\, Muskotgatan 10\, Angered\, 42441\, Sverige
GEO:57.8040901;12.0314352
X-APPLE-STRUCTURED-LOCATION;VALUE=URI;X-ADDRESS=Seniorlokalen i Gårdstenshuset Muskotgatan 10 Angered 42441 Sverige;X-APPLE-RADIUS=500;X-TITLE=Muskotgatan 10:geo:12.0314352,57.8040901
END:VEVENT
BEGIN:VEVENT
DTSTART;TZID=Europe/Stockholm:20290918T160000
DTEND;TZID=Europe/Stockholm:20290918T183000
DTSTAMP:20260421T164211
CREATED:20250127T144044Z
LAST-MODIFIED:20250127T144044Z
UID:10014738-1884441600-1884450600@gardstensbostader.se
SUMMARY:Biljard & pingis
DESCRIPTION:I seniorlokalen på Muskotgatan 10 spelas det både biljard och pingis varje tisdag och torsdag. \nTid kl. 16.00-18.30 \nVälkomna!
URL:https://gardstensbostader.se/event/biljard-pingis-9/2029-09-18
LOCATION:Seniorlokalen i Gårdstenshuset\, Muskotgatan 10\, Angered\, 42441\, Sverige
GEO:57.8040901;12.0314352
X-APPLE-STRUCTURED-LOCATION;VALUE=URI;X-ADDRESS=Seniorlokalen i Gårdstenshuset Muskotgatan 10 Angered 42441 Sverige;X-APPLE-RADIUS=500;X-TITLE=Muskotgatan 10:geo:12.0314352,57.8040901
END:VEVENT
BEGIN:VEVENT
DTSTART;TZID=Europe/Stockholm:20290920T160000
DTEND;TZID=Europe/Stockholm:20290920T183000
DTSTAMP:20260421T164211
CREATED:20250127T144044Z
LAST-MODIFIED:20250127T144044Z
UID:10014739-1884614400-1884623400@gardstensbostader.se
SUMMARY:Biljard & pingis
DESCRIPTION:I seniorlokalen på Muskotgatan 10 spelas det både biljard och pingis varje tisdag och torsdag. \nTid kl. 16.00-18.30 \nVälkomna!
URL:https://gardstensbostader.se/event/biljard-pingis-9/2029-09-20
LOCATION:Seniorlokalen i Gårdstenshuset\, Muskotgatan 10\, Angered\, 42441\, Sverige
GEO:57.8040901;12.0314352
X-APPLE-STRUCTURED-LOCATION;VALUE=URI;X-ADDRESS=Seniorlokalen i Gårdstenshuset Muskotgatan 10 Angered 42441 Sverige;X-APPLE-RADIUS=500;X-TITLE=Muskotgatan 10:geo:12.0314352,57.8040901
END:VEVENT
BEGIN:VEVENT
DTSTART;TZID=Europe/Stockholm:20290924T180000
DTEND;TZID=Europe/Stockholm:20290924T190000
DTSTAMP:20260421T164211
CREATED:20250127T144434Z
LAST-MODIFIED:20250127T144434Z
UID:10015019-1884967200-1884970800@gardstensbostader.se
SUMMARY:Möte på finska
DESCRIPTION:Matti undervisar i evangeliet.\nVi sjunger lovsånger på finska och diskuterar tron på Gud.\nVälkomna måndagar kl. 18\nPlats: Seniorlokalen Muskotgatan 10 \nEVANKELIUMI ON ILOSANOMA\nTule Laulamaan\nJa Keskustelemaan\nUSKOSTA JUMALAAN\nMaanantaisin klo 18\nPuhutaan suomea\nTervetuloa!
URL:https://gardstensbostader.se/event/mote-pa-finska/2029-09-24
LOCATION:Seniorlokalen i Gårdstenshuset\, Muskotgatan 10\, Angered\, 42441\, Sverige
GEO:57.8040901;12.0314352
X-APPLE-STRUCTURED-LOCATION;VALUE=URI;X-ADDRESS=Seniorlokalen i Gårdstenshuset Muskotgatan 10 Angered 42441 Sverige;X-APPLE-RADIUS=500;X-TITLE=Muskotgatan 10:geo:12.0314352,57.8040901
END:VEVENT
BEGIN:VEVENT
DTSTART;TZID=Europe/Stockholm:20290925T160000
DTEND;TZID=Europe/Stockholm:20290925T183000
DTSTAMP:20260421T164211
CREATED:20250127T144044Z
LAST-MODIFIED:20250127T144044Z
UID:10014740-1885046400-1885055400@gardstensbostader.se
SUMMARY:Biljard & pingis
DESCRIPTION:I seniorlokalen på Muskotgatan 10 spelas det både biljard och pingis varje tisdag och torsdag. \nTid kl. 16.00-18.30 \nVälkomna!
URL:https://gardstensbostader.se/event/biljard-pingis-9/2029-09-25
LOCATION:Seniorlokalen i Gårdstenshuset\, Muskotgatan 10\, Angered\, 42441\, Sverige
GEO:57.8040901;12.0314352
X-APPLE-STRUCTURED-LOCATION;VALUE=URI;X-ADDRESS=Seniorlokalen i Gårdstenshuset Muskotgatan 10 Angered 42441 Sverige;X-APPLE-RADIUS=500;X-TITLE=Muskotgatan 10:geo:12.0314352,57.8040901
END:VEVENT
BEGIN:VEVENT
DTSTART;TZID=Europe/Stockholm:20290927T160000
DTEND;TZID=Europe/Stockholm:20290927T183000
DTSTAMP:20260421T164211
CREATED:20250127T144044Z
LAST-MODIFIED:20250127T144044Z
UID:10014741-1885219200-1885228200@gardstensbostader.se
SUMMARY:Biljard & pingis
DESCRIPTION:I seniorlokalen på Muskotgatan 10 spelas det både biljard och pingis varje tisdag och torsdag. \nTid kl. 16.00-18.30 \nVälkomna!
URL:https://gardstensbostader.se/event/biljard-pingis-9/2029-09-27
LOCATION:Seniorlokalen i Gårdstenshuset\, Muskotgatan 10\, Angered\, 42441\, Sverige
GEO:57.8040901;12.0314352
X-APPLE-STRUCTURED-LOCATION;VALUE=URI;X-ADDRESS=Seniorlokalen i Gårdstenshuset Muskotgatan 10 Angered 42441 Sverige;X-APPLE-RADIUS=500;X-TITLE=Muskotgatan 10:geo:12.0314352,57.8040901
END:VEVENT
BEGIN:VEVENT
DTSTART;TZID=Europe/Stockholm:20291001T180000
DTEND;TZID=Europe/Stockholm:20291001T190000
DTSTAMP:20260421T164211
CREATED:20250127T144434Z
LAST-MODIFIED:20250127T144434Z
UID:10015020-1885572000-1885575600@gardstensbostader.se
SUMMARY:Möte på finska
DESCRIPTION:Matti undervisar i evangeliet.\nVi sjunger lovsånger på finska och diskuterar tron på Gud.\nVälkomna måndagar kl. 18\nPlats: Seniorlokalen Muskotgatan 10 \nEVANKELIUMI ON ILOSANOMA\nTule Laulamaan\nJa Keskustelemaan\nUSKOSTA JUMALAAN\nMaanantaisin klo 18\nPuhutaan suomea\nTervetuloa!
URL:https://gardstensbostader.se/event/mote-pa-finska/2029-10-01
LOCATION:Seniorlokalen i Gårdstenshuset\, Muskotgatan 10\, Angered\, 42441\, Sverige
GEO:57.8040901;12.0314352
X-APPLE-STRUCTURED-LOCATION;VALUE=URI;X-ADDRESS=Seniorlokalen i Gårdstenshuset Muskotgatan 10 Angered 42441 Sverige;X-APPLE-RADIUS=500;X-TITLE=Muskotgatan 10:geo:12.0314352,57.8040901
END:VEVENT
BEGIN:VEVENT
DTSTART;TZID=Europe/Stockholm:20291002T160000
DTEND;TZID=Europe/Stockholm:20291002T183000
DTSTAMP:20260421T164212
CREATED:20250127T144044Z
LAST-MODIFIED:20250127T144044Z
UID:10014742-1885651200-1885660200@gardstensbostader.se
SUMMARY:Biljard & pingis
DESCRIPTION:I seniorlokalen på Muskotgatan 10 spelas det både biljard och pingis varje tisdag och torsdag. \nTid kl. 16.00-18.30 \nVälkomna!
URL:https://gardstensbostader.se/event/biljard-pingis-9/2029-10-02
LOCATION:Seniorlokalen i Gårdstenshuset\, Muskotgatan 10\, Angered\, 42441\, Sverige
GEO:57.8040901;12.0314352
X-APPLE-STRUCTURED-LOCATION;VALUE=URI;X-ADDRESS=Seniorlokalen i Gårdstenshuset Muskotgatan 10 Angered 42441 Sverige;X-APPLE-RADIUS=500;X-TITLE=Muskotgatan 10:geo:12.0314352,57.8040901
END:VEVENT
BEGIN:VEVENT
DTSTART;TZID=Europe/Stockholm:20291004T160000
DTEND;TZID=Europe/Stockholm:20291004T183000
DTSTAMP:20260421T164212
CREATED:20250127T144044Z
LAST-MODIFIED:20250127T144044Z
UID:10014743-1885824000-1885833000@gardstensbostader.se
SUMMARY:Biljard & pingis
DESCRIPTION:I seniorlokalen på Muskotgatan 10 spelas det både biljard och pingis varje tisdag och torsdag. \nTid kl. 16.00-18.30 \nVälkomna!
URL:https://gardstensbostader.se/event/biljard-pingis-9/2029-10-04
LOCATION:Seniorlokalen i Gårdstenshuset\, Muskotgatan 10\, Angered\, 42441\, Sverige
GEO:57.8040901;12.0314352
X-APPLE-STRUCTURED-LOCATION;VALUE=URI;X-ADDRESS=Seniorlokalen i Gårdstenshuset Muskotgatan 10 Angered 42441 Sverige;X-APPLE-RADIUS=500;X-TITLE=Muskotgatan 10:geo:12.0314352,57.8040901
END:VEVENT
BEGIN:VEVENT
DTSTART;TZID=Europe/Stockholm:20291008T180000
DTEND;TZID=Europe/Stockholm:20291008T190000
DTSTAMP:20260421T164212
CREATED:20250127T144434Z
LAST-MODIFIED:20250127T144434Z
UID:10015021-1886176800-1886180400@gardstensbostader.se
SUMMARY:Möte på finska
DESCRIPTION:Matti undervisar i evangeliet.\nVi sjunger lovsånger på finska och diskuterar tron på Gud.\nVälkomna måndagar kl. 18\nPlats: Seniorlokalen Muskotgatan 10 \nEVANKELIUMI ON ILOSANOMA\nTule Laulamaan\nJa Keskustelemaan\nUSKOSTA JUMALAAN\nMaanantaisin klo 18\nPuhutaan suomea\nTervetuloa!
URL:https://gardstensbostader.se/event/mote-pa-finska/2029-10-08
LOCATION:Seniorlokalen i Gårdstenshuset\, Muskotgatan 10\, Angered\, 42441\, Sverige
GEO:57.8040901;12.0314352
X-APPLE-STRUCTURED-LOCATION;VALUE=URI;X-ADDRESS=Seniorlokalen i Gårdstenshuset Muskotgatan 10 Angered 42441 Sverige;X-APPLE-RADIUS=500;X-TITLE=Muskotgatan 10:geo:12.0314352,57.8040901
END:VEVENT
BEGIN:VEVENT
DTSTART;TZID=Europe/Stockholm:20291009T160000
DTEND;TZID=Europe/Stockholm:20291009T183000
DTSTAMP:20260421T164212
CREATED:20250127T144044Z
LAST-MODIFIED:20250127T144044Z
UID:10014744-1886256000-1886265000@gardstensbostader.se
SUMMARY:Biljard & pingis
DESCRIPTION:I seniorlokalen på Muskotgatan 10 spelas det både biljard och pingis varje tisdag och torsdag. \nTid kl. 16.00-18.30 \nVälkomna!
URL:https://gardstensbostader.se/event/biljard-pingis-9/2029-10-09
LOCATION:Seniorlokalen i Gårdstenshuset\, Muskotgatan 10\, Angered\, 42441\, Sverige
GEO:57.8040901;12.0314352
X-APPLE-STRUCTURED-LOCATION;VALUE=URI;X-ADDRESS=Seniorlokalen i Gårdstenshuset Muskotgatan 10 Angered 42441 Sverige;X-APPLE-RADIUS=500;X-TITLE=Muskotgatan 10:geo:12.0314352,57.8040901
END:VEVENT
BEGIN:VEVENT
DTSTART;TZID=Europe/Stockholm:20291011T160000
DTEND;TZID=Europe/Stockholm:20291011T183000
DTSTAMP:20260421T164212
CREATED:20250127T144044Z
LAST-MODIFIED:20250127T144044Z
UID:10014745-1886428800-1886437800@gardstensbostader.se
SUMMARY:Biljard & pingis
DESCRIPTION:I seniorlokalen på Muskotgatan 10 spelas det både biljard och pingis varje tisdag och torsdag. \nTid kl. 16.00-18.30 \nVälkomna!
URL:https://gardstensbostader.se/event/biljard-pingis-9/2029-10-11
LOCATION:Seniorlokalen i Gårdstenshuset\, Muskotgatan 10\, Angered\, 42441\, Sverige
GEO:57.8040901;12.0314352
X-APPLE-STRUCTURED-LOCATION;VALUE=URI;X-ADDRESS=Seniorlokalen i Gårdstenshuset Muskotgatan 10 Angered 42441 Sverige;X-APPLE-RADIUS=500;X-TITLE=Muskotgatan 10:geo:12.0314352,57.8040901
END:VEVENT
BEGIN:VEVENT
DTSTART;TZID=Europe/Stockholm:20291015T180000
DTEND;TZID=Europe/Stockholm:20291015T190000
DTSTAMP:20260421T164212
CREATED:20250127T144434Z
LAST-MODIFIED:20250127T144434Z
UID:10015022-1886781600-1886785200@gardstensbostader.se
SUMMARY:Möte på finska
DESCRIPTION:Matti undervisar i evangeliet.\nVi sjunger lovsånger på finska och diskuterar tron på Gud.\nVälkomna måndagar kl. 18\nPlats: Seniorlokalen Muskotgatan 10 \nEVANKELIUMI ON ILOSANOMA\nTule Laulamaan\nJa Keskustelemaan\nUSKOSTA JUMALAAN\nMaanantaisin klo 18\nPuhutaan suomea\nTervetuloa!
URL:https://gardstensbostader.se/event/mote-pa-finska/2029-10-15
LOCATION:Seniorlokalen i Gårdstenshuset\, Muskotgatan 10\, Angered\, 42441\, Sverige
GEO:57.8040901;12.0314352
X-APPLE-STRUCTURED-LOCATION;VALUE=URI;X-ADDRESS=Seniorlokalen i Gårdstenshuset Muskotgatan 10 Angered 42441 Sverige;X-APPLE-RADIUS=500;X-TITLE=Muskotgatan 10:geo:12.0314352,57.8040901
END:VEVENT
BEGIN:VEVENT
DTSTART;TZID=Europe/Stockholm:20291016T160000
DTEND;TZID=Europe/Stockholm:20291016T183000
DTSTAMP:20260421T164212
CREATED:20250127T144044Z
LAST-MODIFIED:20250127T144044Z
UID:10014746-1886860800-1886869800@gardstensbostader.se
SUMMARY:Biljard & pingis
DESCRIPTION:I seniorlokalen på Muskotgatan 10 spelas det både biljard och pingis varje tisdag och torsdag. \nTid kl. 16.00-18.30 \nVälkomna!
URL:https://gardstensbostader.se/event/biljard-pingis-9/2029-10-16
LOCATION:Seniorlokalen i Gårdstenshuset\, Muskotgatan 10\, Angered\, 42441\, Sverige
GEO:57.8040901;12.0314352
X-APPLE-STRUCTURED-LOCATION;VALUE=URI;X-ADDRESS=Seniorlokalen i Gårdstenshuset Muskotgatan 10 Angered 42441 Sverige;X-APPLE-RADIUS=500;X-TITLE=Muskotgatan 10:geo:12.0314352,57.8040901
END:VEVENT
BEGIN:VEVENT
DTSTART;TZID=Europe/Stockholm:20291018T160000
DTEND;TZID=Europe/Stockholm:20291018T183000
DTSTAMP:20260421T164212
CREATED:20250127T144044Z
LAST-MODIFIED:20250127T144044Z
UID:10014747-1887033600-1887042600@gardstensbostader.se
SUMMARY:Biljard & pingis
DESCRIPTION:I seniorlokalen på Muskotgatan 10 spelas det både biljard och pingis varje tisdag och torsdag. \nTid kl. 16.00-18.30 \nVälkomna!
URL:https://gardstensbostader.se/event/biljard-pingis-9/2029-10-18
LOCATION:Seniorlokalen i Gårdstenshuset\, Muskotgatan 10\, Angered\, 42441\, Sverige
GEO:57.8040901;12.0314352
X-APPLE-STRUCTURED-LOCATION;VALUE=URI;X-ADDRESS=Seniorlokalen i Gårdstenshuset Muskotgatan 10 Angered 42441 Sverige;X-APPLE-RADIUS=500;X-TITLE=Muskotgatan 10:geo:12.0314352,57.8040901
END:VEVENT
BEGIN:VEVENT
DTSTART;TZID=Europe/Stockholm:20291022T180000
DTEND;TZID=Europe/Stockholm:20291022T190000
DTSTAMP:20260421T164212
CREATED:20250127T144434Z
LAST-MODIFIED:20250127T144434Z
UID:10015023-1887386400-1887390000@gardstensbostader.se
SUMMARY:Möte på finska
DESCRIPTION:Matti undervisar i evangeliet.\nVi sjunger lovsånger på finska och diskuterar tron på Gud.\nVälkomna måndagar kl. 18\nPlats: Seniorlokalen Muskotgatan 10 \nEVANKELIUMI ON ILOSANOMA\nTule Laulamaan\nJa Keskustelemaan\nUSKOSTA JUMALAAN\nMaanantaisin klo 18\nPuhutaan suomea\nTervetuloa!
URL:https://gardstensbostader.se/event/mote-pa-finska/2029-10-22
LOCATION:Seniorlokalen i Gårdstenshuset\, Muskotgatan 10\, Angered\, 42441\, Sverige
GEO:57.8040901;12.0314352
X-APPLE-STRUCTURED-LOCATION;VALUE=URI;X-ADDRESS=Seniorlokalen i Gårdstenshuset Muskotgatan 10 Angered 42441 Sverige;X-APPLE-RADIUS=500;X-TITLE=Muskotgatan 10:geo:12.0314352,57.8040901
END:VEVENT
BEGIN:VEVENT
DTSTART;TZID=Europe/Stockholm:20291023T160000
DTEND;TZID=Europe/Stockholm:20291023T183000
DTSTAMP:20260421T164212
CREATED:20250127T144044Z
LAST-MODIFIED:20250127T144044Z
UID:10014748-1887465600-1887474600@gardstensbostader.se
SUMMARY:Biljard & pingis
DESCRIPTION:I seniorlokalen på Muskotgatan 10 spelas det både biljard och pingis varje tisdag och torsdag. \nTid kl. 16.00-18.30 \nVälkomna!
URL:https://gardstensbostader.se/event/biljard-pingis-9/2029-10-23
LOCATION:Seniorlokalen i Gårdstenshuset\, Muskotgatan 10\, Angered\, 42441\, Sverige
GEO:57.8040901;12.0314352
X-APPLE-STRUCTURED-LOCATION;VALUE=URI;X-ADDRESS=Seniorlokalen i Gårdstenshuset Muskotgatan 10 Angered 42441 Sverige;X-APPLE-RADIUS=500;X-TITLE=Muskotgatan 10:geo:12.0314352,57.8040901
END:VEVENT
BEGIN:VEVENT
DTSTART;TZID=Europe/Stockholm:20291025T160000
DTEND;TZID=Europe/Stockholm:20291025T183000
DTSTAMP:20260421T164212
CREATED:20250127T144044Z
LAST-MODIFIED:20250127T144044Z
UID:10014749-1887638400-1887647400@gardstensbostader.se
SUMMARY:Biljard & pingis
DESCRIPTION:I seniorlokalen på Muskotgatan 10 spelas det både biljard och pingis varje tisdag och torsdag. \nTid kl. 16.00-18.30 \nVälkomna!
URL:https://gardstensbostader.se/event/biljard-pingis-9/2029-10-25
LOCATION:Seniorlokalen i Gårdstenshuset\, Muskotgatan 10\, Angered\, 42441\, Sverige
GEO:57.8040901;12.0314352
X-APPLE-STRUCTURED-LOCATION;VALUE=URI;X-ADDRESS=Seniorlokalen i Gårdstenshuset Muskotgatan 10 Angered 42441 Sverige;X-APPLE-RADIUS=500;X-TITLE=Muskotgatan 10:geo:12.0314352,57.8040901
END:VEVENT
BEGIN:VEVENT
DTSTART;TZID=Europe/Stockholm:20291029T180000
DTEND;TZID=Europe/Stockholm:20291029T190000
DTSTAMP:20260421T164212
CREATED:20250127T144434Z
LAST-MODIFIED:20250127T144434Z
UID:10015024-1887991200-1887994800@gardstensbostader.se
SUMMARY:Möte på finska
DESCRIPTION:Matti undervisar i evangeliet.\nVi sjunger lovsånger på finska och diskuterar tron på Gud.\nVälkomna måndagar kl. 18\nPlats: Seniorlokalen Muskotgatan 10 \nEVANKELIUMI ON ILOSANOMA\nTule Laulamaan\nJa Keskustelemaan\nUSKOSTA JUMALAAN\nMaanantaisin klo 18\nPuhutaan suomea\nTervetuloa!
URL:https://gardstensbostader.se/event/mote-pa-finska/2029-10-29
LOCATION:Seniorlokalen i Gårdstenshuset\, Muskotgatan 10\, Angered\, 42441\, Sverige
GEO:57.8040901;12.0314352
X-APPLE-STRUCTURED-LOCATION;VALUE=URI;X-ADDRESS=Seniorlokalen i Gårdstenshuset Muskotgatan 10 Angered 42441 Sverige;X-APPLE-RADIUS=500;X-TITLE=Muskotgatan 10:geo:12.0314352,57.8040901
END:VEVENT
BEGIN:VEVENT
DTSTART;TZID=Europe/Stockholm:20291030T160000
DTEND;TZID=Europe/Stockholm:20291030T183000
DTSTAMP:20260421T164212
CREATED:20250127T144044Z
LAST-MODIFIED:20250127T144044Z
UID:10014750-1888070400-1888079400@gardstensbostader.se
SUMMARY:Biljard & pingis
DESCRIPTION:I seniorlokalen på Muskotgatan 10 spelas det både biljard och pingis varje tisdag och torsdag. \nTid kl. 16.00-18.30 \nVälkomna!
URL:https://gardstensbostader.se/event/biljard-pingis-9/2029-10-30
LOCATION:Seniorlokalen i Gårdstenshuset\, Muskotgatan 10\, Angered\, 42441\, Sverige
GEO:57.8040901;12.0314352
X-APPLE-STRUCTURED-LOCATION;VALUE=URI;X-ADDRESS=Seniorlokalen i Gårdstenshuset Muskotgatan 10 Angered 42441 Sverige;X-APPLE-RADIUS=500;X-TITLE=Muskotgatan 10:geo:12.0314352,57.8040901
END:VEVENT
BEGIN:VEVENT
DTSTART;TZID=Europe/Stockholm:20291101T160000
DTEND;TZID=Europe/Stockholm:20291101T183000
DTSTAMP:20260421T164212
CREATED:20250127T144044Z
LAST-MODIFIED:20250127T144044Z
UID:10014751-1888243200-1888252200@gardstensbostader.se
SUMMARY:Biljard & pingis
DESCRIPTION:I seniorlokalen på Muskotgatan 10 spelas det både biljard och pingis varje tisdag och torsdag. \nTid kl. 16.00-18.30 \nVälkomna!
URL:https://gardstensbostader.se/event/biljard-pingis-9/2029-11-01
LOCATION:Seniorlokalen i Gårdstenshuset\, Muskotgatan 10\, Angered\, 42441\, Sverige
GEO:57.8040901;12.0314352
X-APPLE-STRUCTURED-LOCATION;VALUE=URI;X-ADDRESS=Seniorlokalen i Gårdstenshuset Muskotgatan 10 Angered 42441 Sverige;X-APPLE-RADIUS=500;X-TITLE=Muskotgatan 10:geo:12.0314352,57.8040901
END:VEVENT
END:VCALENDAR