BEGIN:VCALENDAR
VERSION:2.0
PRODID:-// - ECPv6.15.18//NONSGML v1.0//EN
CALSCALE:GREGORIAN
METHOD:PUBLISH
X-ORIGINAL-URL:https://gardstensbostader.se
X-WR-CALDESC:Händelser för 
REFRESH-INTERVAL;VALUE=DURATION:PT1H
X-Robots-Tag:noindex
X-PUBLISHED-TTL:PT1H
BEGIN:VTIMEZONE
TZID:Europe/Stockholm
BEGIN:DAYLIGHT
TZOFFSETFROM:+0100
TZOFFSETTO:+0200
TZNAME:CEST
DTSTART:20250330T010000
END:DAYLIGHT
BEGIN:STANDARD
TZOFFSETFROM:+0200
TZOFFSETTO:+0100
TZNAME:CET
DTSTART:20251026T010000
END:STANDARD
BEGIN:DAYLIGHT
TZOFFSETFROM:+0100
TZOFFSETTO:+0200
TZNAME:CEST
DTSTART:20260329T010000
END:DAYLIGHT
BEGIN:STANDARD
TZOFFSETFROM:+0200
TZOFFSETTO:+0100
TZNAME:CET
DTSTART:20261025T010000
END:STANDARD
BEGIN:DAYLIGHT
TZOFFSETFROM:+0100
TZOFFSETTO:+0200
TZNAME:CEST
DTSTART:20270328T010000
END:DAYLIGHT
BEGIN:STANDARD
TZOFFSETFROM:+0200
TZOFFSETTO:+0100
TZNAME:CET
DTSTART:20271031T010000
END:STANDARD
END:VTIMEZONE
BEGIN:VEVENT
DTSTART;TZID=Europe/Stockholm:20260426T130000
DTEND;TZID=Europe/Stockholm:20260426T150000
DTSTAMP:20260423T220133
CREATED:20260121T170328Z
LAST-MODIFIED:20260121T170805Z
UID:10018739-1777208400-1777215600@gardstensbostader.se
SUMMARY:Träna Capoeira på söndagar
DESCRIPTION:Välkomna på söndagar och träna Capoeira. \nKl. 13.00-14.00\, från 10 år\, Basic aktobatik\nKl. 14.00-15.00\, Girls only\, från 12 år \nLäs mer om avgifter mm på Alliansens hemsida: Gårdstens Kampsports Allians
URL:https://gardstensbostader.se/event/trana-capoeira-pa-sondagar-2/2026-04-26
LOCATION:Gårdstens kampsportcenter\, Salviagatan 54\, Angered
END:VEVENT
BEGIN:VEVENT
DTSTART;TZID=Europe/Stockholm:20260503T130000
DTEND;TZID=Europe/Stockholm:20260503T150000
DTSTAMP:20260423T220133
CREATED:20260121T170328Z
LAST-MODIFIED:20260121T170805Z
UID:10018740-1777813200-1777820400@gardstensbostader.se
SUMMARY:Träna Capoeira på söndagar
DESCRIPTION:Välkomna på söndagar och träna Capoeira. \nKl. 13.00-14.00\, från 10 år\, Basic aktobatik\nKl. 14.00-15.00\, Girls only\, från 12 år \nLäs mer om avgifter mm på Alliansens hemsida: Gårdstens Kampsports Allians
URL:https://gardstensbostader.se/event/trana-capoeira-pa-sondagar-2/2026-05-03
LOCATION:Gårdstens kampsportcenter\, Salviagatan 54\, Angered
END:VEVENT
BEGIN:VEVENT
DTSTART;TZID=Europe/Stockholm:20260510T130000
DTEND;TZID=Europe/Stockholm:20260510T150000
DTSTAMP:20260423T220133
CREATED:20260121T170328Z
LAST-MODIFIED:20260121T170805Z
UID:10018741-1778418000-1778425200@gardstensbostader.se
SUMMARY:Träna Capoeira på söndagar
DESCRIPTION:Välkomna på söndagar och träna Capoeira. \nKl. 13.00-14.00\, från 10 år\, Basic aktobatik\nKl. 14.00-15.00\, Girls only\, från 12 år \nLäs mer om avgifter mm på Alliansens hemsida: Gårdstens Kampsports Allians
URL:https://gardstensbostader.se/event/trana-capoeira-pa-sondagar-2/2026-05-10
LOCATION:Gårdstens kampsportcenter\, Salviagatan 54\, Angered
END:VEVENT
BEGIN:VEVENT
DTSTART;TZID=Europe/Stockholm:20260517T130000
DTEND;TZID=Europe/Stockholm:20260517T150000
DTSTAMP:20260423T220134
CREATED:20260121T170328Z
LAST-MODIFIED:20260121T170805Z
UID:10018742-1779022800-1779030000@gardstensbostader.se
SUMMARY:Träna Capoeira på söndagar
DESCRIPTION:Välkomna på söndagar och träna Capoeira. \nKl. 13.00-14.00\, från 10 år\, Basic aktobatik\nKl. 14.00-15.00\, Girls only\, från 12 år \nLäs mer om avgifter mm på Alliansens hemsida: Gårdstens Kampsports Allians
URL:https://gardstensbostader.se/event/trana-capoeira-pa-sondagar-2/2026-05-17
LOCATION:Gårdstens kampsportcenter\, Salviagatan 54\, Angered
END:VEVENT
BEGIN:VEVENT
DTSTART;TZID=Europe/Stockholm:20260524T130000
DTEND;TZID=Europe/Stockholm:20260524T150000
DTSTAMP:20260423T220134
CREATED:20260121T170328Z
LAST-MODIFIED:20260121T170805Z
UID:10018743-1779627600-1779634800@gardstensbostader.se
SUMMARY:Träna Capoeira på söndagar
DESCRIPTION:Välkomna på söndagar och träna Capoeira. \nKl. 13.00-14.00\, från 10 år\, Basic aktobatik\nKl. 14.00-15.00\, Girls only\, från 12 år \nLäs mer om avgifter mm på Alliansens hemsida: Gårdstens Kampsports Allians
URL:https://gardstensbostader.se/event/trana-capoeira-pa-sondagar-2/2026-05-24
LOCATION:Gårdstens kampsportcenter\, Salviagatan 54\, Angered
END:VEVENT
BEGIN:VEVENT
DTSTART;TZID=Europe/Stockholm:20260531T130000
DTEND;TZID=Europe/Stockholm:20260531T150000
DTSTAMP:20260423T220134
CREATED:20260121T170328Z
LAST-MODIFIED:20260121T170805Z
UID:10018744-1780232400-1780239600@gardstensbostader.se
SUMMARY:Träna Capoeira på söndagar
DESCRIPTION:Välkomna på söndagar och träna Capoeira. \nKl. 13.00-14.00\, från 10 år\, Basic aktobatik\nKl. 14.00-15.00\, Girls only\, från 12 år \nLäs mer om avgifter mm på Alliansens hemsida: Gårdstens Kampsports Allians
URL:https://gardstensbostader.se/event/trana-capoeira-pa-sondagar-2/2026-05-31
LOCATION:Gårdstens kampsportcenter\, Salviagatan 54\, Angered
END:VEVENT
BEGIN:VEVENT
DTSTART;TZID=Europe/Stockholm:20260607T130000
DTEND;TZID=Europe/Stockholm:20260607T150000
DTSTAMP:20260423T220134
CREATED:20260121T170328Z
LAST-MODIFIED:20260121T170805Z
UID:10018745-1780837200-1780844400@gardstensbostader.se
SUMMARY:Träna Capoeira på söndagar
DESCRIPTION:Välkomna på söndagar och träna Capoeira. \nKl. 13.00-14.00\, från 10 år\, Basic aktobatik\nKl. 14.00-15.00\, Girls only\, från 12 år \nLäs mer om avgifter mm på Alliansens hemsida: Gårdstens Kampsports Allians
URL:https://gardstensbostader.se/event/trana-capoeira-pa-sondagar-2/2026-06-07
LOCATION:Gårdstens kampsportcenter\, Salviagatan 54\, Angered
END:VEVENT
END:VCALENDAR