BEGIN:VCALENDAR
VERSION:2.0
PRODID:-// - ECPv6.15.18//NONSGML v1.0//EN
CALSCALE:GREGORIAN
METHOD:PUBLISH
X-ORIGINAL-URL:https://gardstensbostader.se
X-WR-CALDESC:Händelser för 
REFRESH-INTERVAL;VALUE=DURATION:PT1H
X-Robots-Tag:noindex
X-PUBLISHED-TTL:PT1H
BEGIN:VTIMEZONE
TZID:Europe/Stockholm
BEGIN:DAYLIGHT
TZOFFSETFROM:+0100
TZOFFSETTO:+0200
TZNAME:CEST
DTSTART:20240331T010000
END:DAYLIGHT
BEGIN:STANDARD
TZOFFSETFROM:+0200
TZOFFSETTO:+0100
TZNAME:CET
DTSTART:20241027T010000
END:STANDARD
BEGIN:DAYLIGHT
TZOFFSETFROM:+0100
TZOFFSETTO:+0200
TZNAME:CEST
DTSTART:20250330T010000
END:DAYLIGHT
BEGIN:STANDARD
TZOFFSETFROM:+0200
TZOFFSETTO:+0100
TZNAME:CET
DTSTART:20251026T010000
END:STANDARD
BEGIN:DAYLIGHT
TZOFFSETFROM:+0100
TZOFFSETTO:+0200
TZNAME:CEST
DTSTART:20260329T010000
END:DAYLIGHT
BEGIN:STANDARD
TZOFFSETFROM:+0200
TZOFFSETTO:+0100
TZNAME:CET
DTSTART:20261025T010000
END:STANDARD
BEGIN:DAYLIGHT
TZOFFSETFROM:+0100
TZOFFSETTO:+0200
TZNAME:CEST
DTSTART:20270328T010000
END:DAYLIGHT
BEGIN:STANDARD
TZOFFSETFROM:+0200
TZOFFSETTO:+0100
TZNAME:CET
DTSTART:20271031T010000
END:STANDARD
END:VTIMEZONE
BEGIN:VEVENT
DTSTART;TZID=Europe/Stockholm:20260127T123000
DTEND;TZID=Europe/Stockholm:20260127T143000
DTSTAMP:20260424T021708
CREATED:20250814T110647Z
LAST-MODIFIED:20250814T110647Z
UID:10018342-1769517000-1769524200@gardstensbostader.se
SUMMARY:Teoripass Senior Sport School
DESCRIPTION:För dig som anmält dig till Senior Sport School arrangeras teoripass följande dag och tid: \nKostnad för att delta i hela skolan är 300 kr. \nTisdag 23 september Kl. 12:30–14:30\nTisdag 30 september Kl. 12:30–14:30\nTisdag 7 oktober Kl. 12:30–14:30\nTisdag 14 oktober Kl. 12:30–14:30\nTisdag 21 oktober Kl. 12:30–14:30\nTisdag 28 oktober Kl. 12:30–14:30 \nVälkommen
URL:https://gardstensbostader.se/event/teoripass-senior-sport-school/2026-01-27
LOCATION:Kulturrummet Gårdsten\, Gårdsten Centrum\, Angered\, 424 41\, Sweden
END:VEVENT
BEGIN:VEVENT
DTSTART;TZID=Europe/Stockholm:20260120T123000
DTEND;TZID=Europe/Stockholm:20260120T143000
DTSTAMP:20260424T021708
CREATED:20250814T110647Z
LAST-MODIFIED:20250814T110647Z
UID:10018341-1768912200-1768919400@gardstensbostader.se
SUMMARY:Teoripass Senior Sport School
DESCRIPTION:För dig som anmält dig till Senior Sport School arrangeras teoripass följande dag och tid: \nKostnad för att delta i hela skolan är 300 kr. \nTisdag 23 september Kl. 12:30–14:30\nTisdag 30 september Kl. 12:30–14:30\nTisdag 7 oktober Kl. 12:30–14:30\nTisdag 14 oktober Kl. 12:30–14:30\nTisdag 21 oktober Kl. 12:30–14:30\nTisdag 28 oktober Kl. 12:30–14:30 \nVälkommen
URL:https://gardstensbostader.se/event/teoripass-senior-sport-school/2026-01-20
LOCATION:Kulturrummet Gårdsten\, Gårdsten Centrum\, Angered\, 424 41\, Sweden
END:VEVENT
BEGIN:VEVENT
DTSTART;TZID=Europe/Stockholm:20260113T123000
DTEND;TZID=Europe/Stockholm:20260113T143000
DTSTAMP:20260424T021709
CREATED:20250814T110647Z
LAST-MODIFIED:20250814T110647Z
UID:10018340-1768307400-1768314600@gardstensbostader.se
SUMMARY:Teoripass Senior Sport School
DESCRIPTION:För dig som anmält dig till Senior Sport School arrangeras teoripass följande dag och tid: \nKostnad för att delta i hela skolan är 300 kr. \nTisdag 23 september Kl. 12:30–14:30\nTisdag 30 september Kl. 12:30–14:30\nTisdag 7 oktober Kl. 12:30–14:30\nTisdag 14 oktober Kl. 12:30–14:30\nTisdag 21 oktober Kl. 12:30–14:30\nTisdag 28 oktober Kl. 12:30–14:30 \nVälkommen
URL:https://gardstensbostader.se/event/teoripass-senior-sport-school/2026-01-13
LOCATION:Kulturrummet Gårdsten\, Gårdsten Centrum\, Angered\, 424 41\, Sweden
END:VEVENT
BEGIN:VEVENT
DTSTART;TZID=Europe/Stockholm:20260106T123000
DTEND;TZID=Europe/Stockholm:20260106T143000
DTSTAMP:20260424T021709
CREATED:20250814T110647Z
LAST-MODIFIED:20250814T110647Z
UID:10018339-1767702600-1767709800@gardstensbostader.se
SUMMARY:Teoripass Senior Sport School
DESCRIPTION:För dig som anmält dig till Senior Sport School arrangeras teoripass följande dag och tid: \nKostnad för att delta i hela skolan är 300 kr. \nTisdag 23 september Kl. 12:30–14:30\nTisdag 30 september Kl. 12:30–14:30\nTisdag 7 oktober Kl. 12:30–14:30\nTisdag 14 oktober Kl. 12:30–14:30\nTisdag 21 oktober Kl. 12:30–14:30\nTisdag 28 oktober Kl. 12:30–14:30 \nVälkommen
URL:https://gardstensbostader.se/event/teoripass-senior-sport-school/2026-01-06
LOCATION:Kulturrummet Gårdsten\, Gårdsten Centrum\, Angered\, 424 41\, Sweden
END:VEVENT
BEGIN:VEVENT
DTSTART;TZID=Europe/Stockholm:20251230T123000
DTEND;TZID=Europe/Stockholm:20251230T143000
DTSTAMP:20260424T021709
CREATED:20250814T110647Z
LAST-MODIFIED:20250814T110647Z
UID:10018338-1767097800-1767105000@gardstensbostader.se
SUMMARY:Teoripass Senior Sport School
DESCRIPTION:För dig som anmält dig till Senior Sport School arrangeras teoripass följande dag och tid: \nKostnad för att delta i hela skolan är 300 kr. \nTisdag 23 september Kl. 12:30–14:30\nTisdag 30 september Kl. 12:30–14:30\nTisdag 7 oktober Kl. 12:30–14:30\nTisdag 14 oktober Kl. 12:30–14:30\nTisdag 21 oktober Kl. 12:30–14:30\nTisdag 28 oktober Kl. 12:30–14:30 \nVälkommen
URL:https://gardstensbostader.se/event/teoripass-senior-sport-school/2025-12-30
LOCATION:Kulturrummet Gårdsten\, Gårdsten Centrum\, Angered\, 424 41\, Sweden
END:VEVENT
BEGIN:VEVENT
DTSTART;TZID=Europe/Stockholm:20251223T123000
DTEND;TZID=Europe/Stockholm:20251223T143000
DTSTAMP:20260424T021709
CREATED:20250814T110647Z
LAST-MODIFIED:20250814T110647Z
UID:10018337-1766493000-1766500200@gardstensbostader.se
SUMMARY:Teoripass Senior Sport School
DESCRIPTION:För dig som anmält dig till Senior Sport School arrangeras teoripass följande dag och tid: \nKostnad för att delta i hela skolan är 300 kr. \nTisdag 23 september Kl. 12:30–14:30\nTisdag 30 september Kl. 12:30–14:30\nTisdag 7 oktober Kl. 12:30–14:30\nTisdag 14 oktober Kl. 12:30–14:30\nTisdag 21 oktober Kl. 12:30–14:30\nTisdag 28 oktober Kl. 12:30–14:30 \nVälkommen
URL:https://gardstensbostader.se/event/teoripass-senior-sport-school/2025-12-23
LOCATION:Kulturrummet Gårdsten\, Gårdsten Centrum\, Angered\, 424 41\, Sweden
END:VEVENT
BEGIN:VEVENT
DTSTART;TZID=Europe/Stockholm:20251216T140000
DTEND;TZID=Europe/Stockholm:20251216T163000
DTSTAMP:20260424T021709
CREATED:20250901T081657Z
LAST-MODIFIED:20250901T081657Z
UID:10018474-1765893600-1765902600@gardstensbostader.se
SUMMARY:Testa att DJ:a eller spela med dina kompisar
DESCRIPTION:Öppen verksamhet för dig som vill göra något kul: mixa musik som DJ\, spela spel eller bidra med egna idéer. Din plats – var med och forma den!\nTisdagar kl. 14:00–16:30.
URL:https://gardstensbostader.se/event/testa-att-dja-eller-spela-med-dina-kompisar/2025-12-16
LOCATION:Kulturrummet Gårdsten\, Gårdsten Centrum\, Angered\, 424 41\, Sweden
END:VEVENT
BEGIN:VEVENT
DTSTART;TZID=Europe/Stockholm:20251216T123000
DTEND;TZID=Europe/Stockholm:20251216T143000
DTSTAMP:20260424T021709
CREATED:20250814T110647Z
LAST-MODIFIED:20250814T110647Z
UID:10018336-1765888200-1765895400@gardstensbostader.se
SUMMARY:Teoripass Senior Sport School
DESCRIPTION:För dig som anmält dig till Senior Sport School arrangeras teoripass följande dag och tid: \nKostnad för att delta i hela skolan är 300 kr. \nTisdag 23 september Kl. 12:30–14:30\nTisdag 30 september Kl. 12:30–14:30\nTisdag 7 oktober Kl. 12:30–14:30\nTisdag 14 oktober Kl. 12:30–14:30\nTisdag 21 oktober Kl. 12:30–14:30\nTisdag 28 oktober Kl. 12:30–14:30 \nVälkommen
URL:https://gardstensbostader.se/event/teoripass-senior-sport-school/2025-12-16
LOCATION:Kulturrummet Gårdsten\, Gårdsten Centrum\, Angered\, 424 41\, Sweden
END:VEVENT
BEGIN:VEVENT
DTSTART;TZID=Europe/Stockholm:20251215T100000
DTEND;TZID=Europe/Stockholm:20251215T120000
DTSTAMP:20260424T021709
CREATED:20250901T082304Z
LAST-MODIFIED:20250901T082304Z
UID:10018501-1765792800-1765800000@gardstensbostader.se
SUMMARY:Seniorklubb
DESCRIPTION:För dig som vill träffas\, spela schack\, läsa eller bara ha det trevligt tillsammans.\nEn mötesplats för avkoppling och gemenskap.\nTrivsam mötesplats för social samvaro\, spel\, läsning eller bara avkoppling. Du kan även komma med egna idéer för aktiviteter.\nMåndagar kl. 10:00–12:00
URL:https://gardstensbostader.se/event/seniorklubb/2025-12-15
LOCATION:Kulturrummet Gårdsten\, Gårdsten Centrum\, Angered\, 424 41\, Sweden
END:VEVENT
BEGIN:VEVENT
DTSTART;TZID=Europe/Stockholm:20251209T140000
DTEND;TZID=Europe/Stockholm:20251209T163000
DTSTAMP:20260424T021709
CREATED:20250901T081657Z
LAST-MODIFIED:20250901T081657Z
UID:10018473-1765288800-1765297800@gardstensbostader.se
SUMMARY:Testa att DJ:a eller spela med dina kompisar
DESCRIPTION:Öppen verksamhet för dig som vill göra något kul: mixa musik som DJ\, spela spel eller bidra med egna idéer. Din plats – var med och forma den!\nTisdagar kl. 14:00–16:30.
URL:https://gardstensbostader.se/event/testa-att-dja-eller-spela-med-dina-kompisar/2025-12-09
LOCATION:Kulturrummet Gårdsten\, Gårdsten Centrum\, Angered\, 424 41\, Sweden
END:VEVENT
BEGIN:VEVENT
DTSTART;TZID=Europe/Stockholm:20251209T123000
DTEND;TZID=Europe/Stockholm:20251209T143000
DTSTAMP:20260424T021709
CREATED:20250814T110647Z
LAST-MODIFIED:20250814T110647Z
UID:10018335-1765283400-1765290600@gardstensbostader.se
SUMMARY:Teoripass Senior Sport School
DESCRIPTION:För dig som anmält dig till Senior Sport School arrangeras teoripass följande dag och tid: \nKostnad för att delta i hela skolan är 300 kr. \nTisdag 23 september Kl. 12:30–14:30\nTisdag 30 september Kl. 12:30–14:30\nTisdag 7 oktober Kl. 12:30–14:30\nTisdag 14 oktober Kl. 12:30–14:30\nTisdag 21 oktober Kl. 12:30–14:30\nTisdag 28 oktober Kl. 12:30–14:30 \nVälkommen
URL:https://gardstensbostader.se/event/teoripass-senior-sport-school/2025-12-09
LOCATION:Kulturrummet Gårdsten\, Gårdsten Centrum\, Angered\, 424 41\, Sweden
END:VEVENT
BEGIN:VEVENT
DTSTART;TZID=Europe/Stockholm:20251208T100000
DTEND;TZID=Europe/Stockholm:20251208T120000
DTSTAMP:20260424T021709
CREATED:20250901T082304Z
LAST-MODIFIED:20250901T082304Z
UID:10018500-1765188000-1765195200@gardstensbostader.se
SUMMARY:Seniorklubb
DESCRIPTION:För dig som vill träffas\, spela schack\, läsa eller bara ha det trevligt tillsammans.\nEn mötesplats för avkoppling och gemenskap.\nTrivsam mötesplats för social samvaro\, spel\, läsning eller bara avkoppling. Du kan även komma med egna idéer för aktiviteter.\nMåndagar kl. 10:00–12:00
URL:https://gardstensbostader.se/event/seniorklubb/2025-12-08
LOCATION:Kulturrummet Gårdsten\, Gårdsten Centrum\, Angered\, 424 41\, Sweden
END:VEVENT
BEGIN:VEVENT
DTSTART;TZID=Europe/Stockholm:20251203T170000
DTEND;TZID=Europe/Stockholm:20251203T190000
DTSTAMP:20260424T021709
CREATED:20251202T085140Z
LAST-MODIFIED:20251202T085140Z
UID:10018614-1764781200-1764788400@gardstensbostader.se
SUMMARY:Julaktivitet i Gårdsten Centrum
DESCRIPTION:Dag: onsdag den 3 december\, börjar kl. 17.00\n\n\nAlla bostadsbolag önskar er varmt välkomna till jul i Gårdsten. \n\n\nUpplev julstämningen med oss och passa på att delta i någon av våra julaktiviteter som anordnas gemensamt av alla bostadsbolagen i Gårdsten.\n\n\nVälkomna!
URL:https://gardstensbostader.se/event/julaktivitet-i-gardsten-centrum
LOCATION:Kulturrummet Gårdsten\, Gårdsten Centrum\, Angered\, 424 41\, Sweden
ORGANIZER;CN="G%C3%A5rdstensbost%C3%A4der":MAILTO:gbg@gardstensbostader.se
END:VEVENT
BEGIN:VEVENT
DTSTART;TZID=Europe/Stockholm:20251202T140000
DTEND;TZID=Europe/Stockholm:20251202T163000
DTSTAMP:20260424T021709
CREATED:20250901T081657Z
LAST-MODIFIED:20250901T081657Z
UID:10018472-1764684000-1764693000@gardstensbostader.se
SUMMARY:Testa att DJ:a eller spela med dina kompisar
DESCRIPTION:Öppen verksamhet för dig som vill göra något kul: mixa musik som DJ\, spela spel eller bidra med egna idéer. Din plats – var med och forma den!\nTisdagar kl. 14:00–16:30.
URL:https://gardstensbostader.se/event/testa-att-dja-eller-spela-med-dina-kompisar/2025-12-02
LOCATION:Kulturrummet Gårdsten\, Gårdsten Centrum\, Angered\, 424 41\, Sweden
END:VEVENT
BEGIN:VEVENT
DTSTART;TZID=Europe/Stockholm:20251202T123000
DTEND;TZID=Europe/Stockholm:20251202T143000
DTSTAMP:20260424T021709
CREATED:20250814T110647Z
LAST-MODIFIED:20250814T110647Z
UID:10018334-1764678600-1764685800@gardstensbostader.se
SUMMARY:Teoripass Senior Sport School
DESCRIPTION:För dig som anmält dig till Senior Sport School arrangeras teoripass följande dag och tid: \nKostnad för att delta i hela skolan är 300 kr. \nTisdag 23 september Kl. 12:30–14:30\nTisdag 30 september Kl. 12:30–14:30\nTisdag 7 oktober Kl. 12:30–14:30\nTisdag 14 oktober Kl. 12:30–14:30\nTisdag 21 oktober Kl. 12:30–14:30\nTisdag 28 oktober Kl. 12:30–14:30 \nVälkommen
URL:https://gardstensbostader.se/event/teoripass-senior-sport-school/2025-12-02
LOCATION:Kulturrummet Gårdsten\, Gårdsten Centrum\, Angered\, 424 41\, Sweden
END:VEVENT
BEGIN:VEVENT
DTSTART;TZID=Europe/Stockholm:20251201T100000
DTEND;TZID=Europe/Stockholm:20251201T120000
DTSTAMP:20260424T021709
CREATED:20250901T082304Z
LAST-MODIFIED:20250901T082304Z
UID:10018499-1764583200-1764590400@gardstensbostader.se
SUMMARY:Seniorklubb
DESCRIPTION:För dig som vill träffas\, spela schack\, läsa eller bara ha det trevligt tillsammans.\nEn mötesplats för avkoppling och gemenskap.\nTrivsam mötesplats för social samvaro\, spel\, läsning eller bara avkoppling. Du kan även komma med egna idéer för aktiviteter.\nMåndagar kl. 10:00–12:00
URL:https://gardstensbostader.se/event/seniorklubb/2025-12-01
LOCATION:Kulturrummet Gårdsten\, Gårdsten Centrum\, Angered\, 424 41\, Sweden
END:VEVENT
BEGIN:VEVENT
DTSTART;TZID=Europe/Stockholm:20251125T140000
DTEND;TZID=Europe/Stockholm:20251125T163000
DTSTAMP:20260424T021709
CREATED:20250901T081657Z
LAST-MODIFIED:20250901T081657Z
UID:10018471-1764079200-1764088200@gardstensbostader.se
SUMMARY:Testa att DJ:a eller spela med dina kompisar
DESCRIPTION:Öppen verksamhet för dig som vill göra något kul: mixa musik som DJ\, spela spel eller bidra med egna idéer. Din plats – var med och forma den!\nTisdagar kl. 14:00–16:30.
URL:https://gardstensbostader.se/event/testa-att-dja-eller-spela-med-dina-kompisar/2025-11-25
LOCATION:Kulturrummet Gårdsten\, Gårdsten Centrum\, Angered\, 424 41\, Sweden
END:VEVENT
BEGIN:VEVENT
DTSTART;TZID=Europe/Stockholm:20251125T123000
DTEND;TZID=Europe/Stockholm:20251125T143000
DTSTAMP:20260424T021709
CREATED:20250814T110647Z
LAST-MODIFIED:20250814T110647Z
UID:10018333-1764073800-1764081000@gardstensbostader.se
SUMMARY:Teoripass Senior Sport School
DESCRIPTION:För dig som anmält dig till Senior Sport School arrangeras teoripass följande dag och tid: \nKostnad för att delta i hela skolan är 300 kr. \nTisdag 23 september Kl. 12:30–14:30\nTisdag 30 september Kl. 12:30–14:30\nTisdag 7 oktober Kl. 12:30–14:30\nTisdag 14 oktober Kl. 12:30–14:30\nTisdag 21 oktober Kl. 12:30–14:30\nTisdag 28 oktober Kl. 12:30–14:30 \nVälkommen
URL:https://gardstensbostader.se/event/teoripass-senior-sport-school/2025-11-25
LOCATION:Kulturrummet Gårdsten\, Gårdsten Centrum\, Angered\, 424 41\, Sweden
END:VEVENT
BEGIN:VEVENT
DTSTART;TZID=Europe/Stockholm:20251124T150000
DTEND;TZID=Europe/Stockholm:20251124T180000
DTSTAMP:20260424T021709
CREATED:20250829T102609Z
LAST-MODIFIED:20250901T133158Z
UID:10018482-1763996400-1764007200@gardstensbostader.se
SUMMARY:Musikproduktion med Kulturskolan
DESCRIPTION:Prova på att skapa egen musik med appen GarageBand.\nRytmer\, melodier och loopar. Lekfullt\, kreativt och inspirerande\, lett av Kulturskolans pedagoger.\nMåndagar  kl. 15:00–18:00 \nPlats: Kulturrummet Gårdsten
URL:https://gardstensbostader.se/event/musikproduktion-med-kulturskolan/2025-11-24
LOCATION:Kulturrummet Gårdsten\, Gårdsten Centrum\, Angered\, 424 41\, Sweden
END:VEVENT
BEGIN:VEVENT
DTSTART;TZID=Europe/Stockholm:20251124T100000
DTEND;TZID=Europe/Stockholm:20251124T120000
DTSTAMP:20260424T021709
CREATED:20250901T082304Z
LAST-MODIFIED:20250901T082304Z
UID:10018498-1763978400-1763985600@gardstensbostader.se
SUMMARY:Seniorklubb
DESCRIPTION:För dig som vill träffas\, spela schack\, läsa eller bara ha det trevligt tillsammans.\nEn mötesplats för avkoppling och gemenskap.\nTrivsam mötesplats för social samvaro\, spel\, läsning eller bara avkoppling. Du kan även komma med egna idéer för aktiviteter.\nMåndagar kl. 10:00–12:00
URL:https://gardstensbostader.se/event/seniorklubb/2025-11-24
LOCATION:Kulturrummet Gårdsten\, Gårdsten Centrum\, Angered\, 424 41\, Sweden
END:VEVENT
BEGIN:VEVENT
DTSTART;TZID=Europe/Stockholm:20251118T140000
DTEND;TZID=Europe/Stockholm:20251118T163000
DTSTAMP:20260424T021709
CREATED:20250901T081657Z
LAST-MODIFIED:20250901T081657Z
UID:10018470-1763474400-1763483400@gardstensbostader.se
SUMMARY:Testa att DJ:a eller spela med dina kompisar
DESCRIPTION:Öppen verksamhet för dig som vill göra något kul: mixa musik som DJ\, spela spel eller bidra med egna idéer. Din plats – var med och forma den!\nTisdagar kl. 14:00–16:30.
URL:https://gardstensbostader.se/event/testa-att-dja-eller-spela-med-dina-kompisar/2025-11-18
LOCATION:Kulturrummet Gårdsten\, Gårdsten Centrum\, Angered\, 424 41\, Sweden
END:VEVENT
BEGIN:VEVENT
DTSTART;TZID=Europe/Stockholm:20251118T123000
DTEND;TZID=Europe/Stockholm:20251118T143000
DTSTAMP:20260424T021709
CREATED:20250814T110647Z
LAST-MODIFIED:20250814T110647Z
UID:10018332-1763469000-1763476200@gardstensbostader.se
SUMMARY:Teoripass Senior Sport School
DESCRIPTION:För dig som anmält dig till Senior Sport School arrangeras teoripass följande dag och tid: \nKostnad för att delta i hela skolan är 300 kr. \nTisdag 23 september Kl. 12:30–14:30\nTisdag 30 september Kl. 12:30–14:30\nTisdag 7 oktober Kl. 12:30–14:30\nTisdag 14 oktober Kl. 12:30–14:30\nTisdag 21 oktober Kl. 12:30–14:30\nTisdag 28 oktober Kl. 12:30–14:30 \nVälkommen
URL:https://gardstensbostader.se/event/teoripass-senior-sport-school/2025-11-18
LOCATION:Kulturrummet Gårdsten\, Gårdsten Centrum\, Angered\, 424 41\, Sweden
END:VEVENT
BEGIN:VEVENT
DTSTART;TZID=Europe/Stockholm:20251117T150000
DTEND;TZID=Europe/Stockholm:20251117T180000
DTSTAMP:20260424T021709
CREATED:20250829T102609Z
LAST-MODIFIED:20250901T133158Z
UID:10018481-1763391600-1763402400@gardstensbostader.se
SUMMARY:Musikproduktion med Kulturskolan
DESCRIPTION:Prova på att skapa egen musik med appen GarageBand.\nRytmer\, melodier och loopar. Lekfullt\, kreativt och inspirerande\, lett av Kulturskolans pedagoger.\nMåndagar  kl. 15:00–18:00 \nPlats: Kulturrummet Gårdsten
URL:https://gardstensbostader.se/event/musikproduktion-med-kulturskolan/2025-11-17
LOCATION:Kulturrummet Gårdsten\, Gårdsten Centrum\, Angered\, 424 41\, Sweden
END:VEVENT
BEGIN:VEVENT
DTSTART;TZID=Europe/Stockholm:20251117T100000
DTEND;TZID=Europe/Stockholm:20251117T120000
DTSTAMP:20260424T021709
CREATED:20250901T082304Z
LAST-MODIFIED:20250901T082304Z
UID:10018497-1763373600-1763380800@gardstensbostader.se
SUMMARY:Seniorklubb
DESCRIPTION:För dig som vill träffas\, spela schack\, läsa eller bara ha det trevligt tillsammans.\nEn mötesplats för avkoppling och gemenskap.\nTrivsam mötesplats för social samvaro\, spel\, läsning eller bara avkoppling. Du kan även komma med egna idéer för aktiviteter.\nMåndagar kl. 10:00–12:00
URL:https://gardstensbostader.se/event/seniorklubb/2025-11-17
LOCATION:Kulturrummet Gårdsten\, Gårdsten Centrum\, Angered\, 424 41\, Sweden
END:VEVENT
BEGIN:VEVENT
DTSTART;TZID=Europe/Stockholm:20251111T140000
DTEND;TZID=Europe/Stockholm:20251111T163000
DTSTAMP:20260424T021709
CREATED:20250901T081657Z
LAST-MODIFIED:20250901T081657Z
UID:10018469-1762869600-1762878600@gardstensbostader.se
SUMMARY:Testa att DJ:a eller spela med dina kompisar
DESCRIPTION:Öppen verksamhet för dig som vill göra något kul: mixa musik som DJ\, spela spel eller bidra med egna idéer. Din plats – var med och forma den!\nTisdagar kl. 14:00–16:30.
URL:https://gardstensbostader.se/event/testa-att-dja-eller-spela-med-dina-kompisar/2025-11-11
LOCATION:Kulturrummet Gårdsten\, Gårdsten Centrum\, Angered\, 424 41\, Sweden
END:VEVENT
BEGIN:VEVENT
DTSTART;TZID=Europe/Stockholm:20251111T123000
DTEND;TZID=Europe/Stockholm:20251111T143000
DTSTAMP:20260424T021709
CREATED:20250814T110647Z
LAST-MODIFIED:20250814T110647Z
UID:10018331-1762864200-1762871400@gardstensbostader.se
SUMMARY:Teoripass Senior Sport School
DESCRIPTION:För dig som anmält dig till Senior Sport School arrangeras teoripass följande dag och tid: \nKostnad för att delta i hela skolan är 300 kr. \nTisdag 23 september Kl. 12:30–14:30\nTisdag 30 september Kl. 12:30–14:30\nTisdag 7 oktober Kl. 12:30–14:30\nTisdag 14 oktober Kl. 12:30–14:30\nTisdag 21 oktober Kl. 12:30–14:30\nTisdag 28 oktober Kl. 12:30–14:30 \nVälkommen
URL:https://gardstensbostader.se/event/teoripass-senior-sport-school/2025-11-11
LOCATION:Kulturrummet Gårdsten\, Gårdsten Centrum\, Angered\, 424 41\, Sweden
END:VEVENT
BEGIN:VEVENT
DTSTART;TZID=Europe/Stockholm:20251110T150000
DTEND;TZID=Europe/Stockholm:20251110T180000
DTSTAMP:20260424T021709
CREATED:20250829T102609Z
LAST-MODIFIED:20250901T133158Z
UID:10018480-1762786800-1762797600@gardstensbostader.se
SUMMARY:Musikproduktion med Kulturskolan
DESCRIPTION:Prova på att skapa egen musik med appen GarageBand.\nRytmer\, melodier och loopar. Lekfullt\, kreativt och inspirerande\, lett av Kulturskolans pedagoger.\nMåndagar  kl. 15:00–18:00 \nPlats: Kulturrummet Gårdsten
URL:https://gardstensbostader.se/event/musikproduktion-med-kulturskolan/2025-11-10
LOCATION:Kulturrummet Gårdsten\, Gårdsten Centrum\, Angered\, 424 41\, Sweden
END:VEVENT
BEGIN:VEVENT
DTSTART;TZID=Europe/Stockholm:20251110T100000
DTEND;TZID=Europe/Stockholm:20251110T120000
DTSTAMP:20260424T021709
CREATED:20250901T082304Z
LAST-MODIFIED:20250901T082304Z
UID:10018496-1762768800-1762776000@gardstensbostader.se
SUMMARY:Seniorklubb
DESCRIPTION:För dig som vill träffas\, spela schack\, läsa eller bara ha det trevligt tillsammans.\nEn mötesplats för avkoppling och gemenskap.\nTrivsam mötesplats för social samvaro\, spel\, läsning eller bara avkoppling. Du kan även komma med egna idéer för aktiviteter.\nMåndagar kl. 10:00–12:00
URL:https://gardstensbostader.se/event/seniorklubb/2025-11-10
LOCATION:Kulturrummet Gårdsten\, Gårdsten Centrum\, Angered\, 424 41\, Sweden
END:VEVENT
BEGIN:VEVENT
DTSTART;TZID=Europe/Stockholm:20251104T140000
DTEND;TZID=Europe/Stockholm:20251104T163000
DTSTAMP:20260424T021709
CREATED:20250901T081657Z
LAST-MODIFIED:20250901T081657Z
UID:10018468-1762264800-1762273800@gardstensbostader.se
SUMMARY:Testa att DJ:a eller spela med dina kompisar
DESCRIPTION:Öppen verksamhet för dig som vill göra något kul: mixa musik som DJ\, spela spel eller bidra med egna idéer. Din plats – var med och forma den!\nTisdagar kl. 14:00–16:30.
URL:https://gardstensbostader.se/event/testa-att-dja-eller-spela-med-dina-kompisar/2025-11-04
LOCATION:Kulturrummet Gårdsten\, Gårdsten Centrum\, Angered\, 424 41\, Sweden
END:VEVENT
BEGIN:VEVENT
DTSTART;TZID=Europe/Stockholm:20251104T123000
DTEND;TZID=Europe/Stockholm:20251104T143000
DTSTAMP:20260424T021709
CREATED:20250814T110647Z
LAST-MODIFIED:20250814T110647Z
UID:10018330-1762259400-1762266600@gardstensbostader.se
SUMMARY:Teoripass Senior Sport School
DESCRIPTION:För dig som anmält dig till Senior Sport School arrangeras teoripass följande dag och tid: \nKostnad för att delta i hela skolan är 300 kr. \nTisdag 23 september Kl. 12:30–14:30\nTisdag 30 september Kl. 12:30–14:30\nTisdag 7 oktober Kl. 12:30–14:30\nTisdag 14 oktober Kl. 12:30–14:30\nTisdag 21 oktober Kl. 12:30–14:30\nTisdag 28 oktober Kl. 12:30–14:30 \nVälkommen
URL:https://gardstensbostader.se/event/teoripass-senior-sport-school/2025-11-04
LOCATION:Kulturrummet Gårdsten\, Gårdsten Centrum\, Angered\, 424 41\, Sweden
END:VEVENT
END:VCALENDAR