BEGIN:VCALENDAR
VERSION:2.0
PRODID:-// - ECPv6.15.18//NONSGML v1.0//EN
CALSCALE:GREGORIAN
METHOD:PUBLISH
X-ORIGINAL-URL:https://gardstensbostader.se
X-WR-CALDESC:Händelser för 
REFRESH-INTERVAL;VALUE=DURATION:PT1H
X-Robots-Tag:noindex
X-PUBLISHED-TTL:PT1H
BEGIN:VTIMEZONE
TZID:Europe/Stockholm
BEGIN:DAYLIGHT
TZOFFSETFROM:+0100
TZOFFSETTO:+0200
TZNAME:CEST
DTSTART:20250330T010000
END:DAYLIGHT
BEGIN:STANDARD
TZOFFSETFROM:+0200
TZOFFSETTO:+0100
TZNAME:CET
DTSTART:20251026T010000
END:STANDARD
BEGIN:DAYLIGHT
TZOFFSETFROM:+0100
TZOFFSETTO:+0200
TZNAME:CEST
DTSTART:20260329T010000
END:DAYLIGHT
BEGIN:STANDARD
TZOFFSETFROM:+0200
TZOFFSETTO:+0100
TZNAME:CET
DTSTART:20261025T010000
END:STANDARD
BEGIN:DAYLIGHT
TZOFFSETFROM:+0100
TZOFFSETTO:+0200
TZNAME:CEST
DTSTART:20270328T010000
END:DAYLIGHT
BEGIN:STANDARD
TZOFFSETFROM:+0200
TZOFFSETTO:+0100
TZNAME:CET
DTSTART:20271031T010000
END:STANDARD
END:VTIMEZONE
BEGIN:VEVENT
DTSTART;TZID=Europe/Stockholm:20261013T123000
DTEND;TZID=Europe/Stockholm:20261013T143000
DTSTAMP:20260423T201229
CREATED:20250814T110647Z
LAST-MODIFIED:20250814T110647Z
UID:10018379-1791894600-1791901800@gardstensbostader.se
SUMMARY:Teoripass Senior Sport School
DESCRIPTION:För dig som anmält dig till Senior Sport School arrangeras teoripass följande dag och tid: \nKostnad för att delta i hela skolan är 300 kr. \nTisdag 23 september Kl. 12:30–14:30\nTisdag 30 september Kl. 12:30–14:30\nTisdag 7 oktober Kl. 12:30–14:30\nTisdag 14 oktober Kl. 12:30–14:30\nTisdag 21 oktober Kl. 12:30–14:30\nTisdag 28 oktober Kl. 12:30–14:30 \nVälkommen
URL:https://gardstensbostader.se/event/teoripass-senior-sport-school/2026-10-13
LOCATION:Kulturrummet Gårdsten\, Gårdsten Centrum\, Angered\, 424 41\, Sweden
END:VEVENT
BEGIN:VEVENT
DTSTART;TZID=Europe/Stockholm:20261020T123000
DTEND;TZID=Europe/Stockholm:20261020T143000
DTSTAMP:20260423T201229
CREATED:20250814T110647Z
LAST-MODIFIED:20250814T110647Z
UID:10018380-1792499400-1792506600@gardstensbostader.se
SUMMARY:Teoripass Senior Sport School
DESCRIPTION:För dig som anmält dig till Senior Sport School arrangeras teoripass följande dag och tid: \nKostnad för att delta i hela skolan är 300 kr. \nTisdag 23 september Kl. 12:30–14:30\nTisdag 30 september Kl. 12:30–14:30\nTisdag 7 oktober Kl. 12:30–14:30\nTisdag 14 oktober Kl. 12:30–14:30\nTisdag 21 oktober Kl. 12:30–14:30\nTisdag 28 oktober Kl. 12:30–14:30 \nVälkommen
URL:https://gardstensbostader.se/event/teoripass-senior-sport-school/2026-10-20
LOCATION:Kulturrummet Gårdsten\, Gårdsten Centrum\, Angered\, 424 41\, Sweden
END:VEVENT
BEGIN:VEVENT
DTSTART;TZID=Europe/Stockholm:20261027T123000
DTEND;TZID=Europe/Stockholm:20261027T143000
DTSTAMP:20260423T201229
CREATED:20250814T110647Z
LAST-MODIFIED:20250814T110647Z
UID:10018381-1793104200-1793111400@gardstensbostader.se
SUMMARY:Teoripass Senior Sport School
DESCRIPTION:För dig som anmält dig till Senior Sport School arrangeras teoripass följande dag och tid: \nKostnad för att delta i hela skolan är 300 kr. \nTisdag 23 september Kl. 12:30–14:30\nTisdag 30 september Kl. 12:30–14:30\nTisdag 7 oktober Kl. 12:30–14:30\nTisdag 14 oktober Kl. 12:30–14:30\nTisdag 21 oktober Kl. 12:30–14:30\nTisdag 28 oktober Kl. 12:30–14:30 \nVälkommen
URL:https://gardstensbostader.se/event/teoripass-senior-sport-school/2026-10-27
LOCATION:Kulturrummet Gårdsten\, Gårdsten Centrum\, Angered\, 424 41\, Sweden
END:VEVENT
END:VCALENDAR