BEGIN:VCALENDAR
VERSION:2.0
PRODID:-// - ECPv6.15.18//NONSGML v1.0//EN
CALSCALE:GREGORIAN
METHOD:PUBLISH
X-ORIGINAL-URL:https://gardstensbostader.se
X-WR-CALDESC:Händelser för 
REFRESH-INTERVAL;VALUE=DURATION:PT1H
X-Robots-Tag:noindex
X-PUBLISHED-TTL:PT1H
BEGIN:VTIMEZONE
TZID:Europe/Stockholm
BEGIN:DAYLIGHT
TZOFFSETFROM:+0100
TZOFFSETTO:+0200
TZNAME:CEST
DTSTART:20230326T010000
END:DAYLIGHT
BEGIN:STANDARD
TZOFFSETFROM:+0200
TZOFFSETTO:+0100
TZNAME:CET
DTSTART:20231029T010000
END:STANDARD
BEGIN:DAYLIGHT
TZOFFSETFROM:+0100
TZOFFSETTO:+0200
TZNAME:CEST
DTSTART:20240331T010000
END:DAYLIGHT
BEGIN:STANDARD
TZOFFSETFROM:+0200
TZOFFSETTO:+0100
TZNAME:CET
DTSTART:20241027T010000
END:STANDARD
BEGIN:DAYLIGHT
TZOFFSETFROM:+0100
TZOFFSETTO:+0200
TZNAME:CEST
DTSTART:20250330T010000
END:DAYLIGHT
BEGIN:STANDARD
TZOFFSETFROM:+0200
TZOFFSETTO:+0100
TZNAME:CET
DTSTART:20251026T010000
END:STANDARD
BEGIN:DAYLIGHT
TZOFFSETFROM:+0100
TZOFFSETTO:+0200
TZNAME:CEST
DTSTART:20260329T010000
END:DAYLIGHT
BEGIN:STANDARD
TZOFFSETFROM:+0200
TZOFFSETTO:+0100
TZNAME:CET
DTSTART:20261025T010000
END:STANDARD
BEGIN:DAYLIGHT
TZOFFSETFROM:+0100
TZOFFSETTO:+0200
TZNAME:CEST
DTSTART:20270328T010000
END:DAYLIGHT
BEGIN:STANDARD
TZOFFSETFROM:+0200
TZOFFSETTO:+0100
TZNAME:CET
DTSTART:20271031T010000
END:STANDARD
END:VTIMEZONE
BEGIN:VEVENT
DTSTART;TZID=Europe/Stockholm:20260324T170000
DTEND;TZID=Europe/Stockholm:20260324T200000
DTSTAMP:20260425T154749
CREATED:20260309T140140Z
LAST-MODIFIED:20260309T140140Z
UID:10018913-1774371600-1774382400@gardstensbostader.se
SUMMARY:Basketträning med Gårdsten Eagles
DESCRIPTION:Basketträning\nPlats: Lilla Gårdstensskolan \nTisdagar:\nKl 17.00-18.30 ålder 7-10 år\nKl 18.30-20.00 ålder 11-14 år \nLördagar:\nKl.16.00-18.00 ålder +15 år \nVälkomna!
URL:https://gardstensbostader.se/event/baskettraning-med-gardsten-eagles/2026-03-24
LOCATION:Lilla Gårdstensskolan\, Saffransgatan 78\, 424 42 Angered
END:VEVENT
BEGIN:VEVENT
DTSTART;TZID=Europe/Stockholm:20260324T170000
DTEND;TZID=Europe/Stockholm:20260324T200000
DTSTAMP:20260425T154749
CREATED:20260121T172440Z
LAST-MODIFIED:20260121T172627Z
UID:10018828-1774371600-1774382400@gardstensbostader.se
SUMMARY:Basketträning i Gårdsten
DESCRIPTION:Var med på basketträningen med Gårdsten Eagles. Alla ungdomar är välkomna. Se tiderna nedan. \nTisdagar kl. 17.00-20.00:\nKl. 17.00-18.30 för ålder 7-10 år\nKl. 18.30-20.00 för ålder 11-14 år\nTränare: Kemal och Kareem\nPlats: Lilla Gårdstensskolan
URL:https://gardstensbostader.se/event/baskettraning-i-gardsten-2/2026-03-24
LOCATION:Lilla Gårdstensskolan\, Saffransgatan 78\, 424 42 Angered
END:VEVENT
BEGIN:VEVENT
DTSTART;TZID=Europe/Stockholm:20260321T160000
DTEND;TZID=Europe/Stockholm:20260321T180000
DTSTAMP:20260425T154749
CREATED:20260309T140557Z
LAST-MODIFIED:20260309T140557Z
UID:10018927-1774108800-1774116000@gardstensbostader.se
SUMMARY:Basketträning med Gårdsten Eagles\, +15 år
DESCRIPTION:Basketträning\nPlats: Lilla Gårdstensskolan \nTisdagar:\nKl 17.00-18.30 ålder 7-10 år\nKl 18.30-20.00 ålder 11-14 år \nLördagar:\nKl.16.00-18.00 ålder +15 år \nVälkomna!
URL:https://gardstensbostader.se/event/baskettraning-med-gardsten-eagles-15-ar/2026-03-21
LOCATION:Lilla Gårdstensskolan\, Saffransgatan 78\, 424 42 Angered
END:VEVENT
BEGIN:VEVENT
DTSTART;TZID=Europe/Stockholm:20260317T170000
DTEND;TZID=Europe/Stockholm:20260317T200000
DTSTAMP:20260425T154749
CREATED:20260309T140140Z
LAST-MODIFIED:20260309T140140Z
UID:10018912-1773766800-1773777600@gardstensbostader.se
SUMMARY:Basketträning med Gårdsten Eagles
DESCRIPTION:Basketträning\nPlats: Lilla Gårdstensskolan \nTisdagar:\nKl 17.00-18.30 ålder 7-10 år\nKl 18.30-20.00 ålder 11-14 år \nLördagar:\nKl.16.00-18.00 ålder +15 år \nVälkomna!
URL:https://gardstensbostader.se/event/baskettraning-med-gardsten-eagles/2026-03-17
LOCATION:Lilla Gårdstensskolan\, Saffransgatan 78\, 424 42 Angered
END:VEVENT
BEGIN:VEVENT
DTSTART;TZID=Europe/Stockholm:20260317T170000
DTEND;TZID=Europe/Stockholm:20260317T200000
DTSTAMP:20260425T154749
CREATED:20260121T172440Z
LAST-MODIFIED:20260121T172627Z
UID:10018827-1773766800-1773777600@gardstensbostader.se
SUMMARY:Basketträning i Gårdsten
DESCRIPTION:Var med på basketträningen med Gårdsten Eagles. Alla ungdomar är välkomna. Se tiderna nedan. \nTisdagar kl. 17.00-20.00:\nKl. 17.00-18.30 för ålder 7-10 år\nKl. 18.30-20.00 för ålder 11-14 år\nTränare: Kemal och Kareem\nPlats: Lilla Gårdstensskolan
URL:https://gardstensbostader.se/event/baskettraning-i-gardsten-2/2026-03-17
LOCATION:Lilla Gårdstensskolan\, Saffransgatan 78\, 424 42 Angered
END:VEVENT
BEGIN:VEVENT
DTSTART;TZID=Europe/Stockholm:20260314T160000
DTEND;TZID=Europe/Stockholm:20260314T180000
DTSTAMP:20260425T154749
CREATED:20260309T140557Z
LAST-MODIFIED:20260309T140557Z
UID:10018926-1773504000-1773511200@gardstensbostader.se
SUMMARY:Basketträning med Gårdsten Eagles\, +15 år
DESCRIPTION:Basketträning\nPlats: Lilla Gårdstensskolan \nTisdagar:\nKl 17.00-18.30 ålder 7-10 år\nKl 18.30-20.00 ålder 11-14 år \nLördagar:\nKl.16.00-18.00 ålder +15 år \nVälkomna!
URL:https://gardstensbostader.se/event/baskettraning-med-gardsten-eagles-15-ar/2026-03-14
LOCATION:Lilla Gårdstensskolan\, Saffransgatan 78\, 424 42 Angered
END:VEVENT
BEGIN:VEVENT
DTSTART;TZID=Europe/Stockholm:20260310T170000
DTEND;TZID=Europe/Stockholm:20260310T200000
DTSTAMP:20260425T154749
CREATED:20260309T140140Z
LAST-MODIFIED:20260309T140140Z
UID:10018911-1773162000-1773172800@gardstensbostader.se
SUMMARY:Basketträning med Gårdsten Eagles
DESCRIPTION:Basketträning\nPlats: Lilla Gårdstensskolan \nTisdagar:\nKl 17.00-18.30 ålder 7-10 år\nKl 18.30-20.00 ålder 11-14 år \nLördagar:\nKl.16.00-18.00 ålder +15 år \nVälkomna!
URL:https://gardstensbostader.se/event/baskettraning-med-gardsten-eagles/2026-03-10
LOCATION:Lilla Gårdstensskolan\, Saffransgatan 78\, 424 42 Angered
END:VEVENT
BEGIN:VEVENT
DTSTART;TZID=Europe/Stockholm:20260310T170000
DTEND;TZID=Europe/Stockholm:20260310T200000
DTSTAMP:20260425T154749
CREATED:20260121T172440Z
LAST-MODIFIED:20260121T172627Z
UID:10018826-1773162000-1773172800@gardstensbostader.se
SUMMARY:Basketträning i Gårdsten
DESCRIPTION:Var med på basketträningen med Gårdsten Eagles. Alla ungdomar är välkomna. Se tiderna nedan. \nTisdagar kl. 17.00-20.00:\nKl. 17.00-18.30 för ålder 7-10 år\nKl. 18.30-20.00 för ålder 11-14 år\nTränare: Kemal och Kareem\nPlats: Lilla Gårdstensskolan
URL:https://gardstensbostader.se/event/baskettraning-i-gardsten-2/2026-03-10
LOCATION:Lilla Gårdstensskolan\, Saffransgatan 78\, 424 42 Angered
END:VEVENT
BEGIN:VEVENT
DTSTART;TZID=Europe/Stockholm:20260303T170000
DTEND;TZID=Europe/Stockholm:20260303T200000
DTSTAMP:20260425T154749
CREATED:20260121T172440Z
LAST-MODIFIED:20260121T172627Z
UID:10018825-1772557200-1772568000@gardstensbostader.se
SUMMARY:Basketträning i Gårdsten
DESCRIPTION:Var med på basketträningen med Gårdsten Eagles. Alla ungdomar är välkomna. Se tiderna nedan. \nTisdagar kl. 17.00-20.00:\nKl. 17.00-18.30 för ålder 7-10 år\nKl. 18.30-20.00 för ålder 11-14 år\nTränare: Kemal och Kareem\nPlats: Lilla Gårdstensskolan
URL:https://gardstensbostader.se/event/baskettraning-i-gardsten-2/2026-03-03
LOCATION:Lilla Gårdstensskolan\, Saffransgatan 78\, 424 42 Angered
END:VEVENT
BEGIN:VEVENT
DTSTART;TZID=Europe/Stockholm:20260224T170000
DTEND;TZID=Europe/Stockholm:20260224T200000
DTSTAMP:20260425T154749
CREATED:20260121T172440Z
LAST-MODIFIED:20260121T172627Z
UID:10018824-1771952400-1771963200@gardstensbostader.se
SUMMARY:Basketträning i Gårdsten
DESCRIPTION:Var med på basketträningen med Gårdsten Eagles. Alla ungdomar är välkomna. Se tiderna nedan. \nTisdagar kl. 17.00-20.00:\nKl. 17.00-18.30 för ålder 7-10 år\nKl. 18.30-20.00 för ålder 11-14 år\nTränare: Kemal och Kareem\nPlats: Lilla Gårdstensskolan
URL:https://gardstensbostader.se/event/baskettraning-i-gardsten-2/2026-02-24
LOCATION:Lilla Gårdstensskolan\, Saffransgatan 78\, 424 42 Angered
END:VEVENT
BEGIN:VEVENT
DTSTART;TZID=Europe/Stockholm:20260217T170000
DTEND;TZID=Europe/Stockholm:20260217T200000
DTSTAMP:20260425T154749
CREATED:20260121T172440Z
LAST-MODIFIED:20260121T172627Z
UID:10018823-1771347600-1771358400@gardstensbostader.se
SUMMARY:Basketträning i Gårdsten
DESCRIPTION:Var med på basketträningen med Gårdsten Eagles. Alla ungdomar är välkomna. Se tiderna nedan. \nTisdagar kl. 17.00-20.00:\nKl. 17.00-18.30 för ålder 7-10 år\nKl. 18.30-20.00 för ålder 11-14 år\nTränare: Kemal och Kareem\nPlats: Lilla Gårdstensskolan
URL:https://gardstensbostader.se/event/baskettraning-i-gardsten-2/2026-02-17
LOCATION:Lilla Gårdstensskolan\, Saffransgatan 78\, 424 42 Angered
END:VEVENT
BEGIN:VEVENT
DTSTART;TZID=Europe/Stockholm:20260210T170000
DTEND;TZID=Europe/Stockholm:20260210T200000
DTSTAMP:20260425T154749
CREATED:20260121T172440Z
LAST-MODIFIED:20260121T172627Z
UID:10018822-1770742800-1770753600@gardstensbostader.se
SUMMARY:Basketträning i Gårdsten
DESCRIPTION:Var med på basketträningen med Gårdsten Eagles. Alla ungdomar är välkomna. Se tiderna nedan. \nTisdagar kl. 17.00-20.00:\nKl. 17.00-18.30 för ålder 7-10 år\nKl. 18.30-20.00 för ålder 11-14 år\nTränare: Kemal och Kareem\nPlats: Lilla Gårdstensskolan
URL:https://gardstensbostader.se/event/baskettraning-i-gardsten-2/2026-02-10
LOCATION:Lilla Gårdstensskolan\, Saffransgatan 78\, 424 42 Angered
END:VEVENT
BEGIN:VEVENT
DTSTART;TZID=Europe/Stockholm:20260203T170000
DTEND;TZID=Europe/Stockholm:20260203T200000
DTSTAMP:20260425T154749
CREATED:20260121T172440Z
LAST-MODIFIED:20260121T172627Z
UID:10018821-1770138000-1770148800@gardstensbostader.se
SUMMARY:Basketträning i Gårdsten
DESCRIPTION:Var med på basketträningen med Gårdsten Eagles. Alla ungdomar är välkomna. Se tiderna nedan. \nTisdagar kl. 17.00-20.00:\nKl. 17.00-18.30 för ålder 7-10 år\nKl. 18.30-20.00 för ålder 11-14 år\nTränare: Kemal och Kareem\nPlats: Lilla Gårdstensskolan
URL:https://gardstensbostader.se/event/baskettraning-i-gardsten-2/2026-02-03
LOCATION:Lilla Gårdstensskolan\, Saffransgatan 78\, 424 42 Angered
END:VEVENT
BEGIN:VEVENT
DTSTART;TZID=Europe/Stockholm:20260127T170000
DTEND;TZID=Europe/Stockholm:20260127T200000
DTSTAMP:20260425T154749
CREATED:20260121T172440Z
LAST-MODIFIED:20260121T172627Z
UID:10013214-1769533200-1769544000@gardstensbostader.se
SUMMARY:Basketträning i Gårdsten
DESCRIPTION:Var med på basketträningen med Gårdsten Eagles. Alla ungdomar är välkomna. Se tiderna nedan. \nTisdagar kl. 17.00-20.00:\nKl. 17.00-18.30 för ålder 7-10 år\nKl. 18.30-20.00 för ålder 11-14 år\nTränare: Kemal och Kareem\nPlats: Lilla Gårdstensskolan
URL:https://gardstensbostader.se/event/baskettraning-i-gardsten-2/2026-01-27
LOCATION:Lilla Gårdstensskolan\, Saffransgatan 78\, 424 42 Angered
END:VEVENT
BEGIN:VEVENT
DTSTART;TZID=Europe/Stockholm:20241021T180000
DTEND;TZID=Europe/Stockholm:20241021T183000
DTSTAMP:20260425T154749
CREATED:20240827T083240Z
LAST-MODIFIED:20240829T065753Z
UID:10013213-1729533600-1729535400@gardstensbostader.se
SUMMARY:Basketträning i Gårdsten
DESCRIPTION:Nu har basketträningen startat igen i Gårdsten ned Gårdsten Eagles. Alla ungdomar är välkomna. Se de olika tiderna nedan. \nTid kl. 18.00-19.30:\nMåndagar 7-10 år\nOnsdagar 10-15 år\nTorsdagar\, killar 15-18 år\nFredagar\, tjejer\, alla åldrar\nPlats: Lilla Gårdstensskolan \nTid kl. 16.00-18.00\nLördagar\, mixat tjejer och killar +15 år\nPlats: Gamla idrottshallen vid dalen
URL:https://gardstensbostader.se/event/baskettraning-i-gardsten/2024-10-21
LOCATION:Lilla Gårdstensskolan\, Saffransgatan 78\, 424 42 Angered
END:VEVENT
BEGIN:VEVENT
DTSTART;TZID=Europe/Stockholm:20241014T180000
DTEND;TZID=Europe/Stockholm:20241014T183000
DTSTAMP:20260425T154749
CREATED:20240827T083240Z
LAST-MODIFIED:20240829T065753Z
UID:10013212-1728928800-1728930600@gardstensbostader.se
SUMMARY:Basketträning i Gårdsten
DESCRIPTION:Nu har basketträningen startat igen i Gårdsten ned Gårdsten Eagles. Alla ungdomar är välkomna. Se de olika tiderna nedan. \nTid kl. 18.00-19.30:\nMåndagar 7-10 år\nOnsdagar 10-15 år\nTorsdagar\, killar 15-18 år\nFredagar\, tjejer\, alla åldrar\nPlats: Lilla Gårdstensskolan \nTid kl. 16.00-18.00\nLördagar\, mixat tjejer och killar +15 år\nPlats: Gamla idrottshallen vid dalen
URL:https://gardstensbostader.se/event/baskettraning-i-gardsten/2024-10-14
LOCATION:Lilla Gårdstensskolan\, Saffransgatan 78\, 424 42 Angered
END:VEVENT
BEGIN:VEVENT
DTSTART;TZID=Europe/Stockholm:20241007T180000
DTEND;TZID=Europe/Stockholm:20241007T183000
DTSTAMP:20260425T154749
CREATED:20240827T083240Z
LAST-MODIFIED:20240829T065753Z
UID:10013211-1728324000-1728325800@gardstensbostader.se
SUMMARY:Basketträning i Gårdsten
DESCRIPTION:Nu har basketträningen startat igen i Gårdsten ned Gårdsten Eagles. Alla ungdomar är välkomna. Se de olika tiderna nedan. \nTid kl. 18.00-19.30:\nMåndagar 7-10 år\nOnsdagar 10-15 år\nTorsdagar\, killar 15-18 år\nFredagar\, tjejer\, alla åldrar\nPlats: Lilla Gårdstensskolan \nTid kl. 16.00-18.00\nLördagar\, mixat tjejer och killar +15 år\nPlats: Gamla idrottshallen vid dalen
URL:https://gardstensbostader.se/event/baskettraning-i-gardsten/2024-10-07
LOCATION:Lilla Gårdstensskolan\, Saffransgatan 78\, 424 42 Angered
END:VEVENT
BEGIN:VEVENT
DTSTART;TZID=Europe/Stockholm:20240930T180000
DTEND;TZID=Europe/Stockholm:20240930T183000
DTSTAMP:20260425T154749
CREATED:20240827T083240Z
LAST-MODIFIED:20240829T065753Z
UID:10013210-1727719200-1727721000@gardstensbostader.se
SUMMARY:Basketträning i Gårdsten
DESCRIPTION:Nu har basketträningen startat igen i Gårdsten ned Gårdsten Eagles. Alla ungdomar är välkomna. Se de olika tiderna nedan. \nTid kl. 18.00-19.30:\nMåndagar 7-10 år\nOnsdagar 10-15 år\nTorsdagar\, killar 15-18 år\nFredagar\, tjejer\, alla åldrar\nPlats: Lilla Gårdstensskolan \nTid kl. 16.00-18.00\nLördagar\, mixat tjejer och killar +15 år\nPlats: Gamla idrottshallen vid dalen
URL:https://gardstensbostader.se/event/baskettraning-i-gardsten/2024-09-30
LOCATION:Lilla Gårdstensskolan\, Saffransgatan 78\, 424 42 Angered
END:VEVENT
BEGIN:VEVENT
DTSTART;TZID=Europe/Stockholm:20240923T180000
DTEND;TZID=Europe/Stockholm:20240923T183000
DTSTAMP:20260425T154749
CREATED:20240827T083240Z
LAST-MODIFIED:20240829T065753Z
UID:10013209-1727114400-1727116200@gardstensbostader.se
SUMMARY:Basketträning i Gårdsten
DESCRIPTION:Nu har basketträningen startat igen i Gårdsten ned Gårdsten Eagles. Alla ungdomar är välkomna. Se de olika tiderna nedan. \nTid kl. 18.00-19.30:\nMåndagar 7-10 år\nOnsdagar 10-15 år\nTorsdagar\, killar 15-18 år\nFredagar\, tjejer\, alla åldrar\nPlats: Lilla Gårdstensskolan \nTid kl. 16.00-18.00\nLördagar\, mixat tjejer och killar +15 år\nPlats: Gamla idrottshallen vid dalen
URL:https://gardstensbostader.se/event/baskettraning-i-gardsten/2024-09-23
LOCATION:Lilla Gårdstensskolan\, Saffransgatan 78\, 424 42 Angered
END:VEVENT
BEGIN:VEVENT
DTSTART;TZID=Europe/Stockholm:20240916T180000
DTEND;TZID=Europe/Stockholm:20240916T183000
DTSTAMP:20260425T154750
CREATED:20240827T083240Z
LAST-MODIFIED:20240829T065753Z
UID:10013208-1726509600-1726511400@gardstensbostader.se
SUMMARY:Basketträning i Gårdsten
DESCRIPTION:Nu har basketträningen startat igen i Gårdsten ned Gårdsten Eagles. Alla ungdomar är välkomna. Se de olika tiderna nedan. \nTid kl. 18.00-19.30:\nMåndagar 7-10 år\nOnsdagar 10-15 år\nTorsdagar\, killar 15-18 år\nFredagar\, tjejer\, alla åldrar\nPlats: Lilla Gårdstensskolan \nTid kl. 16.00-18.00\nLördagar\, mixat tjejer och killar +15 år\nPlats: Gamla idrottshallen vid dalen
URL:https://gardstensbostader.se/event/baskettraning-i-gardsten/2024-09-16
LOCATION:Lilla Gårdstensskolan\, Saffransgatan 78\, 424 42 Angered
END:VEVENT
BEGIN:VEVENT
DTSTART;TZID=Europe/Stockholm:20240909T180000
DTEND;TZID=Europe/Stockholm:20240909T183000
DTSTAMP:20260425T154750
CREATED:20240827T083240Z
LAST-MODIFIED:20240829T065753Z
UID:10013207-1725904800-1725906600@gardstensbostader.se
SUMMARY:Basketträning i Gårdsten
DESCRIPTION:Nu har basketträningen startat igen i Gårdsten ned Gårdsten Eagles. Alla ungdomar är välkomna. Se de olika tiderna nedan. \nTid kl. 18.00-19.30:\nMåndagar 7-10 år\nOnsdagar 10-15 år\nTorsdagar\, killar 15-18 år\nFredagar\, tjejer\, alla åldrar\nPlats: Lilla Gårdstensskolan \nTid kl. 16.00-18.00\nLördagar\, mixat tjejer och killar +15 år\nPlats: Gamla idrottshallen vid dalen
URL:https://gardstensbostader.se/event/baskettraning-i-gardsten/2024-09-09
LOCATION:Lilla Gårdstensskolan\, Saffransgatan 78\, 424 42 Angered
END:VEVENT
BEGIN:VEVENT
DTSTART;TZID=Europe/Stockholm:20240902T180000
DTEND;TZID=Europe/Stockholm:20240902T183000
DTSTAMP:20260425T154750
CREATED:20240827T083240Z
LAST-MODIFIED:20240829T065753Z
UID:10013206-1725300000-1725301800@gardstensbostader.se
SUMMARY:Basketträning i Gårdsten
DESCRIPTION:Nu har basketträningen startat igen i Gårdsten ned Gårdsten Eagles. Alla ungdomar är välkomna. Se de olika tiderna nedan. \nTid kl. 18.00-19.30:\nMåndagar 7-10 år\nOnsdagar 10-15 år\nTorsdagar\, killar 15-18 år\nFredagar\, tjejer\, alla åldrar\nPlats: Lilla Gårdstensskolan \nTid kl. 16.00-18.00\nLördagar\, mixat tjejer och killar +15 år\nPlats: Gamla idrottshallen vid dalen
URL:https://gardstensbostader.se/event/baskettraning-i-gardsten/2024-09-02
LOCATION:Lilla Gårdstensskolan\, Saffransgatan 78\, 424 42 Angered
END:VEVENT
END:VCALENDAR