BEGIN:VCALENDAR
VERSION:2.0
PRODID:-// - ECPv6.15.18//NONSGML v1.0//EN
CALSCALE:GREGORIAN
METHOD:PUBLISH
X-ORIGINAL-URL:https://gardstensbostader.se
X-WR-CALDESC:Händelser för 
REFRESH-INTERVAL;VALUE=DURATION:PT1H
X-Robots-Tag:noindex
X-PUBLISHED-TTL:PT1H
BEGIN:VTIMEZONE
TZID:Europe/Stockholm
BEGIN:DAYLIGHT
TZOFFSETFROM:+0100
TZOFFSETTO:+0200
TZNAME:CEST
DTSTART:20250330T010000
END:DAYLIGHT
BEGIN:STANDARD
TZOFFSETFROM:+0200
TZOFFSETTO:+0100
TZNAME:CET
DTSTART:20251026T010000
END:STANDARD
BEGIN:DAYLIGHT
TZOFFSETFROM:+0100
TZOFFSETTO:+0200
TZNAME:CEST
DTSTART:20260329T010000
END:DAYLIGHT
BEGIN:STANDARD
TZOFFSETFROM:+0200
TZOFFSETTO:+0100
TZNAME:CET
DTSTART:20261025T010000
END:STANDARD
BEGIN:DAYLIGHT
TZOFFSETFROM:+0100
TZOFFSETTO:+0200
TZNAME:CEST
DTSTART:20270328T010000
END:DAYLIGHT
BEGIN:STANDARD
TZOFFSETFROM:+0200
TZOFFSETTO:+0100
TZNAME:CET
DTSTART:20271031T010000
END:STANDARD
END:VTIMEZONE
BEGIN:VEVENT
DTSTART;TZID=Europe/Stockholm:20260523T160000
DTEND;TZID=Europe/Stockholm:20260523T180000
DTSTAMP:20260425T171504
CREATED:20260309T140557Z
LAST-MODIFIED:20260309T140557Z
UID:10018936-1779552000-1779559200@gardstensbostader.se
SUMMARY:Basketträning med Gårdsten Eagles\, +15 år
DESCRIPTION:Basketträning\nPlats: Lilla Gårdstensskolan \nTisdagar:\nKl 17.00-18.30 ålder 7-10 år\nKl 18.30-20.00 ålder 11-14 år \nLördagar:\nKl.16.00-18.00 ålder +15 år \nVälkomna!
URL:https://gardstensbostader.se/event/baskettraning-med-gardsten-eagles-15-ar/2026-05-23
LOCATION:Lilla Gårdstensskolan\, Saffransgatan 78\, 424 42 Angered
END:VEVENT
BEGIN:VEVENT
DTSTART;TZID=Europe/Stockholm:20260526T170000
DTEND;TZID=Europe/Stockholm:20260526T200000
DTSTAMP:20260425T171504
CREATED:20260121T172440Z
LAST-MODIFIED:20260121T172627Z
UID:10018837-1779814800-1779825600@gardstensbostader.se
SUMMARY:Basketträning i Gårdsten
DESCRIPTION:Var med på basketträningen med Gårdsten Eagles. Alla ungdomar är välkomna. Se tiderna nedan. \nTisdagar kl. 17.00-20.00:\nKl. 17.00-18.30 för ålder 7-10 år\nKl. 18.30-20.00 för ålder 11-14 år\nTränare: Kemal och Kareem\nPlats: Lilla Gårdstensskolan
URL:https://gardstensbostader.se/event/baskettraning-i-gardsten-2/2026-05-26
LOCATION:Lilla Gårdstensskolan\, Saffransgatan 78\, 424 42 Angered
END:VEVENT
BEGIN:VEVENT
DTSTART;TZID=Europe/Stockholm:20260526T170000
DTEND;TZID=Europe/Stockholm:20260526T200000
DTSTAMP:20260425T171504
CREATED:20260309T140140Z
LAST-MODIFIED:20260309T140140Z
UID:10018922-1779814800-1779825600@gardstensbostader.se
SUMMARY:Basketträning med Gårdsten Eagles
DESCRIPTION:Basketträning\nPlats: Lilla Gårdstensskolan \nTisdagar:\nKl 17.00-18.30 ålder 7-10 år\nKl 18.30-20.00 ålder 11-14 år \nLördagar:\nKl.16.00-18.00 ålder +15 år \nVälkomna!
URL:https://gardstensbostader.se/event/baskettraning-med-gardsten-eagles/2026-05-26
LOCATION:Lilla Gårdstensskolan\, Saffransgatan 78\, 424 42 Angered
END:VEVENT
BEGIN:VEVENT
DTSTART;TZID=Europe/Stockholm:20260530T160000
DTEND;TZID=Europe/Stockholm:20260530T180000
DTSTAMP:20260425T171504
CREATED:20260309T140557Z
LAST-MODIFIED:20260309T140557Z
UID:10018937-1780156800-1780164000@gardstensbostader.se
SUMMARY:Basketträning med Gårdsten Eagles\, +15 år
DESCRIPTION:Basketträning\nPlats: Lilla Gårdstensskolan \nTisdagar:\nKl 17.00-18.30 ålder 7-10 år\nKl 18.30-20.00 ålder 11-14 år \nLördagar:\nKl.16.00-18.00 ålder +15 år \nVälkomna!
URL:https://gardstensbostader.se/event/baskettraning-med-gardsten-eagles-15-ar/2026-05-30
LOCATION:Lilla Gårdstensskolan\, Saffransgatan 78\, 424 42 Angered
END:VEVENT
BEGIN:VEVENT
DTSTART;TZID=Europe/Stockholm:20260602T170000
DTEND;TZID=Europe/Stockholm:20260602T200000
DTSTAMP:20260425T171504
CREATED:20260121T172440Z
LAST-MODIFIED:20260121T172627Z
UID:10018838-1780419600-1780430400@gardstensbostader.se
SUMMARY:Basketträning i Gårdsten
DESCRIPTION:Var med på basketträningen med Gårdsten Eagles. Alla ungdomar är välkomna. Se tiderna nedan. \nTisdagar kl. 17.00-20.00:\nKl. 17.00-18.30 för ålder 7-10 år\nKl. 18.30-20.00 för ålder 11-14 år\nTränare: Kemal och Kareem\nPlats: Lilla Gårdstensskolan
URL:https://gardstensbostader.se/event/baskettraning-i-gardsten-2/2026-06-02
LOCATION:Lilla Gårdstensskolan\, Saffransgatan 78\, 424 42 Angered
END:VEVENT
BEGIN:VEVENT
DTSTART;TZID=Europe/Stockholm:20260602T170000
DTEND;TZID=Europe/Stockholm:20260602T200000
DTSTAMP:20260425T171504
CREATED:20260309T140140Z
LAST-MODIFIED:20260309T140140Z
UID:10018923-1780419600-1780430400@gardstensbostader.se
SUMMARY:Basketträning med Gårdsten Eagles
DESCRIPTION:Basketträning\nPlats: Lilla Gårdstensskolan \nTisdagar:\nKl 17.00-18.30 ålder 7-10 år\nKl 18.30-20.00 ålder 11-14 år \nLördagar:\nKl.16.00-18.00 ålder +15 år \nVälkomna!
URL:https://gardstensbostader.se/event/baskettraning-med-gardsten-eagles/2026-06-02
LOCATION:Lilla Gårdstensskolan\, Saffransgatan 78\, 424 42 Angered
END:VEVENT
BEGIN:VEVENT
DTSTART;TZID=Europe/Stockholm:20260609T170000
DTEND;TZID=Europe/Stockholm:20260609T200000
DTSTAMP:20260425T171504
CREATED:20260121T172440Z
LAST-MODIFIED:20260121T172627Z
UID:10018839-1781024400-1781035200@gardstensbostader.se
SUMMARY:Basketträning i Gårdsten
DESCRIPTION:Var med på basketträningen med Gårdsten Eagles. Alla ungdomar är välkomna. Se tiderna nedan. \nTisdagar kl. 17.00-20.00:\nKl. 17.00-18.30 för ålder 7-10 år\nKl. 18.30-20.00 för ålder 11-14 år\nTränare: Kemal och Kareem\nPlats: Lilla Gårdstensskolan
URL:https://gardstensbostader.se/event/baskettraning-i-gardsten-2/2026-06-09
LOCATION:Lilla Gårdstensskolan\, Saffransgatan 78\, 424 42 Angered
END:VEVENT
BEGIN:VEVENT
DTSTART;TZID=Europe/Stockholm:20260609T170000
DTEND;TZID=Europe/Stockholm:20260609T200000
DTSTAMP:20260425T171504
CREATED:20260309T140140Z
LAST-MODIFIED:20260309T140140Z
UID:10018924-1781024400-1781035200@gardstensbostader.se
SUMMARY:Basketträning med Gårdsten Eagles
DESCRIPTION:Basketträning\nPlats: Lilla Gårdstensskolan \nTisdagar:\nKl 17.00-18.30 ålder 7-10 år\nKl 18.30-20.00 ålder 11-14 år \nLördagar:\nKl.16.00-18.00 ålder +15 år \nVälkomna!
URL:https://gardstensbostader.se/event/baskettraning-med-gardsten-eagles/2026-06-09
LOCATION:Lilla Gårdstensskolan\, Saffransgatan 78\, 424 42 Angered
END:VEVENT
BEGIN:VEVENT
DTSTART;TZID=Europe/Stockholm:20260616T170000
DTEND;TZID=Europe/Stockholm:20260616T200000
DTSTAMP:20260425T171504
CREATED:20260309T140140Z
LAST-MODIFIED:20260309T140140Z
UID:10018925-1781629200-1781640000@gardstensbostader.se
SUMMARY:Basketträning med Gårdsten Eagles
DESCRIPTION:Basketträning\nPlats: Lilla Gårdstensskolan \nTisdagar:\nKl 17.00-18.30 ålder 7-10 år\nKl 18.30-20.00 ålder 11-14 år \nLördagar:\nKl.16.00-18.00 ålder +15 år \nVälkomna!
URL:https://gardstensbostader.se/event/baskettraning-med-gardsten-eagles/2026-06-16
LOCATION:Lilla Gårdstensskolan\, Saffransgatan 78\, 424 42 Angered
END:VEVENT
END:VCALENDAR