BEGIN:VCALENDAR
VERSION:2.0
PRODID:-// - ECPv6.15.18//NONSGML v1.0//EN
CALSCALE:GREGORIAN
METHOD:PUBLISH
X-ORIGINAL-URL:https://gardstensbostader.se
X-WR-CALDESC:Händelser för 
REFRESH-INTERVAL;VALUE=DURATION:PT1H
X-Robots-Tag:noindex
X-PUBLISHED-TTL:PT1H
BEGIN:VTIMEZONE
TZID:Europe/Stockholm
BEGIN:DAYLIGHT
TZOFFSETFROM:+0100
TZOFFSETTO:+0200
TZNAME:CEST
DTSTART:20260329T010000
END:DAYLIGHT
BEGIN:STANDARD
TZOFFSETFROM:+0200
TZOFFSETTO:+0100
TZNAME:CET
DTSTART:20261025T010000
END:STANDARD
BEGIN:DAYLIGHT
TZOFFSETFROM:+0100
TZOFFSETTO:+0200
TZNAME:CEST
DTSTART:20270328T010000
END:DAYLIGHT
BEGIN:STANDARD
TZOFFSETFROM:+0200
TZOFFSETTO:+0100
TZNAME:CET
DTSTART:20271031T010000
END:STANDARD
BEGIN:DAYLIGHT
TZOFFSETFROM:+0100
TZOFFSETTO:+0200
TZNAME:CEST
DTSTART:20280326T010000
END:DAYLIGHT
BEGIN:STANDARD
TZOFFSETFROM:+0200
TZOFFSETTO:+0100
TZNAME:CET
DTSTART:20281029T010000
END:STANDARD
END:VTIMEZONE
BEGIN:VEVENT
DTSTART;TZID=Europe/Stockholm:20270610T160000
DTEND;TZID=Europe/Stockholm:20270610T183000
DTSTAMP:20260424T050203
CREATED:20250127T144044Z
LAST-MODIFIED:20250127T144044Z
UID:10014501-1812643200-1812652200@gardstensbostader.se
SUMMARY:Biljard & pingis
DESCRIPTION:I seniorlokalen på Muskotgatan 10 spelas det både biljard och pingis varje tisdag och torsdag. \nTid kl. 16.00-18.30 \nVälkomna!
URL:https://gardstensbostader.se/event/biljard-pingis-9/2027-06-10
LOCATION:Seniorlokalen i Gårdstenshuset\, Muskotgatan 10\, Angered\, 42441\, Sverige
GEO:57.8040901;12.0314352
X-APPLE-STRUCTURED-LOCATION;VALUE=URI;X-ADDRESS=Seniorlokalen i Gårdstenshuset Muskotgatan 10 Angered 42441 Sverige;X-APPLE-RADIUS=500;X-TITLE=Muskotgatan 10:geo:12.0314352,57.8040901
END:VEVENT
BEGIN:VEVENT
DTSTART;TZID=Europe/Stockholm:20270614T180000
DTEND;TZID=Europe/Stockholm:20270614T190000
DTSTAMP:20260424T050203
CREATED:20250127T144434Z
LAST-MODIFIED:20250127T144434Z
UID:10014900-1812996000-1812999600@gardstensbostader.se
SUMMARY:Möte på finska
DESCRIPTION:Matti undervisar i evangeliet.\nVi sjunger lovsånger på finska och diskuterar tron på Gud.\nVälkomna måndagar kl. 18\nPlats: Seniorlokalen Muskotgatan 10 \nEVANKELIUMI ON ILOSANOMA\nTule Laulamaan\nJa Keskustelemaan\nUSKOSTA JUMALAAN\nMaanantaisin klo 18\nPuhutaan suomea\nTervetuloa!
URL:https://gardstensbostader.se/event/mote-pa-finska/2027-06-14
LOCATION:Seniorlokalen i Gårdstenshuset\, Muskotgatan 10\, Angered\, 42441\, Sverige
GEO:57.8040901;12.0314352
X-APPLE-STRUCTURED-LOCATION;VALUE=URI;X-ADDRESS=Seniorlokalen i Gårdstenshuset Muskotgatan 10 Angered 42441 Sverige;X-APPLE-RADIUS=500;X-TITLE=Muskotgatan 10:geo:12.0314352,57.8040901
END:VEVENT
BEGIN:VEVENT
DTSTART;TZID=Europe/Stockholm:20270615T160000
DTEND;TZID=Europe/Stockholm:20270615T183000
DTSTAMP:20260424T050203
CREATED:20250127T144044Z
LAST-MODIFIED:20250127T144044Z
UID:10014502-1813075200-1813084200@gardstensbostader.se
SUMMARY:Biljard & pingis
DESCRIPTION:I seniorlokalen på Muskotgatan 10 spelas det både biljard och pingis varje tisdag och torsdag. \nTid kl. 16.00-18.30 \nVälkomna!
URL:https://gardstensbostader.se/event/biljard-pingis-9/2027-06-15
LOCATION:Seniorlokalen i Gårdstenshuset\, Muskotgatan 10\, Angered\, 42441\, Sverige
GEO:57.8040901;12.0314352
X-APPLE-STRUCTURED-LOCATION;VALUE=URI;X-ADDRESS=Seniorlokalen i Gårdstenshuset Muskotgatan 10 Angered 42441 Sverige;X-APPLE-RADIUS=500;X-TITLE=Muskotgatan 10:geo:12.0314352,57.8040901
END:VEVENT
BEGIN:VEVENT
DTSTART;TZID=Europe/Stockholm:20270617T160000
DTEND;TZID=Europe/Stockholm:20270617T183000
DTSTAMP:20260424T050203
CREATED:20250127T144044Z
LAST-MODIFIED:20250127T144044Z
UID:10014503-1813248000-1813257000@gardstensbostader.se
SUMMARY:Biljard & pingis
DESCRIPTION:I seniorlokalen på Muskotgatan 10 spelas det både biljard och pingis varje tisdag och torsdag. \nTid kl. 16.00-18.30 \nVälkomna!
URL:https://gardstensbostader.se/event/biljard-pingis-9/2027-06-17
LOCATION:Seniorlokalen i Gårdstenshuset\, Muskotgatan 10\, Angered\, 42441\, Sverige
GEO:57.8040901;12.0314352
X-APPLE-STRUCTURED-LOCATION;VALUE=URI;X-ADDRESS=Seniorlokalen i Gårdstenshuset Muskotgatan 10 Angered 42441 Sverige;X-APPLE-RADIUS=500;X-TITLE=Muskotgatan 10:geo:12.0314352,57.8040901
END:VEVENT
BEGIN:VEVENT
DTSTART;TZID=Europe/Stockholm:20270621T180000
DTEND;TZID=Europe/Stockholm:20270621T190000
DTSTAMP:20260424T050203
CREATED:20250127T144434Z
LAST-MODIFIED:20250127T144434Z
UID:10014901-1813600800-1813604400@gardstensbostader.se
SUMMARY:Möte på finska
DESCRIPTION:Matti undervisar i evangeliet.\nVi sjunger lovsånger på finska och diskuterar tron på Gud.\nVälkomna måndagar kl. 18\nPlats: Seniorlokalen Muskotgatan 10 \nEVANKELIUMI ON ILOSANOMA\nTule Laulamaan\nJa Keskustelemaan\nUSKOSTA JUMALAAN\nMaanantaisin klo 18\nPuhutaan suomea\nTervetuloa!
URL:https://gardstensbostader.se/event/mote-pa-finska/2027-06-21
LOCATION:Seniorlokalen i Gårdstenshuset\, Muskotgatan 10\, Angered\, 42441\, Sverige
GEO:57.8040901;12.0314352
X-APPLE-STRUCTURED-LOCATION;VALUE=URI;X-ADDRESS=Seniorlokalen i Gårdstenshuset Muskotgatan 10 Angered 42441 Sverige;X-APPLE-RADIUS=500;X-TITLE=Muskotgatan 10:geo:12.0314352,57.8040901
END:VEVENT
BEGIN:VEVENT
DTSTART;TZID=Europe/Stockholm:20270622T160000
DTEND;TZID=Europe/Stockholm:20270622T183000
DTSTAMP:20260424T050203
CREATED:20250127T144044Z
LAST-MODIFIED:20250127T144044Z
UID:10014504-1813680000-1813689000@gardstensbostader.se
SUMMARY:Biljard & pingis
DESCRIPTION:I seniorlokalen på Muskotgatan 10 spelas det både biljard och pingis varje tisdag och torsdag. \nTid kl. 16.00-18.30 \nVälkomna!
URL:https://gardstensbostader.se/event/biljard-pingis-9/2027-06-22
LOCATION:Seniorlokalen i Gårdstenshuset\, Muskotgatan 10\, Angered\, 42441\, Sverige
GEO:57.8040901;12.0314352
X-APPLE-STRUCTURED-LOCATION;VALUE=URI;X-ADDRESS=Seniorlokalen i Gårdstenshuset Muskotgatan 10 Angered 42441 Sverige;X-APPLE-RADIUS=500;X-TITLE=Muskotgatan 10:geo:12.0314352,57.8040901
END:VEVENT
BEGIN:VEVENT
DTSTART;TZID=Europe/Stockholm:20270624T160000
DTEND;TZID=Europe/Stockholm:20270624T183000
DTSTAMP:20260424T050203
CREATED:20250127T144044Z
LAST-MODIFIED:20250127T144044Z
UID:10014505-1813852800-1813861800@gardstensbostader.se
SUMMARY:Biljard & pingis
DESCRIPTION:I seniorlokalen på Muskotgatan 10 spelas det både biljard och pingis varje tisdag och torsdag. \nTid kl. 16.00-18.30 \nVälkomna!
URL:https://gardstensbostader.se/event/biljard-pingis-9/2027-06-24
LOCATION:Seniorlokalen i Gårdstenshuset\, Muskotgatan 10\, Angered\, 42441\, Sverige
GEO:57.8040901;12.0314352
X-APPLE-STRUCTURED-LOCATION;VALUE=URI;X-ADDRESS=Seniorlokalen i Gårdstenshuset Muskotgatan 10 Angered 42441 Sverige;X-APPLE-RADIUS=500;X-TITLE=Muskotgatan 10:geo:12.0314352,57.8040901
END:VEVENT
BEGIN:VEVENT
DTSTART;TZID=Europe/Stockholm:20270628T180000
DTEND;TZID=Europe/Stockholm:20270628T190000
DTSTAMP:20260424T050203
CREATED:20250127T144434Z
LAST-MODIFIED:20250127T144434Z
UID:10014902-1814205600-1814209200@gardstensbostader.se
SUMMARY:Möte på finska
DESCRIPTION:Matti undervisar i evangeliet.\nVi sjunger lovsånger på finska och diskuterar tron på Gud.\nVälkomna måndagar kl. 18\nPlats: Seniorlokalen Muskotgatan 10 \nEVANKELIUMI ON ILOSANOMA\nTule Laulamaan\nJa Keskustelemaan\nUSKOSTA JUMALAAN\nMaanantaisin klo 18\nPuhutaan suomea\nTervetuloa!
URL:https://gardstensbostader.se/event/mote-pa-finska/2027-06-28
LOCATION:Seniorlokalen i Gårdstenshuset\, Muskotgatan 10\, Angered\, 42441\, Sverige
GEO:57.8040901;12.0314352
X-APPLE-STRUCTURED-LOCATION;VALUE=URI;X-ADDRESS=Seniorlokalen i Gårdstenshuset Muskotgatan 10 Angered 42441 Sverige;X-APPLE-RADIUS=500;X-TITLE=Muskotgatan 10:geo:12.0314352,57.8040901
END:VEVENT
BEGIN:VEVENT
DTSTART;TZID=Europe/Stockholm:20270629T160000
DTEND;TZID=Europe/Stockholm:20270629T183000
DTSTAMP:20260424T050203
CREATED:20250127T144044Z
LAST-MODIFIED:20250127T144044Z
UID:10014506-1814284800-1814293800@gardstensbostader.se
SUMMARY:Biljard & pingis
DESCRIPTION:I seniorlokalen på Muskotgatan 10 spelas det både biljard och pingis varje tisdag och torsdag. \nTid kl. 16.00-18.30 \nVälkomna!
URL:https://gardstensbostader.se/event/biljard-pingis-9/2027-06-29
LOCATION:Seniorlokalen i Gårdstenshuset\, Muskotgatan 10\, Angered\, 42441\, Sverige
GEO:57.8040901;12.0314352
X-APPLE-STRUCTURED-LOCATION;VALUE=URI;X-ADDRESS=Seniorlokalen i Gårdstenshuset Muskotgatan 10 Angered 42441 Sverige;X-APPLE-RADIUS=500;X-TITLE=Muskotgatan 10:geo:12.0314352,57.8040901
END:VEVENT
BEGIN:VEVENT
DTSTART;TZID=Europe/Stockholm:20270701T160000
DTEND;TZID=Europe/Stockholm:20270701T183000
DTSTAMP:20260424T050203
CREATED:20250127T144044Z
LAST-MODIFIED:20250127T144044Z
UID:10014507-1814457600-1814466600@gardstensbostader.se
SUMMARY:Biljard & pingis
DESCRIPTION:I seniorlokalen på Muskotgatan 10 spelas det både biljard och pingis varje tisdag och torsdag. \nTid kl. 16.00-18.30 \nVälkomna!
URL:https://gardstensbostader.se/event/biljard-pingis-9/2027-07-01
LOCATION:Seniorlokalen i Gårdstenshuset\, Muskotgatan 10\, Angered\, 42441\, Sverige
GEO:57.8040901;12.0314352
X-APPLE-STRUCTURED-LOCATION;VALUE=URI;X-ADDRESS=Seniorlokalen i Gårdstenshuset Muskotgatan 10 Angered 42441 Sverige;X-APPLE-RADIUS=500;X-TITLE=Muskotgatan 10:geo:12.0314352,57.8040901
END:VEVENT
BEGIN:VEVENT
DTSTART;TZID=Europe/Stockholm:20270705T180000
DTEND;TZID=Europe/Stockholm:20270705T190000
DTSTAMP:20260424T050203
CREATED:20250127T144434Z
LAST-MODIFIED:20250127T144434Z
UID:10014903-1814810400-1814814000@gardstensbostader.se
SUMMARY:Möte på finska
DESCRIPTION:Matti undervisar i evangeliet.\nVi sjunger lovsånger på finska och diskuterar tron på Gud.\nVälkomna måndagar kl. 18\nPlats: Seniorlokalen Muskotgatan 10 \nEVANKELIUMI ON ILOSANOMA\nTule Laulamaan\nJa Keskustelemaan\nUSKOSTA JUMALAAN\nMaanantaisin klo 18\nPuhutaan suomea\nTervetuloa!
URL:https://gardstensbostader.se/event/mote-pa-finska/2027-07-05
LOCATION:Seniorlokalen i Gårdstenshuset\, Muskotgatan 10\, Angered\, 42441\, Sverige
GEO:57.8040901;12.0314352
X-APPLE-STRUCTURED-LOCATION;VALUE=URI;X-ADDRESS=Seniorlokalen i Gårdstenshuset Muskotgatan 10 Angered 42441 Sverige;X-APPLE-RADIUS=500;X-TITLE=Muskotgatan 10:geo:12.0314352,57.8040901
END:VEVENT
BEGIN:VEVENT
DTSTART;TZID=Europe/Stockholm:20270706T160000
DTEND;TZID=Europe/Stockholm:20270706T183000
DTSTAMP:20260424T050204
CREATED:20250127T144044Z
LAST-MODIFIED:20250127T144044Z
UID:10014508-1814889600-1814898600@gardstensbostader.se
SUMMARY:Biljard & pingis
DESCRIPTION:I seniorlokalen på Muskotgatan 10 spelas det både biljard och pingis varje tisdag och torsdag. \nTid kl. 16.00-18.30 \nVälkomna!
URL:https://gardstensbostader.se/event/biljard-pingis-9/2027-07-06
LOCATION:Seniorlokalen i Gårdstenshuset\, Muskotgatan 10\, Angered\, 42441\, Sverige
GEO:57.8040901;12.0314352
X-APPLE-STRUCTURED-LOCATION;VALUE=URI;X-ADDRESS=Seniorlokalen i Gårdstenshuset Muskotgatan 10 Angered 42441 Sverige;X-APPLE-RADIUS=500;X-TITLE=Muskotgatan 10:geo:12.0314352,57.8040901
END:VEVENT
BEGIN:VEVENT
DTSTART;TZID=Europe/Stockholm:20270708T160000
DTEND;TZID=Europe/Stockholm:20270708T183000
DTSTAMP:20260424T050204
CREATED:20250127T144044Z
LAST-MODIFIED:20250127T144044Z
UID:10014509-1815062400-1815071400@gardstensbostader.se
SUMMARY:Biljard & pingis
DESCRIPTION:I seniorlokalen på Muskotgatan 10 spelas det både biljard och pingis varje tisdag och torsdag. \nTid kl. 16.00-18.30 \nVälkomna!
URL:https://gardstensbostader.se/event/biljard-pingis-9/2027-07-08
LOCATION:Seniorlokalen i Gårdstenshuset\, Muskotgatan 10\, Angered\, 42441\, Sverige
GEO:57.8040901;12.0314352
X-APPLE-STRUCTURED-LOCATION;VALUE=URI;X-ADDRESS=Seniorlokalen i Gårdstenshuset Muskotgatan 10 Angered 42441 Sverige;X-APPLE-RADIUS=500;X-TITLE=Muskotgatan 10:geo:12.0314352,57.8040901
END:VEVENT
BEGIN:VEVENT
DTSTART;TZID=Europe/Stockholm:20270712T180000
DTEND;TZID=Europe/Stockholm:20270712T190000
DTSTAMP:20260424T050204
CREATED:20250127T144434Z
LAST-MODIFIED:20250127T144434Z
UID:10014904-1815415200-1815418800@gardstensbostader.se
SUMMARY:Möte på finska
DESCRIPTION:Matti undervisar i evangeliet.\nVi sjunger lovsånger på finska och diskuterar tron på Gud.\nVälkomna måndagar kl. 18\nPlats: Seniorlokalen Muskotgatan 10 \nEVANKELIUMI ON ILOSANOMA\nTule Laulamaan\nJa Keskustelemaan\nUSKOSTA JUMALAAN\nMaanantaisin klo 18\nPuhutaan suomea\nTervetuloa!
URL:https://gardstensbostader.se/event/mote-pa-finska/2027-07-12
LOCATION:Seniorlokalen i Gårdstenshuset\, Muskotgatan 10\, Angered\, 42441\, Sverige
GEO:57.8040901;12.0314352
X-APPLE-STRUCTURED-LOCATION;VALUE=URI;X-ADDRESS=Seniorlokalen i Gårdstenshuset Muskotgatan 10 Angered 42441 Sverige;X-APPLE-RADIUS=500;X-TITLE=Muskotgatan 10:geo:12.0314352,57.8040901
END:VEVENT
BEGIN:VEVENT
DTSTART;TZID=Europe/Stockholm:20270713T160000
DTEND;TZID=Europe/Stockholm:20270713T183000
DTSTAMP:20260424T050204
CREATED:20250127T144044Z
LAST-MODIFIED:20250127T144044Z
UID:10014510-1815494400-1815503400@gardstensbostader.se
SUMMARY:Biljard & pingis
DESCRIPTION:I seniorlokalen på Muskotgatan 10 spelas det både biljard och pingis varje tisdag och torsdag. \nTid kl. 16.00-18.30 \nVälkomna!
URL:https://gardstensbostader.se/event/biljard-pingis-9/2027-07-13
LOCATION:Seniorlokalen i Gårdstenshuset\, Muskotgatan 10\, Angered\, 42441\, Sverige
GEO:57.8040901;12.0314352
X-APPLE-STRUCTURED-LOCATION;VALUE=URI;X-ADDRESS=Seniorlokalen i Gårdstenshuset Muskotgatan 10 Angered 42441 Sverige;X-APPLE-RADIUS=500;X-TITLE=Muskotgatan 10:geo:12.0314352,57.8040901
END:VEVENT
BEGIN:VEVENT
DTSTART;TZID=Europe/Stockholm:20270715T160000
DTEND;TZID=Europe/Stockholm:20270715T183000
DTSTAMP:20260424T050204
CREATED:20250127T144044Z
LAST-MODIFIED:20250127T144044Z
UID:10014511-1815667200-1815676200@gardstensbostader.se
SUMMARY:Biljard & pingis
DESCRIPTION:I seniorlokalen på Muskotgatan 10 spelas det både biljard och pingis varje tisdag och torsdag. \nTid kl. 16.00-18.30 \nVälkomna!
URL:https://gardstensbostader.se/event/biljard-pingis-9/2027-07-15
LOCATION:Seniorlokalen i Gårdstenshuset\, Muskotgatan 10\, Angered\, 42441\, Sverige
GEO:57.8040901;12.0314352
X-APPLE-STRUCTURED-LOCATION;VALUE=URI;X-ADDRESS=Seniorlokalen i Gårdstenshuset Muskotgatan 10 Angered 42441 Sverige;X-APPLE-RADIUS=500;X-TITLE=Muskotgatan 10:geo:12.0314352,57.8040901
END:VEVENT
BEGIN:VEVENT
DTSTART;TZID=Europe/Stockholm:20270719T180000
DTEND;TZID=Europe/Stockholm:20270719T190000
DTSTAMP:20260424T050204
CREATED:20250127T144434Z
LAST-MODIFIED:20250127T144434Z
UID:10014905-1816020000-1816023600@gardstensbostader.se
SUMMARY:Möte på finska
DESCRIPTION:Matti undervisar i evangeliet.\nVi sjunger lovsånger på finska och diskuterar tron på Gud.\nVälkomna måndagar kl. 18\nPlats: Seniorlokalen Muskotgatan 10 \nEVANKELIUMI ON ILOSANOMA\nTule Laulamaan\nJa Keskustelemaan\nUSKOSTA JUMALAAN\nMaanantaisin klo 18\nPuhutaan suomea\nTervetuloa!
URL:https://gardstensbostader.se/event/mote-pa-finska/2027-07-19
LOCATION:Seniorlokalen i Gårdstenshuset\, Muskotgatan 10\, Angered\, 42441\, Sverige
GEO:57.8040901;12.0314352
X-APPLE-STRUCTURED-LOCATION;VALUE=URI;X-ADDRESS=Seniorlokalen i Gårdstenshuset Muskotgatan 10 Angered 42441 Sverige;X-APPLE-RADIUS=500;X-TITLE=Muskotgatan 10:geo:12.0314352,57.8040901
END:VEVENT
BEGIN:VEVENT
DTSTART;TZID=Europe/Stockholm:20270720T160000
DTEND;TZID=Europe/Stockholm:20270720T183000
DTSTAMP:20260424T050204
CREATED:20250127T144044Z
LAST-MODIFIED:20250127T144044Z
UID:10014512-1816099200-1816108200@gardstensbostader.se
SUMMARY:Biljard & pingis
DESCRIPTION:I seniorlokalen på Muskotgatan 10 spelas det både biljard och pingis varje tisdag och torsdag. \nTid kl. 16.00-18.30 \nVälkomna!
URL:https://gardstensbostader.se/event/biljard-pingis-9/2027-07-20
LOCATION:Seniorlokalen i Gårdstenshuset\, Muskotgatan 10\, Angered\, 42441\, Sverige
GEO:57.8040901;12.0314352
X-APPLE-STRUCTURED-LOCATION;VALUE=URI;X-ADDRESS=Seniorlokalen i Gårdstenshuset Muskotgatan 10 Angered 42441 Sverige;X-APPLE-RADIUS=500;X-TITLE=Muskotgatan 10:geo:12.0314352,57.8040901
END:VEVENT
BEGIN:VEVENT
DTSTART;TZID=Europe/Stockholm:20270722T160000
DTEND;TZID=Europe/Stockholm:20270722T183000
DTSTAMP:20260424T050204
CREATED:20250127T144044Z
LAST-MODIFIED:20250127T144044Z
UID:10014513-1816272000-1816281000@gardstensbostader.se
SUMMARY:Biljard & pingis
DESCRIPTION:I seniorlokalen på Muskotgatan 10 spelas det både biljard och pingis varje tisdag och torsdag. \nTid kl. 16.00-18.30 \nVälkomna!
URL:https://gardstensbostader.se/event/biljard-pingis-9/2027-07-22
LOCATION:Seniorlokalen i Gårdstenshuset\, Muskotgatan 10\, Angered\, 42441\, Sverige
GEO:57.8040901;12.0314352
X-APPLE-STRUCTURED-LOCATION;VALUE=URI;X-ADDRESS=Seniorlokalen i Gårdstenshuset Muskotgatan 10 Angered 42441 Sverige;X-APPLE-RADIUS=500;X-TITLE=Muskotgatan 10:geo:12.0314352,57.8040901
END:VEVENT
BEGIN:VEVENT
DTSTART;TZID=Europe/Stockholm:20270726T180000
DTEND;TZID=Europe/Stockholm:20270726T190000
DTSTAMP:20260424T050204
CREATED:20250127T144434Z
LAST-MODIFIED:20250127T144434Z
UID:10014906-1816624800-1816628400@gardstensbostader.se
SUMMARY:Möte på finska
DESCRIPTION:Matti undervisar i evangeliet.\nVi sjunger lovsånger på finska och diskuterar tron på Gud.\nVälkomna måndagar kl. 18\nPlats: Seniorlokalen Muskotgatan 10 \nEVANKELIUMI ON ILOSANOMA\nTule Laulamaan\nJa Keskustelemaan\nUSKOSTA JUMALAAN\nMaanantaisin klo 18\nPuhutaan suomea\nTervetuloa!
URL:https://gardstensbostader.se/event/mote-pa-finska/2027-07-26
LOCATION:Seniorlokalen i Gårdstenshuset\, Muskotgatan 10\, Angered\, 42441\, Sverige
GEO:57.8040901;12.0314352
X-APPLE-STRUCTURED-LOCATION;VALUE=URI;X-ADDRESS=Seniorlokalen i Gårdstenshuset Muskotgatan 10 Angered 42441 Sverige;X-APPLE-RADIUS=500;X-TITLE=Muskotgatan 10:geo:12.0314352,57.8040901
END:VEVENT
BEGIN:VEVENT
DTSTART;TZID=Europe/Stockholm:20270727T160000
DTEND;TZID=Europe/Stockholm:20270727T183000
DTSTAMP:20260424T050204
CREATED:20250127T144044Z
LAST-MODIFIED:20250127T144044Z
UID:10014514-1816704000-1816713000@gardstensbostader.se
SUMMARY:Biljard & pingis
DESCRIPTION:I seniorlokalen på Muskotgatan 10 spelas det både biljard och pingis varje tisdag och torsdag. \nTid kl. 16.00-18.30 \nVälkomna!
URL:https://gardstensbostader.se/event/biljard-pingis-9/2027-07-27
LOCATION:Seniorlokalen i Gårdstenshuset\, Muskotgatan 10\, Angered\, 42441\, Sverige
GEO:57.8040901;12.0314352
X-APPLE-STRUCTURED-LOCATION;VALUE=URI;X-ADDRESS=Seniorlokalen i Gårdstenshuset Muskotgatan 10 Angered 42441 Sverige;X-APPLE-RADIUS=500;X-TITLE=Muskotgatan 10:geo:12.0314352,57.8040901
END:VEVENT
BEGIN:VEVENT
DTSTART;TZID=Europe/Stockholm:20270729T160000
DTEND;TZID=Europe/Stockholm:20270729T183000
DTSTAMP:20260424T050204
CREATED:20250127T144044Z
LAST-MODIFIED:20250127T144044Z
UID:10014515-1816876800-1816885800@gardstensbostader.se
SUMMARY:Biljard & pingis
DESCRIPTION:I seniorlokalen på Muskotgatan 10 spelas det både biljard och pingis varje tisdag och torsdag. \nTid kl. 16.00-18.30 \nVälkomna!
URL:https://gardstensbostader.se/event/biljard-pingis-9/2027-07-29
LOCATION:Seniorlokalen i Gårdstenshuset\, Muskotgatan 10\, Angered\, 42441\, Sverige
GEO:57.8040901;12.0314352
X-APPLE-STRUCTURED-LOCATION;VALUE=URI;X-ADDRESS=Seniorlokalen i Gårdstenshuset Muskotgatan 10 Angered 42441 Sverige;X-APPLE-RADIUS=500;X-TITLE=Muskotgatan 10:geo:12.0314352,57.8040901
END:VEVENT
BEGIN:VEVENT
DTSTART;TZID=Europe/Stockholm:20270802T180000
DTEND;TZID=Europe/Stockholm:20270802T190000
DTSTAMP:20260424T050204
CREATED:20250127T144434Z
LAST-MODIFIED:20250127T144434Z
UID:10014907-1817229600-1817233200@gardstensbostader.se
SUMMARY:Möte på finska
DESCRIPTION:Matti undervisar i evangeliet.\nVi sjunger lovsånger på finska och diskuterar tron på Gud.\nVälkomna måndagar kl. 18\nPlats: Seniorlokalen Muskotgatan 10 \nEVANKELIUMI ON ILOSANOMA\nTule Laulamaan\nJa Keskustelemaan\nUSKOSTA JUMALAAN\nMaanantaisin klo 18\nPuhutaan suomea\nTervetuloa!
URL:https://gardstensbostader.se/event/mote-pa-finska/2027-08-02
LOCATION:Seniorlokalen i Gårdstenshuset\, Muskotgatan 10\, Angered\, 42441\, Sverige
GEO:57.8040901;12.0314352
X-APPLE-STRUCTURED-LOCATION;VALUE=URI;X-ADDRESS=Seniorlokalen i Gårdstenshuset Muskotgatan 10 Angered 42441 Sverige;X-APPLE-RADIUS=500;X-TITLE=Muskotgatan 10:geo:12.0314352,57.8040901
END:VEVENT
BEGIN:VEVENT
DTSTART;TZID=Europe/Stockholm:20270803T160000
DTEND;TZID=Europe/Stockholm:20270803T183000
DTSTAMP:20260424T050204
CREATED:20250127T144044Z
LAST-MODIFIED:20250127T144044Z
UID:10014516-1817308800-1817317800@gardstensbostader.se
SUMMARY:Biljard & pingis
DESCRIPTION:I seniorlokalen på Muskotgatan 10 spelas det både biljard och pingis varje tisdag och torsdag. \nTid kl. 16.00-18.30 \nVälkomna!
URL:https://gardstensbostader.se/event/biljard-pingis-9/2027-08-03
LOCATION:Seniorlokalen i Gårdstenshuset\, Muskotgatan 10\, Angered\, 42441\, Sverige
GEO:57.8040901;12.0314352
X-APPLE-STRUCTURED-LOCATION;VALUE=URI;X-ADDRESS=Seniorlokalen i Gårdstenshuset Muskotgatan 10 Angered 42441 Sverige;X-APPLE-RADIUS=500;X-TITLE=Muskotgatan 10:geo:12.0314352,57.8040901
END:VEVENT
BEGIN:VEVENT
DTSTART;TZID=Europe/Stockholm:20270805T160000
DTEND;TZID=Europe/Stockholm:20270805T183000
DTSTAMP:20260424T050205
CREATED:20250127T144044Z
LAST-MODIFIED:20250127T144044Z
UID:10014517-1817481600-1817490600@gardstensbostader.se
SUMMARY:Biljard & pingis
DESCRIPTION:I seniorlokalen på Muskotgatan 10 spelas det både biljard och pingis varje tisdag och torsdag. \nTid kl. 16.00-18.30 \nVälkomna!
URL:https://gardstensbostader.se/event/biljard-pingis-9/2027-08-05
LOCATION:Seniorlokalen i Gårdstenshuset\, Muskotgatan 10\, Angered\, 42441\, Sverige
GEO:57.8040901;12.0314352
X-APPLE-STRUCTURED-LOCATION;VALUE=URI;X-ADDRESS=Seniorlokalen i Gårdstenshuset Muskotgatan 10 Angered 42441 Sverige;X-APPLE-RADIUS=500;X-TITLE=Muskotgatan 10:geo:12.0314352,57.8040901
END:VEVENT
BEGIN:VEVENT
DTSTART;TZID=Europe/Stockholm:20270809T180000
DTEND;TZID=Europe/Stockholm:20270809T190000
DTSTAMP:20260424T050205
CREATED:20250127T144434Z
LAST-MODIFIED:20250127T144434Z
UID:10014908-1817834400-1817838000@gardstensbostader.se
SUMMARY:Möte på finska
DESCRIPTION:Matti undervisar i evangeliet.\nVi sjunger lovsånger på finska och diskuterar tron på Gud.\nVälkomna måndagar kl. 18\nPlats: Seniorlokalen Muskotgatan 10 \nEVANKELIUMI ON ILOSANOMA\nTule Laulamaan\nJa Keskustelemaan\nUSKOSTA JUMALAAN\nMaanantaisin klo 18\nPuhutaan suomea\nTervetuloa!
URL:https://gardstensbostader.se/event/mote-pa-finska/2027-08-09
LOCATION:Seniorlokalen i Gårdstenshuset\, Muskotgatan 10\, Angered\, 42441\, Sverige
GEO:57.8040901;12.0314352
X-APPLE-STRUCTURED-LOCATION;VALUE=URI;X-ADDRESS=Seniorlokalen i Gårdstenshuset Muskotgatan 10 Angered 42441 Sverige;X-APPLE-RADIUS=500;X-TITLE=Muskotgatan 10:geo:12.0314352,57.8040901
END:VEVENT
BEGIN:VEVENT
DTSTART;TZID=Europe/Stockholm:20270810T160000
DTEND;TZID=Europe/Stockholm:20270810T183000
DTSTAMP:20260424T050205
CREATED:20250127T144044Z
LAST-MODIFIED:20250127T144044Z
UID:10014518-1817913600-1817922600@gardstensbostader.se
SUMMARY:Biljard & pingis
DESCRIPTION:I seniorlokalen på Muskotgatan 10 spelas det både biljard och pingis varje tisdag och torsdag. \nTid kl. 16.00-18.30 \nVälkomna!
URL:https://gardstensbostader.se/event/biljard-pingis-9/2027-08-10
LOCATION:Seniorlokalen i Gårdstenshuset\, Muskotgatan 10\, Angered\, 42441\, Sverige
GEO:57.8040901;12.0314352
X-APPLE-STRUCTURED-LOCATION;VALUE=URI;X-ADDRESS=Seniorlokalen i Gårdstenshuset Muskotgatan 10 Angered 42441 Sverige;X-APPLE-RADIUS=500;X-TITLE=Muskotgatan 10:geo:12.0314352,57.8040901
END:VEVENT
BEGIN:VEVENT
DTSTART;TZID=Europe/Stockholm:20270812T160000
DTEND;TZID=Europe/Stockholm:20270812T183000
DTSTAMP:20260424T050205
CREATED:20250127T144044Z
LAST-MODIFIED:20250127T144044Z
UID:10014519-1818086400-1818095400@gardstensbostader.se
SUMMARY:Biljard & pingis
DESCRIPTION:I seniorlokalen på Muskotgatan 10 spelas det både biljard och pingis varje tisdag och torsdag. \nTid kl. 16.00-18.30 \nVälkomna!
URL:https://gardstensbostader.se/event/biljard-pingis-9/2027-08-12
LOCATION:Seniorlokalen i Gårdstenshuset\, Muskotgatan 10\, Angered\, 42441\, Sverige
GEO:57.8040901;12.0314352
X-APPLE-STRUCTURED-LOCATION;VALUE=URI;X-ADDRESS=Seniorlokalen i Gårdstenshuset Muskotgatan 10 Angered 42441 Sverige;X-APPLE-RADIUS=500;X-TITLE=Muskotgatan 10:geo:12.0314352,57.8040901
END:VEVENT
BEGIN:VEVENT
DTSTART;TZID=Europe/Stockholm:20270816T180000
DTEND;TZID=Europe/Stockholm:20270816T190000
DTSTAMP:20260424T050205
CREATED:20250127T144434Z
LAST-MODIFIED:20250127T144434Z
UID:10014909-1818439200-1818442800@gardstensbostader.se
SUMMARY:Möte på finska
DESCRIPTION:Matti undervisar i evangeliet.\nVi sjunger lovsånger på finska och diskuterar tron på Gud.\nVälkomna måndagar kl. 18\nPlats: Seniorlokalen Muskotgatan 10 \nEVANKELIUMI ON ILOSANOMA\nTule Laulamaan\nJa Keskustelemaan\nUSKOSTA JUMALAAN\nMaanantaisin klo 18\nPuhutaan suomea\nTervetuloa!
URL:https://gardstensbostader.se/event/mote-pa-finska/2027-08-16
LOCATION:Seniorlokalen i Gårdstenshuset\, Muskotgatan 10\, Angered\, 42441\, Sverige
GEO:57.8040901;12.0314352
X-APPLE-STRUCTURED-LOCATION;VALUE=URI;X-ADDRESS=Seniorlokalen i Gårdstenshuset Muskotgatan 10 Angered 42441 Sverige;X-APPLE-RADIUS=500;X-TITLE=Muskotgatan 10:geo:12.0314352,57.8040901
END:VEVENT
BEGIN:VEVENT
DTSTART;TZID=Europe/Stockholm:20270817T160000
DTEND;TZID=Europe/Stockholm:20270817T183000
DTSTAMP:20260424T050205
CREATED:20250127T144044Z
LAST-MODIFIED:20250127T144044Z
UID:10014520-1818518400-1818527400@gardstensbostader.se
SUMMARY:Biljard & pingis
DESCRIPTION:I seniorlokalen på Muskotgatan 10 spelas det både biljard och pingis varje tisdag och torsdag. \nTid kl. 16.00-18.30 \nVälkomna!
URL:https://gardstensbostader.se/event/biljard-pingis-9/2027-08-17
LOCATION:Seniorlokalen i Gårdstenshuset\, Muskotgatan 10\, Angered\, 42441\, Sverige
GEO:57.8040901;12.0314352
X-APPLE-STRUCTURED-LOCATION;VALUE=URI;X-ADDRESS=Seniorlokalen i Gårdstenshuset Muskotgatan 10 Angered 42441 Sverige;X-APPLE-RADIUS=500;X-TITLE=Muskotgatan 10:geo:12.0314352,57.8040901
END:VEVENT
END:VCALENDAR