BEGIN:VCALENDAR
VERSION:2.0
PRODID:-// - ECPv6.15.18//NONSGML v1.0//EN
CALSCALE:GREGORIAN
METHOD:PUBLISH
X-ORIGINAL-URL:https://gardstensbostader.se
X-WR-CALDESC:Händelser för 
REFRESH-INTERVAL;VALUE=DURATION:PT1H
X-Robots-Tag:noindex
X-PUBLISHED-TTL:PT1H
BEGIN:VTIMEZONE
TZID:Europe/Stockholm
BEGIN:DAYLIGHT
TZOFFSETFROM:+0100
TZOFFSETTO:+0200
TZNAME:CEST
DTSTART:20240331T010000
END:DAYLIGHT
BEGIN:STANDARD
TZOFFSETFROM:+0200
TZOFFSETTO:+0100
TZNAME:CET
DTSTART:20241027T010000
END:STANDARD
BEGIN:DAYLIGHT
TZOFFSETFROM:+0100
TZOFFSETTO:+0200
TZNAME:CEST
DTSTART:20250330T010000
END:DAYLIGHT
BEGIN:STANDARD
TZOFFSETFROM:+0200
TZOFFSETTO:+0100
TZNAME:CET
DTSTART:20251026T010000
END:STANDARD
BEGIN:DAYLIGHT
TZOFFSETFROM:+0100
TZOFFSETTO:+0200
TZNAME:CEST
DTSTART:20260329T010000
END:DAYLIGHT
BEGIN:STANDARD
TZOFFSETFROM:+0200
TZOFFSETTO:+0100
TZNAME:CET
DTSTART:20261025T010000
END:STANDARD
END:VTIMEZONE
BEGIN:VEVENT
DTSTART;TZID=Europe/Stockholm:20251118T160000
DTEND;TZID=Europe/Stockholm:20251118T183000
DTSTAMP:20260421T120711
CREATED:20250127T144044Z
LAST-MODIFIED:20250127T144044Z
UID:10014338-1763481600-1763490600@gardstensbostader.se
SUMMARY:Biljard & pingis
DESCRIPTION:I seniorlokalen på Muskotgatan 10 spelas det både biljard och pingis varje tisdag och torsdag. \nTid kl. 16.00-18.30 \nVälkomna!
URL:https://gardstensbostader.se/event/biljard-pingis-9/2025-11-18
LOCATION:Seniorlokalen i Gårdstenshuset\, Muskotgatan 10\, Angered\, 42441\, Sverige
GEO:57.8040901;12.0314352
X-APPLE-STRUCTURED-LOCATION;VALUE=URI;X-ADDRESS=Seniorlokalen i Gårdstenshuset Muskotgatan 10 Angered 42441 Sverige;X-APPLE-RADIUS=500;X-TITLE=Muskotgatan 10:geo:12.0314352,57.8040901
END:VEVENT
BEGIN:VEVENT
DTSTART;TZID=Europe/Stockholm:20251117T180000
DTEND;TZID=Europe/Stockholm:20251117T190000
DTSTAMP:20260421T120711
CREATED:20250127T144434Z
LAST-MODIFIED:20250127T144434Z
UID:10014818-1763402400-1763406000@gardstensbostader.se
SUMMARY:Möte på finska
DESCRIPTION:Matti undervisar i evangeliet.\nVi sjunger lovsånger på finska och diskuterar tron på Gud.\nVälkomna måndagar kl. 18\nPlats: Seniorlokalen Muskotgatan 10 \nEVANKELIUMI ON ILOSANOMA\nTule Laulamaan\nJa Keskustelemaan\nUSKOSTA JUMALAAN\nMaanantaisin klo 18\nPuhutaan suomea\nTervetuloa!
URL:https://gardstensbostader.se/event/mote-pa-finska/2025-11-17
LOCATION:Seniorlokalen i Gårdstenshuset\, Muskotgatan 10\, Angered\, 42441\, Sverige
GEO:57.8040901;12.0314352
X-APPLE-STRUCTURED-LOCATION;VALUE=URI;X-ADDRESS=Seniorlokalen i Gårdstenshuset Muskotgatan 10 Angered 42441 Sverige;X-APPLE-RADIUS=500;X-TITLE=Muskotgatan 10:geo:12.0314352,57.8040901
END:VEVENT
BEGIN:VEVENT
DTSTART;TZID=Europe/Stockholm:20251113T160000
DTEND;TZID=Europe/Stockholm:20251113T183000
DTSTAMP:20260421T120711
CREATED:20250127T144044Z
LAST-MODIFIED:20250127T144044Z
UID:10014337-1763049600-1763058600@gardstensbostader.se
SUMMARY:Biljard & pingis
DESCRIPTION:I seniorlokalen på Muskotgatan 10 spelas det både biljard och pingis varje tisdag och torsdag. \nTid kl. 16.00-18.30 \nVälkomna!
URL:https://gardstensbostader.se/event/biljard-pingis-9/2025-11-13
LOCATION:Seniorlokalen i Gårdstenshuset\, Muskotgatan 10\, Angered\, 42441\, Sverige
GEO:57.8040901;12.0314352
X-APPLE-STRUCTURED-LOCATION;VALUE=URI;X-ADDRESS=Seniorlokalen i Gårdstenshuset Muskotgatan 10 Angered 42441 Sverige;X-APPLE-RADIUS=500;X-TITLE=Muskotgatan 10:geo:12.0314352,57.8040901
END:VEVENT
BEGIN:VEVENT
DTSTART;TZID=Europe/Stockholm:20251111T160000
DTEND;TZID=Europe/Stockholm:20251111T183000
DTSTAMP:20260421T120711
CREATED:20250127T144044Z
LAST-MODIFIED:20250127T144044Z
UID:10014336-1762876800-1762885800@gardstensbostader.se
SUMMARY:Biljard & pingis
DESCRIPTION:I seniorlokalen på Muskotgatan 10 spelas det både biljard och pingis varje tisdag och torsdag. \nTid kl. 16.00-18.30 \nVälkomna!
URL:https://gardstensbostader.se/event/biljard-pingis-9/2025-11-11
LOCATION:Seniorlokalen i Gårdstenshuset\, Muskotgatan 10\, Angered\, 42441\, Sverige
GEO:57.8040901;12.0314352
X-APPLE-STRUCTURED-LOCATION;VALUE=URI;X-ADDRESS=Seniorlokalen i Gårdstenshuset Muskotgatan 10 Angered 42441 Sverige;X-APPLE-RADIUS=500;X-TITLE=Muskotgatan 10:geo:12.0314352,57.8040901
END:VEVENT
BEGIN:VEVENT
DTSTART;TZID=Europe/Stockholm:20251110T180000
DTEND;TZID=Europe/Stockholm:20251110T190000
DTSTAMP:20260421T120711
CREATED:20250127T144434Z
LAST-MODIFIED:20250127T144434Z
UID:10014817-1762797600-1762801200@gardstensbostader.se
SUMMARY:Möte på finska
DESCRIPTION:Matti undervisar i evangeliet.\nVi sjunger lovsånger på finska och diskuterar tron på Gud.\nVälkomna måndagar kl. 18\nPlats: Seniorlokalen Muskotgatan 10 \nEVANKELIUMI ON ILOSANOMA\nTule Laulamaan\nJa Keskustelemaan\nUSKOSTA JUMALAAN\nMaanantaisin klo 18\nPuhutaan suomea\nTervetuloa!
URL:https://gardstensbostader.se/event/mote-pa-finska/2025-11-10
LOCATION:Seniorlokalen i Gårdstenshuset\, Muskotgatan 10\, Angered\, 42441\, Sverige
GEO:57.8040901;12.0314352
X-APPLE-STRUCTURED-LOCATION;VALUE=URI;X-ADDRESS=Seniorlokalen i Gårdstenshuset Muskotgatan 10 Angered 42441 Sverige;X-APPLE-RADIUS=500;X-TITLE=Muskotgatan 10:geo:12.0314352,57.8040901
END:VEVENT
BEGIN:VEVENT
DTSTART;TZID=Europe/Stockholm:20251106T160000
DTEND;TZID=Europe/Stockholm:20251106T183000
DTSTAMP:20260421T120711
CREATED:20250127T144044Z
LAST-MODIFIED:20250127T144044Z
UID:10014335-1762444800-1762453800@gardstensbostader.se
SUMMARY:Biljard & pingis
DESCRIPTION:I seniorlokalen på Muskotgatan 10 spelas det både biljard och pingis varje tisdag och torsdag. \nTid kl. 16.00-18.30 \nVälkomna!
URL:https://gardstensbostader.se/event/biljard-pingis-9/2025-11-06
LOCATION:Seniorlokalen i Gårdstenshuset\, Muskotgatan 10\, Angered\, 42441\, Sverige
GEO:57.8040901;12.0314352
X-APPLE-STRUCTURED-LOCATION;VALUE=URI;X-ADDRESS=Seniorlokalen i Gårdstenshuset Muskotgatan 10 Angered 42441 Sverige;X-APPLE-RADIUS=500;X-TITLE=Muskotgatan 10:geo:12.0314352,57.8040901
END:VEVENT
BEGIN:VEVENT
DTSTART;TZID=Europe/Stockholm:20251104T160000
DTEND;TZID=Europe/Stockholm:20251104T183000
DTSTAMP:20260421T120711
CREATED:20250127T144044Z
LAST-MODIFIED:20250127T144044Z
UID:10014334-1762272000-1762281000@gardstensbostader.se
SUMMARY:Biljard & pingis
DESCRIPTION:I seniorlokalen på Muskotgatan 10 spelas det både biljard och pingis varje tisdag och torsdag. \nTid kl. 16.00-18.30 \nVälkomna!
URL:https://gardstensbostader.se/event/biljard-pingis-9/2025-11-04
LOCATION:Seniorlokalen i Gårdstenshuset\, Muskotgatan 10\, Angered\, 42441\, Sverige
GEO:57.8040901;12.0314352
X-APPLE-STRUCTURED-LOCATION;VALUE=URI;X-ADDRESS=Seniorlokalen i Gårdstenshuset Muskotgatan 10 Angered 42441 Sverige;X-APPLE-RADIUS=500;X-TITLE=Muskotgatan 10:geo:12.0314352,57.8040901
END:VEVENT
BEGIN:VEVENT
DTSTART;TZID=Europe/Stockholm:20251103T180000
DTEND;TZID=Europe/Stockholm:20251103T190000
DTSTAMP:20260421T120711
CREATED:20250127T144434Z
LAST-MODIFIED:20250127T144434Z
UID:10014816-1762192800-1762196400@gardstensbostader.se
SUMMARY:Möte på finska
DESCRIPTION:Matti undervisar i evangeliet.\nVi sjunger lovsånger på finska och diskuterar tron på Gud.\nVälkomna måndagar kl. 18\nPlats: Seniorlokalen Muskotgatan 10 \nEVANKELIUMI ON ILOSANOMA\nTule Laulamaan\nJa Keskustelemaan\nUSKOSTA JUMALAAN\nMaanantaisin klo 18\nPuhutaan suomea\nTervetuloa!
URL:https://gardstensbostader.se/event/mote-pa-finska/2025-11-03
LOCATION:Seniorlokalen i Gårdstenshuset\, Muskotgatan 10\, Angered\, 42441\, Sverige
GEO:57.8040901;12.0314352
X-APPLE-STRUCTURED-LOCATION;VALUE=URI;X-ADDRESS=Seniorlokalen i Gårdstenshuset Muskotgatan 10 Angered 42441 Sverige;X-APPLE-RADIUS=500;X-TITLE=Muskotgatan 10:geo:12.0314352,57.8040901
END:VEVENT
BEGIN:VEVENT
DTSTART;TZID=Europe/Stockholm:20251030T160000
DTEND;TZID=Europe/Stockholm:20251030T183000
DTSTAMP:20260421T120711
CREATED:20250127T144044Z
LAST-MODIFIED:20250127T144044Z
UID:10014333-1761840000-1761849000@gardstensbostader.se
SUMMARY:Biljard & pingis
DESCRIPTION:I seniorlokalen på Muskotgatan 10 spelas det både biljard och pingis varje tisdag och torsdag. \nTid kl. 16.00-18.30 \nVälkomna!
URL:https://gardstensbostader.se/event/biljard-pingis-9/2025-10-30
LOCATION:Seniorlokalen i Gårdstenshuset\, Muskotgatan 10\, Angered\, 42441\, Sverige
GEO:57.8040901;12.0314352
X-APPLE-STRUCTURED-LOCATION;VALUE=URI;X-ADDRESS=Seniorlokalen i Gårdstenshuset Muskotgatan 10 Angered 42441 Sverige;X-APPLE-RADIUS=500;X-TITLE=Muskotgatan 10:geo:12.0314352,57.8040901
END:VEVENT
BEGIN:VEVENT
DTSTART;TZID=Europe/Stockholm:20251028T160000
DTEND;TZID=Europe/Stockholm:20251028T183000
DTSTAMP:20260421T120711
CREATED:20250127T144044Z
LAST-MODIFIED:20250127T144044Z
UID:10014332-1761667200-1761676200@gardstensbostader.se
SUMMARY:Biljard & pingis
DESCRIPTION:I seniorlokalen på Muskotgatan 10 spelas det både biljard och pingis varje tisdag och torsdag. \nTid kl. 16.00-18.30 \nVälkomna!
URL:https://gardstensbostader.se/event/biljard-pingis-9/2025-10-28
LOCATION:Seniorlokalen i Gårdstenshuset\, Muskotgatan 10\, Angered\, 42441\, Sverige
GEO:57.8040901;12.0314352
X-APPLE-STRUCTURED-LOCATION;VALUE=URI;X-ADDRESS=Seniorlokalen i Gårdstenshuset Muskotgatan 10 Angered 42441 Sverige;X-APPLE-RADIUS=500;X-TITLE=Muskotgatan 10:geo:12.0314352,57.8040901
END:VEVENT
BEGIN:VEVENT
DTSTART;TZID=Europe/Stockholm:20251027T180000
DTEND;TZID=Europe/Stockholm:20251027T190000
DTSTAMP:20260421T120711
CREATED:20250127T144434Z
LAST-MODIFIED:20250127T144434Z
UID:10014815-1761588000-1761591600@gardstensbostader.se
SUMMARY:Möte på finska
DESCRIPTION:Matti undervisar i evangeliet.\nVi sjunger lovsånger på finska och diskuterar tron på Gud.\nVälkomna måndagar kl. 18\nPlats: Seniorlokalen Muskotgatan 10 \nEVANKELIUMI ON ILOSANOMA\nTule Laulamaan\nJa Keskustelemaan\nUSKOSTA JUMALAAN\nMaanantaisin klo 18\nPuhutaan suomea\nTervetuloa!
URL:https://gardstensbostader.se/event/mote-pa-finska/2025-10-27
LOCATION:Seniorlokalen i Gårdstenshuset\, Muskotgatan 10\, Angered\, 42441\, Sverige
GEO:57.8040901;12.0314352
X-APPLE-STRUCTURED-LOCATION;VALUE=URI;X-ADDRESS=Seniorlokalen i Gårdstenshuset Muskotgatan 10 Angered 42441 Sverige;X-APPLE-RADIUS=500;X-TITLE=Muskotgatan 10:geo:12.0314352,57.8040901
END:VEVENT
BEGIN:VEVENT
DTSTART;TZID=Europe/Stockholm:20251023T160000
DTEND;TZID=Europe/Stockholm:20251023T183000
DTSTAMP:20260421T120711
CREATED:20250127T144044Z
LAST-MODIFIED:20250127T144044Z
UID:10014331-1761235200-1761244200@gardstensbostader.se
SUMMARY:Biljard & pingis
DESCRIPTION:I seniorlokalen på Muskotgatan 10 spelas det både biljard och pingis varje tisdag och torsdag. \nTid kl. 16.00-18.30 \nVälkomna!
URL:https://gardstensbostader.se/event/biljard-pingis-9/2025-10-23
LOCATION:Seniorlokalen i Gårdstenshuset\, Muskotgatan 10\, Angered\, 42441\, Sverige
GEO:57.8040901;12.0314352
X-APPLE-STRUCTURED-LOCATION;VALUE=URI;X-ADDRESS=Seniorlokalen i Gårdstenshuset Muskotgatan 10 Angered 42441 Sverige;X-APPLE-RADIUS=500;X-TITLE=Muskotgatan 10:geo:12.0314352,57.8040901
END:VEVENT
BEGIN:VEVENT
DTSTART;TZID=Europe/Stockholm:20251022T170000
DTEND;TZID=Europe/Stockholm:20251022T190000
DTSTAMP:20260421T120711
CREATED:20251016T090935Z
LAST-MODIFIED:20251016T090935Z
UID:10018613-1761152400-1761159600@gardstensbostader.se
SUMMARY:Trygghetsvandring i Gårdsten
DESCRIPTION:Alla Gårdstensbor är välkomna att vara med på årets Trygghetsvandring som genomförs Onsdagen den 22 oktober.\nVar med och tyck till om tryggheten där du bor. \nDag & Tid: Onsdag den 22/10 kl. 17.00. Samling med fika\, därefter promenad runt Gårdsten\nPlats: Seniorlokalen\, Muskotgatan 10 \nAlla är varmt välkomna! \nTrygghetsvandingen görs i samarbete mellan Gårdstensbostäder\, Robert Dicksons Stiftelse\, Balder\, Dynamo Fastigheter\, Polisen\, Räddningstjänsten och Göteborgs Stad.
URL:https://gardstensbostader.se/event/trygghetsvandring-i-gardsten
LOCATION:Seniorlokalen i Gårdstenshuset\, Muskotgatan 10\, Angered\, 42441\, Sverige
ORGANIZER;CN="G%C3%A5rdstensbost%C3%A4der":MAILTO:gbg@gardstensbostader.se
GEO:57.8040901;12.0314352
X-APPLE-STRUCTURED-LOCATION;VALUE=URI;X-ADDRESS=Seniorlokalen i Gårdstenshuset Muskotgatan 10 Angered 42441 Sverige;X-APPLE-RADIUS=500;X-TITLE=Muskotgatan 10:geo:12.0314352,57.8040901
END:VEVENT
BEGIN:VEVENT
DTSTART;TZID=Europe/Stockholm:20251021T160000
DTEND;TZID=Europe/Stockholm:20251021T183000
DTSTAMP:20260421T120711
CREATED:20250127T144044Z
LAST-MODIFIED:20250127T144044Z
UID:10014330-1761062400-1761071400@gardstensbostader.se
SUMMARY:Biljard & pingis
DESCRIPTION:I seniorlokalen på Muskotgatan 10 spelas det både biljard och pingis varje tisdag och torsdag. \nTid kl. 16.00-18.30 \nVälkomna!
URL:https://gardstensbostader.se/event/biljard-pingis-9/2025-10-21
LOCATION:Seniorlokalen i Gårdstenshuset\, Muskotgatan 10\, Angered\, 42441\, Sverige
GEO:57.8040901;12.0314352
X-APPLE-STRUCTURED-LOCATION;VALUE=URI;X-ADDRESS=Seniorlokalen i Gårdstenshuset Muskotgatan 10 Angered 42441 Sverige;X-APPLE-RADIUS=500;X-TITLE=Muskotgatan 10:geo:12.0314352,57.8040901
END:VEVENT
BEGIN:VEVENT
DTSTART;TZID=Europe/Stockholm:20251020T180000
DTEND;TZID=Europe/Stockholm:20251020T190000
DTSTAMP:20260421T120711
CREATED:20250127T144434Z
LAST-MODIFIED:20250127T144434Z
UID:10014814-1760983200-1760986800@gardstensbostader.se
SUMMARY:Möte på finska
DESCRIPTION:Matti undervisar i evangeliet.\nVi sjunger lovsånger på finska och diskuterar tron på Gud.\nVälkomna måndagar kl. 18\nPlats: Seniorlokalen Muskotgatan 10 \nEVANKELIUMI ON ILOSANOMA\nTule Laulamaan\nJa Keskustelemaan\nUSKOSTA JUMALAAN\nMaanantaisin klo 18\nPuhutaan suomea\nTervetuloa!
URL:https://gardstensbostader.se/event/mote-pa-finska/2025-10-20
LOCATION:Seniorlokalen i Gårdstenshuset\, Muskotgatan 10\, Angered\, 42441\, Sverige
GEO:57.8040901;12.0314352
X-APPLE-STRUCTURED-LOCATION;VALUE=URI;X-ADDRESS=Seniorlokalen i Gårdstenshuset Muskotgatan 10 Angered 42441 Sverige;X-APPLE-RADIUS=500;X-TITLE=Muskotgatan 10:geo:12.0314352,57.8040901
END:VEVENT
BEGIN:VEVENT
DTSTART;TZID=Europe/Stockholm:20251016T160000
DTEND;TZID=Europe/Stockholm:20251016T183000
DTSTAMP:20260421T120711
CREATED:20250127T144044Z
LAST-MODIFIED:20250127T144044Z
UID:10014329-1760630400-1760639400@gardstensbostader.se
SUMMARY:Biljard & pingis
DESCRIPTION:I seniorlokalen på Muskotgatan 10 spelas det både biljard och pingis varje tisdag och torsdag. \nTid kl. 16.00-18.30 \nVälkomna!
URL:https://gardstensbostader.se/event/biljard-pingis-9/2025-10-16
LOCATION:Seniorlokalen i Gårdstenshuset\, Muskotgatan 10\, Angered\, 42441\, Sverige
GEO:57.8040901;12.0314352
X-APPLE-STRUCTURED-LOCATION;VALUE=URI;X-ADDRESS=Seniorlokalen i Gårdstenshuset Muskotgatan 10 Angered 42441 Sverige;X-APPLE-RADIUS=500;X-TITLE=Muskotgatan 10:geo:12.0314352,57.8040901
END:VEVENT
BEGIN:VEVENT
DTSTART;TZID=Europe/Stockholm:20251014T160000
DTEND;TZID=Europe/Stockholm:20251014T183000
DTSTAMP:20260421T120711
CREATED:20250127T144044Z
LAST-MODIFIED:20250127T144044Z
UID:10014328-1760457600-1760466600@gardstensbostader.se
SUMMARY:Biljard & pingis
DESCRIPTION:I seniorlokalen på Muskotgatan 10 spelas det både biljard och pingis varje tisdag och torsdag. \nTid kl. 16.00-18.30 \nVälkomna!
URL:https://gardstensbostader.se/event/biljard-pingis-9/2025-10-14
LOCATION:Seniorlokalen i Gårdstenshuset\, Muskotgatan 10\, Angered\, 42441\, Sverige
GEO:57.8040901;12.0314352
X-APPLE-STRUCTURED-LOCATION;VALUE=URI;X-ADDRESS=Seniorlokalen i Gårdstenshuset Muskotgatan 10 Angered 42441 Sverige;X-APPLE-RADIUS=500;X-TITLE=Muskotgatan 10:geo:12.0314352,57.8040901
END:VEVENT
BEGIN:VEVENT
DTSTART;TZID=Europe/Stockholm:20251013T180000
DTEND;TZID=Europe/Stockholm:20251013T190000
DTSTAMP:20260421T120711
CREATED:20250127T144434Z
LAST-MODIFIED:20250127T144434Z
UID:10014813-1760378400-1760382000@gardstensbostader.se
SUMMARY:Möte på finska
DESCRIPTION:Matti undervisar i evangeliet.\nVi sjunger lovsånger på finska och diskuterar tron på Gud.\nVälkomna måndagar kl. 18\nPlats: Seniorlokalen Muskotgatan 10 \nEVANKELIUMI ON ILOSANOMA\nTule Laulamaan\nJa Keskustelemaan\nUSKOSTA JUMALAAN\nMaanantaisin klo 18\nPuhutaan suomea\nTervetuloa!
URL:https://gardstensbostader.se/event/mote-pa-finska/2025-10-13
LOCATION:Seniorlokalen i Gårdstenshuset\, Muskotgatan 10\, Angered\, 42441\, Sverige
GEO:57.8040901;12.0314352
X-APPLE-STRUCTURED-LOCATION;VALUE=URI;X-ADDRESS=Seniorlokalen i Gårdstenshuset Muskotgatan 10 Angered 42441 Sverige;X-APPLE-RADIUS=500;X-TITLE=Muskotgatan 10:geo:12.0314352,57.8040901
END:VEVENT
BEGIN:VEVENT
DTSTART;TZID=Europe/Stockholm:20251009T160000
DTEND;TZID=Europe/Stockholm:20251009T183000
DTSTAMP:20260421T120712
CREATED:20250127T144044Z
LAST-MODIFIED:20250127T144044Z
UID:10014327-1760025600-1760034600@gardstensbostader.se
SUMMARY:Biljard & pingis
DESCRIPTION:I seniorlokalen på Muskotgatan 10 spelas det både biljard och pingis varje tisdag och torsdag. \nTid kl. 16.00-18.30 \nVälkomna!
URL:https://gardstensbostader.se/event/biljard-pingis-9/2025-10-09
LOCATION:Seniorlokalen i Gårdstenshuset\, Muskotgatan 10\, Angered\, 42441\, Sverige
GEO:57.8040901;12.0314352
X-APPLE-STRUCTURED-LOCATION;VALUE=URI;X-ADDRESS=Seniorlokalen i Gårdstenshuset Muskotgatan 10 Angered 42441 Sverige;X-APPLE-RADIUS=500;X-TITLE=Muskotgatan 10:geo:12.0314352,57.8040901
END:VEVENT
BEGIN:VEVENT
DTSTART;TZID=Europe/Stockholm:20251007T160000
DTEND;TZID=Europe/Stockholm:20251007T183000
DTSTAMP:20260421T120712
CREATED:20250127T144044Z
LAST-MODIFIED:20250127T144044Z
UID:10014326-1759852800-1759861800@gardstensbostader.se
SUMMARY:Biljard & pingis
DESCRIPTION:I seniorlokalen på Muskotgatan 10 spelas det både biljard och pingis varje tisdag och torsdag. \nTid kl. 16.00-18.30 \nVälkomna!
URL:https://gardstensbostader.se/event/biljard-pingis-9/2025-10-07
LOCATION:Seniorlokalen i Gårdstenshuset\, Muskotgatan 10\, Angered\, 42441\, Sverige
GEO:57.8040901;12.0314352
X-APPLE-STRUCTURED-LOCATION;VALUE=URI;X-ADDRESS=Seniorlokalen i Gårdstenshuset Muskotgatan 10 Angered 42441 Sverige;X-APPLE-RADIUS=500;X-TITLE=Muskotgatan 10:geo:12.0314352,57.8040901
END:VEVENT
BEGIN:VEVENT
DTSTART;TZID=Europe/Stockholm:20251006T180000
DTEND;TZID=Europe/Stockholm:20251006T190000
DTSTAMP:20260421T120712
CREATED:20250127T144434Z
LAST-MODIFIED:20250127T144434Z
UID:10014812-1759773600-1759777200@gardstensbostader.se
SUMMARY:Möte på finska
DESCRIPTION:Matti undervisar i evangeliet.\nVi sjunger lovsånger på finska och diskuterar tron på Gud.\nVälkomna måndagar kl. 18\nPlats: Seniorlokalen Muskotgatan 10 \nEVANKELIUMI ON ILOSANOMA\nTule Laulamaan\nJa Keskustelemaan\nUSKOSTA JUMALAAN\nMaanantaisin klo 18\nPuhutaan suomea\nTervetuloa!
URL:https://gardstensbostader.se/event/mote-pa-finska/2025-10-06
LOCATION:Seniorlokalen i Gårdstenshuset\, Muskotgatan 10\, Angered\, 42441\, Sverige
GEO:57.8040901;12.0314352
X-APPLE-STRUCTURED-LOCATION;VALUE=URI;X-ADDRESS=Seniorlokalen i Gårdstenshuset Muskotgatan 10 Angered 42441 Sverige;X-APPLE-RADIUS=500;X-TITLE=Muskotgatan 10:geo:12.0314352,57.8040901
END:VEVENT
BEGIN:VEVENT
DTSTART;TZID=Europe/Stockholm:20251002T160000
DTEND;TZID=Europe/Stockholm:20251002T183000
DTSTAMP:20260421T120712
CREATED:20250127T144044Z
LAST-MODIFIED:20250127T144044Z
UID:10014325-1759420800-1759429800@gardstensbostader.se
SUMMARY:Biljard & pingis
DESCRIPTION:I seniorlokalen på Muskotgatan 10 spelas det både biljard och pingis varje tisdag och torsdag. \nTid kl. 16.00-18.30 \nVälkomna!
URL:https://gardstensbostader.se/event/biljard-pingis-9/2025-10-02
LOCATION:Seniorlokalen i Gårdstenshuset\, Muskotgatan 10\, Angered\, 42441\, Sverige
GEO:57.8040901;12.0314352
X-APPLE-STRUCTURED-LOCATION;VALUE=URI;X-ADDRESS=Seniorlokalen i Gårdstenshuset Muskotgatan 10 Angered 42441 Sverige;X-APPLE-RADIUS=500;X-TITLE=Muskotgatan 10:geo:12.0314352,57.8040901
END:VEVENT
BEGIN:VEVENT
DTSTART;TZID=Europe/Stockholm:20250930T160000
DTEND;TZID=Europe/Stockholm:20250930T183000
DTSTAMP:20260421T120712
CREATED:20250127T144044Z
LAST-MODIFIED:20250127T144044Z
UID:10014324-1759248000-1759257000@gardstensbostader.se
SUMMARY:Biljard & pingis
DESCRIPTION:I seniorlokalen på Muskotgatan 10 spelas det både biljard och pingis varje tisdag och torsdag. \nTid kl. 16.00-18.30 \nVälkomna!
URL:https://gardstensbostader.se/event/biljard-pingis-9/2025-09-30
LOCATION:Seniorlokalen i Gårdstenshuset\, Muskotgatan 10\, Angered\, 42441\, Sverige
GEO:57.8040901;12.0314352
X-APPLE-STRUCTURED-LOCATION;VALUE=URI;X-ADDRESS=Seniorlokalen i Gårdstenshuset Muskotgatan 10 Angered 42441 Sverige;X-APPLE-RADIUS=500;X-TITLE=Muskotgatan 10:geo:12.0314352,57.8040901
END:VEVENT
BEGIN:VEVENT
DTSTART;TZID=Europe/Stockholm:20250929T180000
DTEND;TZID=Europe/Stockholm:20250929T190000
DTSTAMP:20260421T120712
CREATED:20250127T144434Z
LAST-MODIFIED:20250127T144434Z
UID:10014811-1759168800-1759172400@gardstensbostader.se
SUMMARY:Möte på finska
DESCRIPTION:Matti undervisar i evangeliet.\nVi sjunger lovsånger på finska och diskuterar tron på Gud.\nVälkomna måndagar kl. 18\nPlats: Seniorlokalen Muskotgatan 10 \nEVANKELIUMI ON ILOSANOMA\nTule Laulamaan\nJa Keskustelemaan\nUSKOSTA JUMALAAN\nMaanantaisin klo 18\nPuhutaan suomea\nTervetuloa!
URL:https://gardstensbostader.se/event/mote-pa-finska/2025-09-29
LOCATION:Seniorlokalen i Gårdstenshuset\, Muskotgatan 10\, Angered\, 42441\, Sverige
GEO:57.8040901;12.0314352
X-APPLE-STRUCTURED-LOCATION;VALUE=URI;X-ADDRESS=Seniorlokalen i Gårdstenshuset Muskotgatan 10 Angered 42441 Sverige;X-APPLE-RADIUS=500;X-TITLE=Muskotgatan 10:geo:12.0314352,57.8040901
END:VEVENT
BEGIN:VEVENT
DTSTART;TZID=Europe/Stockholm:20250925T160000
DTEND;TZID=Europe/Stockholm:20250925T183000
DTSTAMP:20260421T120712
CREATED:20250127T144044Z
LAST-MODIFIED:20250127T144044Z
UID:10014323-1758816000-1758825000@gardstensbostader.se
SUMMARY:Biljard & pingis
DESCRIPTION:I seniorlokalen på Muskotgatan 10 spelas det både biljard och pingis varje tisdag och torsdag. \nTid kl. 16.00-18.30 \nVälkomna!
URL:https://gardstensbostader.se/event/biljard-pingis-9/2025-09-25
LOCATION:Seniorlokalen i Gårdstenshuset\, Muskotgatan 10\, Angered\, 42441\, Sverige
GEO:57.8040901;12.0314352
X-APPLE-STRUCTURED-LOCATION;VALUE=URI;X-ADDRESS=Seniorlokalen i Gårdstenshuset Muskotgatan 10 Angered 42441 Sverige;X-APPLE-RADIUS=500;X-TITLE=Muskotgatan 10:geo:12.0314352,57.8040901
END:VEVENT
BEGIN:VEVENT
DTSTART;TZID=Europe/Stockholm:20250923T160000
DTEND;TZID=Europe/Stockholm:20250923T183000
DTSTAMP:20260421T120712
CREATED:20250127T144044Z
LAST-MODIFIED:20250127T144044Z
UID:10014322-1758643200-1758652200@gardstensbostader.se
SUMMARY:Biljard & pingis
DESCRIPTION:I seniorlokalen på Muskotgatan 10 spelas det både biljard och pingis varje tisdag och torsdag. \nTid kl. 16.00-18.30 \nVälkomna!
URL:https://gardstensbostader.se/event/biljard-pingis-9/2025-09-23
LOCATION:Seniorlokalen i Gårdstenshuset\, Muskotgatan 10\, Angered\, 42441\, Sverige
GEO:57.8040901;12.0314352
X-APPLE-STRUCTURED-LOCATION;VALUE=URI;X-ADDRESS=Seniorlokalen i Gårdstenshuset Muskotgatan 10 Angered 42441 Sverige;X-APPLE-RADIUS=500;X-TITLE=Muskotgatan 10:geo:12.0314352,57.8040901
END:VEVENT
BEGIN:VEVENT
DTSTART;TZID=Europe/Stockholm:20250922T180000
DTEND;TZID=Europe/Stockholm:20250922T190000
DTSTAMP:20260421T120712
CREATED:20250127T144434Z
LAST-MODIFIED:20250127T144434Z
UID:10014810-1758564000-1758567600@gardstensbostader.se
SUMMARY:Möte på finska
DESCRIPTION:Matti undervisar i evangeliet.\nVi sjunger lovsånger på finska och diskuterar tron på Gud.\nVälkomna måndagar kl. 18\nPlats: Seniorlokalen Muskotgatan 10 \nEVANKELIUMI ON ILOSANOMA\nTule Laulamaan\nJa Keskustelemaan\nUSKOSTA JUMALAAN\nMaanantaisin klo 18\nPuhutaan suomea\nTervetuloa!
URL:https://gardstensbostader.se/event/mote-pa-finska/2025-09-22
LOCATION:Seniorlokalen i Gårdstenshuset\, Muskotgatan 10\, Angered\, 42441\, Sverige
GEO:57.8040901;12.0314352
X-APPLE-STRUCTURED-LOCATION;VALUE=URI;X-ADDRESS=Seniorlokalen i Gårdstenshuset Muskotgatan 10 Angered 42441 Sverige;X-APPLE-RADIUS=500;X-TITLE=Muskotgatan 10:geo:12.0314352,57.8040901
END:VEVENT
BEGIN:VEVENT
DTSTART;TZID=Europe/Stockholm:20250918T160000
DTEND;TZID=Europe/Stockholm:20250918T183000
DTSTAMP:20260421T120712
CREATED:20250127T144044Z
LAST-MODIFIED:20250127T144044Z
UID:10014321-1758211200-1758220200@gardstensbostader.se
SUMMARY:Biljard & pingis
DESCRIPTION:I seniorlokalen på Muskotgatan 10 spelas det både biljard och pingis varje tisdag och torsdag. \nTid kl. 16.00-18.30 \nVälkomna!
URL:https://gardstensbostader.se/event/biljard-pingis-9/2025-09-18
LOCATION:Seniorlokalen i Gårdstenshuset\, Muskotgatan 10\, Angered\, 42441\, Sverige
GEO:57.8040901;12.0314352
X-APPLE-STRUCTURED-LOCATION;VALUE=URI;X-ADDRESS=Seniorlokalen i Gårdstenshuset Muskotgatan 10 Angered 42441 Sverige;X-APPLE-RADIUS=500;X-TITLE=Muskotgatan 10:geo:12.0314352,57.8040901
END:VEVENT
BEGIN:VEVENT
DTSTART;TZID=Europe/Stockholm:20250916T160000
DTEND;TZID=Europe/Stockholm:20250916T183000
DTSTAMP:20260421T120712
CREATED:20250127T144044Z
LAST-MODIFIED:20250127T144044Z
UID:10014320-1758038400-1758047400@gardstensbostader.se
SUMMARY:Biljard & pingis
DESCRIPTION:I seniorlokalen på Muskotgatan 10 spelas det både biljard och pingis varje tisdag och torsdag. \nTid kl. 16.00-18.30 \nVälkomna!
URL:https://gardstensbostader.se/event/biljard-pingis-9/2025-09-16
LOCATION:Seniorlokalen i Gårdstenshuset\, Muskotgatan 10\, Angered\, 42441\, Sverige
GEO:57.8040901;12.0314352
X-APPLE-STRUCTURED-LOCATION;VALUE=URI;X-ADDRESS=Seniorlokalen i Gårdstenshuset Muskotgatan 10 Angered 42441 Sverige;X-APPLE-RADIUS=500;X-TITLE=Muskotgatan 10:geo:12.0314352,57.8040901
END:VEVENT
BEGIN:VEVENT
DTSTART;TZID=Europe/Stockholm:20250915T180000
DTEND;TZID=Europe/Stockholm:20250915T190000
DTSTAMP:20260421T120712
CREATED:20250127T144434Z
LAST-MODIFIED:20250127T144434Z
UID:10014809-1757959200-1757962800@gardstensbostader.se
SUMMARY:Möte på finska
DESCRIPTION:Matti undervisar i evangeliet.\nVi sjunger lovsånger på finska och diskuterar tron på Gud.\nVälkomna måndagar kl. 18\nPlats: Seniorlokalen Muskotgatan 10 \nEVANKELIUMI ON ILOSANOMA\nTule Laulamaan\nJa Keskustelemaan\nUSKOSTA JUMALAAN\nMaanantaisin klo 18\nPuhutaan suomea\nTervetuloa!
URL:https://gardstensbostader.se/event/mote-pa-finska/2025-09-15
LOCATION:Seniorlokalen i Gårdstenshuset\, Muskotgatan 10\, Angered\, 42441\, Sverige
GEO:57.8040901;12.0314352
X-APPLE-STRUCTURED-LOCATION;VALUE=URI;X-ADDRESS=Seniorlokalen i Gårdstenshuset Muskotgatan 10 Angered 42441 Sverige;X-APPLE-RADIUS=500;X-TITLE=Muskotgatan 10:geo:12.0314352,57.8040901
END:VEVENT
END:VCALENDAR